Workbook

Sheet Menu
B1: Tibetan Street Food goes Gourmet
A3: Datum | B3: 46107
A5: Vorspeise | B5: Momos: Gedämpfte Fleisch- und Gemüseteigtaschen
A7: Hauptgang | B7: Gyathuk: Nudelsuppe mit Fleisch
A9: Dessert | B9: Sinapot
A11: Diverses | B11: Bagette
A13: Menu von Tisch | B13: D
A15: Personenzahl | B15: 4

Sheet Vorspeise
E1: Chochete vom | F1: =Menu!B3 -> 46107 | I1: Original Rezept
A2: =Menu!B5 -> Momos: Gedämpfte Fleisch- und Gemüseteigtaschen | E2: Rezept für | F2: =Menu!B15 -> 4 | I2: 4 | J2: Personen | L2: Menu Angaben wie folgt machen:
A3: Menge | B3: Einheit | C3: Artikel (Gewicht alles ca. Angaben) | D3: Bemerkungen | E3: Einkaufspreis | F3: Betrag | I3: Originalrezept | J3: pro Person
A4: =ROUND(SUM(J4*$F$2),2) -> 0 | C4: Für den Teig | J4: =I4/$I$2 -> 0 | L4: Kg | M4: 0.25
A5: =ROUND(SUM(J5*$F$2),2) -> 0.6 | B5: Kg | C5: Mehl | I5: 0.6 | J5: =I5/$I$2 -> 0.15 | L5: Lt | M5: 1.25
A6: =ROUND(SUM(J6*$F$2),2) -> 0.25 | B6: Lt | C6: Wasser, lauwarmes | I6: 0.25 | J6: =I6/$I$2 -> 0.0625 | L6: EL | M6: Esslöffel
A7: =ROUND(SUM(J7*$F$2),2) -> 1 | B7: Tl | C7: Salz | I7: 1 | J7: =I7/$I$2 -> 0.25 | L7: TL | M7: Kaffeelöffel
A8: =ROUND(SUM(J8*$F$2),2) -> 0 | C8: Füllung | J8: =I8/$I$2 -> 0 | L8: Bund | M8: 1
A9: =ROUND(SUM(J9*$F$2),2) -> 0.5 | B9: Kg | C9: Rindfleisch, gehacktes | I9: 0.5 | J9: =I9/$I$2 -> 0.125 | L9: Stk | M9: Stück
A10: =ROUND(SUM(J10*$F$2),2) -> 1 | B10: Stk | C10: Zwiebel(n) | I10: 1 | J10: =I10/$I$2 -> 0.25 | L10: Pä | M10: Päckli
A11: =ROUND(SUM(J11*$F$2),2) -> 0.25 | B11: Stk | C11: Weißkohl / China-kohl | I11: 0.25 | J11: =I11/$I$2 -> 0.0625 | L11: alles weitere ausschreiben
A12: =ROUND(SUM(J12*$F$2),2) -> 1 | B12: Stk | C12: Staudensellerie Stange | I12: 1 | J12: =I12/$I$2 -> 0.25
A13: =ROUND(SUM(J13*$F$2),2) -> 1 | B13: Stk | C13: Knoblauch | F13: =SUM(E13*A13) -> 0 | I13: 1 | J13: =I13/$I$2 -> 0.25
A14: =ROUND(SUM(J14*$F$2),2) -> 1 | B14: EL | C14: Brühe, instant | F14: =SUM(E14*A14) -> 0 | I14: 1 | J14: =I14/$I$2 -> 0.25
A15: =ROUND(SUM(J15*$F$2),2) -> 3 | B15: EL | C15: Öl | F15: =SUM(E15*A15) -> 0 | I15: 3 | J15: =I15/$I$2 -> 0.75
A16: =ROUND(SUM(J16*$F$2),2) -> 1 | B16: Stk | C16: Ingwer gerieben 1-2 cm | F16: =SUM(E16*A16) -> 0 | I16: 1 | J16: =I16/$I$2 -> 0.25
C17: Soja sauce, Pfeffer, Salz
C18: Für die Sauce
A19: =ROUND(SUM(J19*$F$2),2) -> 1 | B19: EL | C19: Bratbutter | F19: =SUM(E19*A19) -> 0 | I19: 1 | J19: =I19/$I$2 -> 0.25
A20: =ROUND(SUM(J20*$F$2),2) -> 1 | B20: Bund | C20: Bundzwiebel, fein geschnitten | F20: =SUM(E20*A20) -> 0 | I20: 1 | J20: =I20/$I$2 -> 0.25
A21: =ROUND(SUM(J21*$F$2),2) -> 1 | B21: Stk | C21: Knoblauchzehe, fein geschnitten | F21: =SUM(E21*A21) -> 0 | I21: 1 | J21: =I21/$I$2 -> 0.25
A22: =ROUND(SUM(J22*$F$2),2) -> 1 | B22: Stk | C22: roter Chili, entkernt, fein gehackt | F22: =SUM(E22*A22) -> 0 | I22: 1 | J22: =I22/$I$2 -> 0.25
A23: =ROUND(SUM(J23*$F$2),2) -> 0.5 | B23: TL | C23: Kreuzkümmelpulver | F23: =SUM(E23*A23) -> 0 | I23: 0.5 | J23: =I23/$I$2 -> 0.125
A24: =ROUND(SUM(J24*$F$2),2) -> 1 | B24: Dose | C24: Tomaten (ca. 400 g) gehackt | F24: =SUM(E24*A24) -> 0 | I24: 1 | J24: =I24/$I$2 -> 0.25
A25: =ROUND(SUM(J25*$F$2),2) -> 0.5 | B25: TL | C25: Salz | F25: =SUM(E25*A25) -> 0 | I25: 0.5 | J25: =I25/$I$2 -> 0.125
A26: =ROUND(SUM(J26*$F$2),2) -> 0.5 | B26: Bund | C26: Koriander, fein geschnitten | I26: 0.5 | J26: =I26/$I$2 -> 0.125
A27: Zubereitung
A28: Momos sind köstliche gefüllte Teigtaschen, die vor allem in der Himalaya-Region und in Tibet sehr beliebt sind. Diese gedämpften Leckerbissen können mit verschiedenen Füllungen aus Fleisch oder Gemüse zubereitet werden und werden häufig mit einer würzigen Sauce serviert. Die ideale Kombination von Teig und Füllung macht sie zu einem beliebten Snack oder Hauptgericht.
A30: Kohl, Zwiebel, Sellerie, Knoblauch sehr klein hacken und mit dem Fleisch bzw. den Sojaknollen und etwas Öl zusammen kneten. Danach schmeckt man das Fleischgemisch mit den Gewürzen und der Brühe ab. Aus Mehl, Salz und Wasser wird ein Teig geformt. Diesen nicht zu weich kneten und je nachdem etwas mehr Wasser oder Mehl dazugeben. Danach ruhen lassen. Aus dem Teig formt man kleine Rondellen von ca. 7 - 8 cm Durchmesser und ca. 2 mm Dicke. Darauf kommt ein Häufchen der Fleischfüllung. Jetzt wird die Teigrondelle in der Mitte gefaltet und zugeklappt (Ränder gut verschließen), so dass eine halbkreisförmige Teigtasche entsteht. Die beiden spitzen Enden der Teigtasche werden nun zusammengedrückt. Ein wenig Wasser in eine Pfanne geben. Den Boden der Momos in etwas Öl tunken, damit sie beim Garen nicht am Pfannenboden kleben bleiben. Während rund 20 Minuten im Dampf garen lassen. Als Beilage empfiehlt sich ein einfacher Salat, wer es mag kann natürlich einen Tee mit Butter dazu trinken. Sollte Momos übrig bleiben, kann man diese als „zweite Mahlzeit“ auch knusprig anbraten.
A31: Sauce Bratbutter in einer Bratpfanne erwärmen. Bundzwiebel, Knoblauch, Chili und Kreuzkümmel andämpfen, Tomaten beigeben, salzen, zugedeckt ca. 5 Min. köcheln. Koriander daruntermischen.

Sheet Hauptgang
E1: Chochete vom | F1: =Menu!B3 -> 46107 | I1: Original Rezept
A2: =Menu!B7 -> Gyathuk: Nudelsuppe mit Fleisch | E2: Rezept für | F2: =Menu!B15 -> 4 | I2: 2 | J2: Personen | L2: Menu Angaben wie folgt machen:
A3: Menge | B3: Einheit | C3: Artikel (Gewicht alles ca. Angaben) | D3: Bemerkungen | E3: Einkaufspreis | F3: Betrag | I3: Originalrezept | J3: pro Person
A4: =ROUND(SUM(J4*$F$2),2) -> 0.4 | B4: Kg | C4: Nudeln (frisch oder getrocknet) | D4: Udon- oder Dicke Nudeln | F4: =SUM(E4*A4) -> 0 | I4: 0.2 | J4: =I4/$I$2 -> 0.1 | L4: Kg | M4: 0.25
A5: =ROUND(SUM(J5*$F$2),2) -> 0.3 | B5: Kg | C5: Rinderhackfleisch | F5: =SUM(E5*A5) -> 0 | I5: 0.15 | J5: =I5/$I$2 -> 0.075 | L5: Lt | M5: 1.25
A6: =ROUND(SUM(J6*$F$2),2) -> 4 | B6: Stk | C6: Karotten | F6: =SUM(E6*A6) -> 0 | I6: 2 | J6: =I6/$I$2 -> 1 | L6: EL | M6: Esslöffel
A7: =ROUND(SUM(J7*$F$2),2) -> 2 | B7: Stk | C7: Zwiebeln | F7: =SUM(E7*A7) -> 0 | I7: 1 | J7: =I7/$I$2 -> 0.5 | L7: TL | M7: Kaffeelöffel
A8: =ROUND(SUM(J8*$F$2),2) -> 4 | B8: Stk | C8: Knoblauchzehen | F8: =SUM(E8*A8) -> 0 | I8: 2 | J8: =I8/$I$2 -> 1 | L8: Bund | M8: 1
A9: =ROUND(SUM(J9*$F$2),2) -> 2 | B9: Stk | C9: Ingwer (frisch) | F9: =SUM(E9*A9) -> 0 | I9: 1 | J9: =I9/$I$2 -> 0.5 | L9: Stk | M9: Stück
A10: =ROUND(SUM(J10*$F$2),2) -> 1 | B10: EL | C10: Tomatenpüre | F10: =SUM(E10*A10) -> 0 | I10: 0.5 | J10: =I10/$I$2 -> 0.25 | L10: Pä | M10: Päckli
A11: =ROUND(SUM(J11*$F$2),2) -> 0.5 | B11: Bund | C11: Frischer Koriander | F11: =SUM(E11*A11) -> 0 | I11: 0.25 | J11: =I11/$I$2 -> 0.125 | L11: alles weitere ausschreiben
A12: =ROUND(SUM(J12*$F$2),2) -> 2 | B12: EL | C12: Soja Sauce | F12: =SUM(E12*A12) -> 0 | I12: 1 | J12: =I12/$I$2 -> 0.5
A13: =ROUND(SUM(J13*$F$2),2) -> 4 | B13: Würfel | C13: Fleisch Buillion | F13: =SUM(E13*A13) -> 0 | I13: 2 | J13: =I13/$I$2 -> 1
A14: =ROUND(SUM(J14*$F$2),2) -> 1 | B14: Prise | C14: Salz | D14: nach Geschmack | F14: =SUM(E14*A14) -> 0 | I14: 0.5 | J14: =I14/$I$2 -> 0.25
A15: =ROUND(SUM(J15*$F$2),2) -> 1 | B15: Prise | C15: Pfeffer | D15: nach Geschmack | I15: 0.5 | J15: =I15/$I$2 -> 0.25
A16: =ROUND(SUM(J16*$F$2),2) -> 0.5 | B16: Prise | C16: Chilli Flocken | D16: nach Geschmack | I16: 0.25 | J16: =I16/$I$2 -> 0.125
A17: =ROUND(SUM(J17*$F$2),2) -> 0 | J17: =I17/$I$2 -> 0
A18: =ROUND(SUM(J18*$F$2),2) -> 0 | C18: https://www.creatable.de/rezept/gyathuk-nudelsuppe-mit-fleisch/?srsltid=AfmBOopwOq_7kO9IJfVp_IY-V2ho0r6Dv1VxhHfGzSFuGFOK6vd_w3B4 | J18: =I18/$I$2 -> 0
A19: =ROUND(SUM(J19*$F$2),2) -> 0 | F19: =SUM(E19*A19) -> 0 | J19: =I19/$I$2 -> 0
A20: =ROUND(SUM(J20*$F$2),2) -> 0 | F20: =SUM(E20*A20) -> 0 | J20: =I20/$I$2 -> 0
A21: Zubereitung
A22: Gyathuk ist eine beliebte tibetische Nudelsuppe, die mit zartem Fleisch, frischem Gemüse und aromatischen Gewürzen zubereitet wird. Diese herzliche Suppe ist nicht nur nahrhaft, sondern auch perfekt für kalte Tage.
A23: 1. Die Zwiebel, Karotten, Knoblauch und den Ingwer gründlich putzen und in kleine Würfel bzw. Stücke schneiden.
A24: 2. In einem großen Topf das Rinderhackfleisch bei mittlerer Hitze anbraten, bis es braun ist. Zwiebeln, Knoblauch, Ingwer und Tomatenpüre hinzufügen und kurz mitanbraten.
A25: 3. Die Karottenstücke in den Topf geben und 5 Minuten weiterbraten. Mit Salz und Pfeffer würzen.
A26: 4. 1,5 L Bouillion in den Topf geben und zum Kochen bringen.
A27: 5. Sobald die Brühe kocht, die Nudeln hinzufügen und gemäß der Packungsanweisung garen, meist etwa 5-7 Minuten.
A28: 6. Die Sojasauce hinzufügen und gut umrühren. Die Suppe abschmecken und eventuell nachwürzen.
A29: 7. Die Gyathuk-Suppe in Schalen anrichten und mit frischem Koriander garnieren. Heiß servieren.

Sheet Dessert
E1: Chochete vom | F1: =Menu!B3 -> 46107 | I1: Original Rezept
A2: =Menu!B9 -> Sinapot | E2: Rezept für | F2: =Menu!B15 -> 4 | I2: 4 | J2: Personen | L2: Menu Angaben wie folgt machen:
A3: Menge | B3: Einheit | C3: Artikel (Gewicht alles ca. Angaben) | D3: Bemerkungen | E3: Einkaufspreis | F3: Betrag | I3: Originalrezept | J3: pro Person
A4: =ROUND(SUM(J4*$F$2),2) -> 0.25 | B4: Kg | C4: Weizenmehl | I4: 0.25 | J4: =I4/$I$2 -> 0.0625 | L4: Kg | M4: 0.25
A5: =ROUND(SUM(J5*$F$2),2) -> 1 | B5: TL | C5: Backpulver | I5: 1 | J5: =I5/$I$2 -> 0.25 | L5: Lt | M5: 1.25
A6: =ROUND(SUM(J6*$F$2),2) -> 2 | B6: Stk | C6: Eier | I6: 2 | J6: =I6/$I$2 -> 0.5 | L6: EL | M6: Esslöffel
A7: =ROUND(SUM(J7*$F$2),2) -> 0.3 | B7: Lt | C7: Wasser | I7: 0.3 | J7: =I7/$I$2 -> 0.075 | L7: KL | M7: Kaffeelöffel
A8: =ROUND(SUM(J8*$F$2),2) -> 1 | B8: Stk | C8: Zitronensaft ca.50ml | I8: 1 | J8: =I8/$I$2 -> 0.25 | L8: Bund | M8: 1
A9: =ROUND(SUM(J9*$F$2),2) -> 2 | B9: EL | C9: Zucker | I9: 2 | J9: =I9/$I$2 -> 0.5 | L9: Stk | M9: Stück
A10: =ROUND(SUM(J10*$F$2),2) -> 1 | B10: TL | C10: Salz | I10: 1 | J10: =I10/$I$2 -> 0.25 | L10: Pä | M10: Päckli
A11: =ROUND(SUM(J11*$F$2),2) -> 0 | B11: Stk | C11: Zitronenschale, gerieben | D11: zum Süssen | F11: =SUM(E11*A11) -> 0 | J11: =I11/$I$2 -> 0 | L11: alles weitere ausschreiben
A12: =ROUND(SUM(J12*$F$2),2) -> 1 | B12: Tl | C12: Honig | D12: klein 180gr | F12: =SUM(E12*A12) -> 0 | I12: 1 | J12: =I12/$I$2 -> 0.25
A13: =ROUND(SUM(J13*$F$2),2) -> 1 | B13: Becher | C13: Grichischer Yogurt | D13: Beilage / Garnitur | F13: =SUM(E13*A13) -> 0 | I13: 1 | J13: =I13/$I$2 -> 0.25
A14: =ROUND(SUM(J14*$F$2),2) -> 0.1 | B14: Kg | C14: Erdbeeren | D14: Garnitur | F14: =SUM(E14*A14) -> 0 | I14: 0.1 | J14: =I14/$I$2 -> 0.025
A15: =ROUND(SUM(J15*$F$2),2) -> 0.25 | B15: Pack | C15: Minze Frisch | F15: =SUM(E15*A15) -> 0 | I15: 0.25 | J15: =I15/$I$2 -> 0.0625
A16: =ROUND(SUM(J16*$F$2),2) -> 0 | F16: =SUM(E16*A16) -> 0 | J16: =I16/$I$2 -> 0
A17: =ROUND(SUM(J17*$F$2),2) -> 0 | F17: =SUM(E17*A17) -> 0 | J17: =I17/$I$2 -> 0
A18: =ROUND(SUM(J18*$F$2),2) -> 0 | F18: =SUM(E18*A18) -> 0 | J18: =I18/$I$2 -> 0
A19: Zubereitung
A20: Sinapot ist ein traditionelles Gericht aus der tibetischen Küche, das eine köstliche Mischung aus Zitronen, Eiern und Gewürzen enthält. Diese Pfannkuchen sind ideal zum Frühstück oder als Snack und bieten einen erfrischenden Geschmack mit einem Hauch von Schärfe. Perfekt für alle, die etwas Neues ausprobieren möchten!
A21: 1. In einer großen Schüssel das Weizenmehl, Backpuler, die Eier, das Wasser, den Zitronensaft, den Zucker, das Salz, die Zitronenschale und die scharfe Paprika gut vermengen. Mit einem Schneebesen zu einem glatten Teig verrühren.
A22: 2. Eine Pfanne bei mittlerer Hitze erhitzen und leicht fetten. Eine Kelle des Teigs in die Pfanne geben und die Pfanne schwenken, um den Teig gleichmäßig zu verteilen.
A23: 3. Die Pfannkuchen etwa 2-3 Minuten auf jeder Seite braten, bis sie goldbraun und durchgegart sind. Gelegentlich die Hitze anpassen, um ein gleichmäßiges Garen zu gewährleisten.
A24: 4. Den ersten Pfannkuchen auf einen Teller legen und nach Belieben mit Zitronensaft oder zusätzlich Zucker servieren. Die restlichen Pfannkuchen auf die gleiche Weise zubereiten.
A25: 5. Früchte und Yougurt Beilage und Garnitur mit Minze

Sheet Einkaufsliste
A1: Hobby-Küche Zug | C1: Einkaufsliste | D1: =Dessert!F1 -> 46107 | E1: ok
A2: Menge | B2: Einheit | C2: Artikel | D2: für18 Personen
A3: =Vorspeise!A2 -> Momos: Gedämpfte Fleisch- und Gemüseteigtaschen | D3: Bemerkungen
A4: =SUM(Vorspeise!A4) -> 0 | B4: =Vorspeise!B4 -> 0 | C4: =Vorspeise!C4 -> Für den Teig | D4: =Vorspeise!D4 -> 0
A5: =SUM(Vorspeise!A5) -> 0.6 | B5: =Vorspeise!B5 -> Kg | C5: =Vorspeise!C5 -> Mehl | D5: =Vorspeise!D5 -> 0
A6: =SUM(Vorspeise!A6) -> 0.25 | B6: =Vorspeise!B6 -> Lt | C6: =Vorspeise!C6 -> Wasser, lauwarmes | D6: =Vorspeise!D6 -> 0
A7: =SUM(Vorspeise!A7) -> 1 | B7: =Vorspeise!B7 -> Tl | C7: =Vorspeise!C7 -> Salz | D7: =Vorspeise!D7 -> 0
A8: =SUM(Vorspeise!A8) -> 0 | B8: =Vorspeise!B8 -> 0 | C8: =Vorspeise!C8 -> Füllung | D8: =Vorspeise!D8 -> 0
A9: =SUM(Vorspeise!A9) -> 0.5 | B9: =Vorspeise!B9 -> Kg | C9: =Vorspeise!C9 -> Rindfleisch, gehacktes | D9: =Vorspeise!D9 -> 0
A10: =SUM(Vorspeise!A10) -> 1 | B10: =Vorspeise!B10 -> Stk | C10: =Vorspeise!C10 -> Zwiebel(n) | D10: =Vorspeise!D10 -> 0
A11: =SUM(Vorspeise!A11) -> 0.25 | B11: =Vorspeise!B11 -> Stk | C11: =Vorspeise!C11 -> Weißkohl / China-kohl | D11: =Vorspeise!D11 -> 0
A12: =SUM(Vorspeise!A12) -> 1 | B12: =Vorspeise!B12 -> Stk | C12: =Vorspeise!C12 -> Staudensellerie Stange | D12: =Vorspeise!D12 -> 0
A13: =SUM(Vorspeise!A13) -> 1 | B13: =Vorspeise!B13 -> Stk | C13: =Vorspeise!C13 -> Knoblauch | D13: =Vorspeise!D13 -> 0
A14: =SUM(Vorspeise!A14) -> 1 | B14: =Vorspeise!B14 -> EL | C14: =Vorspeise!C14 -> Brühe, instant | D14: =Vorspeise!D14 -> 0
A15: =SUM(Vorspeise!A15) -> 3 | B15: =Vorspeise!B15 -> EL | C15: =Vorspeise!C15 -> Öl | D15: =Vorspeise!D15 -> 0
A16: =SUM(Vorspeise!A16) -> 1 | B16: =Vorspeise!B16 -> Stk | C16: =Vorspeise!C16 -> Ingwer gerieben 1-2 cm | D16: =Vorspeise!D16 -> 0
A17: =SUM(Vorspeise!A17) -> 0 | B17: =Vorspeise!B17 -> 0 | C17: =Vorspeise!C17 -> Soja sauce, Pfeffer, Salz | D17: =Vorspeise!D19 -> 0
A18: =SUM(Vorspeise!A18) -> 0 | B18: =Vorspeise!B18 -> 0 | C18: =Vorspeise!C18 -> Für die Sauce | D18: =Vorspeise!D20 -> 0
A19: =SUM(Vorspeise!A19) -> 1 | B19: =Vorspeise!B19 -> EL | C19: =Vorspeise!C19 -> Bratbutter | D19: =Vorspeise!D21 -> 0
A20: =SUM(Vorspeise!A20) -> 1 | B20: =Vorspeise!B20 -> Bund | C20: =Vorspeise!C20 -> Bundzwiebel, fein geschnitten | D20: =Vorspeise!D22 -> 0
A21: =SUM(Vorspeise!A21) -> 1 | B21: =Vorspeise!B21 -> Stk | C21: =Vorspeise!C21 -> Knoblauchzehe, fein geschnitten | D21: =Vorspeise!D23 -> 0
A22: =SUM(Vorspeise!A22) -> 1 | B22: =Vorspeise!B22 -> Stk | C22: =Vorspeise!C22 -> roter Chili, entkernt, fein gehackt | D22: =Vorspeise!D24 -> 0
A23: =SUM(Vorspeise!A23) -> 0.5 | B23: =Vorspeise!B23 -> TL | C23: =Vorspeise!C23 -> Kreuzkümmelpulver | D23: =Vorspeise!D25 -> 0
A24: =SUM(Vorspeise!A24) -> 1 | B24: =Vorspeise!B24 -> Dose | C24: =Vorspeise!C24 -> Tomaten (ca. 400 g) gehackt | D24: =Vorspeise!D26 -> 0
A25: =SUM(Vorspeise!A25) -> 0.5 | B25: =Vorspeise!B25 -> TL | C25: =Vorspeise!C25 -> Salz
A26: =SUM(Vorspeise!A26) -> 0.5 | B26: =Vorspeise!B26 -> Bund | C26: =Vorspeise!C26 -> Koriander, fein geschnitten
A27: =Hauptgang!A2 -> Gyathuk: Nudelsuppe mit Fleisch | D27: Bemerkungen
A28: =SUM(Hauptgang!A4) -> 0.4 | B28: =Hauptgang!B4 -> Kg | C28: =Hauptgang!C4 -> Nudeln (frisch oder getrocknet) | D28: =Hauptgang!D4 -> Udon- oder Dicke Nudeln
A29: =SUM(Hauptgang!A5) -> 0.3 | B29: =Hauptgang!B5 -> Kg | C29: =Hauptgang!C5 -> Rinderhackfleisch | D29: =Hauptgang!D5 -> 0
A30: =SUM(Hauptgang!A6) -> 4 | B30: =Hauptgang!B6 -> Stk | C30: =Hauptgang!C6 -> Karotten | D30: =Hauptgang!D6 -> 0
A31: =SUM(Hauptgang!A7) -> 2 | B31: =Hauptgang!B7 -> Stk | C31: =Hauptgang!C7 -> Zwiebeln | D31: =Hauptgang!D7 -> 0
A32: =SUM(Hauptgang!A8) -> 4 | B32: =Hauptgang!B8 -> Stk | C32: =Hauptgang!C8 -> Knoblauchzehen | D32: =Hauptgang!D8 -> 0
A33: =SUM(Hauptgang!A9) -> 2 | B33: =Hauptgang!B9 -> Stk | C33: =Hauptgang!C9 -> Ingwer (frisch) | D33: ca 1-2 cm Pro Stk
A34: =SUM(Hauptgang!A10) -> 1 | B34: =Hauptgang!B10 -> EL | C34: =Hauptgang!C10 -> Tomatenpüre | D34: =Hauptgang!D10 -> 0
A35: =SUM(Hauptgang!A11) -> 0.5 | B35: =Hauptgang!B11 -> Bund | C35: =Hauptgang!C11 -> Frischer Koriander | D35: =Hauptgang!D11 -> 0
A36: =SUM(Hauptgang!A12) -> 2 | B36: =Hauptgang!B12 -> EL | C36: =Hauptgang!C12 -> Soja Sauce | D36: =Hauptgang!D12 -> 0
A37: =SUM(Hauptgang!A13) -> 4 | B37: =Hauptgang!B13 -> Würfel | C37: =Hauptgang!C13 -> Fleisch Buillion | D37: =Hauptgang!D13 -> 0
A38: =SUM(Hauptgang!A14) -> 1 | B38: =Hauptgang!B14 -> Prise | C38: =Hauptgang!C14 -> Salz | D38: =Hauptgang!D14 -> nach Geschmack
A39: =SUM(Hauptgang!A15) -> 1 | B39: =Hauptgang!B15 -> Prise | C39: =Hauptgang!C15 -> Pfeffer | D39: =Hauptgang!D15 -> nach Geschmack
A40: =SUM(Hauptgang!A16) -> 0.5 | B40: =Hauptgang!B16 -> Prise | C40: =Hauptgang!C16 -> Chilli Flocken | D40: =Hauptgang!D16 -> nach Geschmack
...
