Workbook

Sheet Menu
A3: Datum | B3: 45918
A5: Vorspeise | B5: Pilzsuppe
A9: Hauptgang | B9: Aargauer Braten mit
A10: Beilage1 | B10: Goldknöpfli und
A11: Beilage2 | B11: Rüebli
A13: Dessert | B13: Glace mit Meringue und Greyzer Rahm
A15: Diverses
A17: Menu von Tisch | B17: D
F18: §
A19: Personenzahl | B19: 4
A30: Fleisch ca. 1 Std. vor dem Braten aus dem Kühlschrank nehmen, würzen. Fleisch auf ein Blech legen. Bratbutter in einer Pfanne heiss werden lassen, über das Fleisch giessen. Fleischthermometer an der dicksten Stelle einstecken. Blech in die Mitte des auf 220 Grad vorgeheizten Ofens schieben, ca. 10 Min. anbraten. Temperatur auf ca. 180 Grad reduzieren, ca. 30 Min. weiterbraten, bis die Kerntemperatur ca. 60 - 65 Grad beträgt. Vor dem Tranchieren Braten zugedeckt ca. 10 Min. ruhen lassen.
A32: Beiseite gestellten Wein mit Bouillon und Thymian aufkochen, Hitze reduzieren, ca. 5 Min. köcheln. Thymian entfernen. Butter und Mehl mischen, beigeben, Sauce unter Rühren ca. 5 Min. köcheln, Thymianblättchen beigeben. Fleisch in ca. 1 cm dicke Tranchen schneiden, Sauce dazu servieren, mit Goldknöpfli und Rüebli anrichten.

Sheet Vorspeise
E1: Chochete vom | F1: =Menu!B3 -> 45918 | I1: Original Rezept
A2: =Menu!B5 -> Pilzsuppe | E2: Rezept für | F2: =Menu!B19 -> 4 | I2: 4 | J2: Personen | L2: Menu Angaben wie folgt machen:
A3: Menge | B3: Einheit | C3: Artikel (Gewicht alles ca. Angaben) | D3: Bemerkungen | E3: Einkaufspreis | F3: Betrag | I3: Originalrezept | J3: pro Person
A4: =ROUND(SUM(J4*$F$2),2) -> 1 | B4: Stk | C4: kleine Zwiebel | F4: =SUM(E4*A4) -> 0 | I4: 1 | J4: =I4/$I$2 -> 0.25 | L4: Kg | M4: 0.25
A5: =ROUND(SUM(J5*$F$2),2) -> 0.2 | B5: Kg | C5: Champingons | F5: =SUM(E5*A5) -> 0 | I5: 0.2 | J5: =I5/$I$2 -> 0.05 | L5: Lt | M5: 1.25
A6: =ROUND(SUM(J6*$F$2),2) -> 0.2 | B6: Kg | C6: Pfifferlinge | F6: =SUM(E6*A6) -> 0 | I6: 0.2 | J6: =I6/$I$2 -> 0.05 | L6: EL | M6: Esslöffel
A7: =ROUND(SUM(J7*$F$2),2) -> 1 | B7: EL | C7: Öl | F7: =SUM(E7*A7) -> 0 | I7: 1 | J7: =I7/$I$2 -> 0.25 | L7: TL | M7: Kaffeelöffel
A8: =ROUND(SUM(J8*$F$2),2) -> 2 | B8: TL | C8: Butter | F8: =SUM(E8*A8) -> 0 | I8: 2 | J8: =I8/$I$2 -> 0.5 | L8: Bund | M8: 1
A9: =ROUND(SUM(J9*$F$2),2) -> 0 | C9: Salz | F9: =SUM(E9*A9) -> 0 | J9: =I9/$I$2 -> 0 | L9: Stk | M9: Stück
A10: =ROUND(SUM(J10*$F$2),2) -> 0 | C10: Pfeffer | F10: =SUM(E10*A10) -> 0 | J10: =I10/$I$2 -> 0 | L10: Pä | M10: Päckli
A11: =ROUND(SUM(J11*$F$2),2) -> 1 | B11: TL | C11: leicht gehäufter TL Mehl | F11: =SUM(E11*A11) -> 0 | I11: 1 | J11: =I11/$I$2 -> 0.25 | L11: alles weitere ausschreiben
A12: =ROUND(SUM(J12*$F$2),2) -> 0.6 | B12: Lt | C12: Gemüsebrühe | F12: =SUM(E12*A12) -> 0 | I12: 0.6 | J12: =I12/$I$2 -> 0.15
A13: =ROUND(SUM(J13*$F$2),2) -> 1 | B13: Bund | C13: Thymian (8-10 Stiele) | F13: =SUM(E13*A13) -> 0 | I13: 1 | J13: =I13/$I$2 -> 0.25
A14: =ROUND(SUM(J14*$F$2),2) -> 0.2 | B14: Lt | C14: Schlagsahne | F14: =SUM(E14*A14) -> 0 | I14: 0.2 | J14: =I14/$I$2 -> 0.05
A15: 1 | B15: Stk | C15: Bagette / Rustico | F15: =SUM(E15*A15) -> 0 | J15: =I15/$I$2 -> 0
A16: Zubereitung
A17: Zwiebel schälen und fein würfeln. Champignons putzen und säubern. Pfifferlinge putzen und gründlich waschen, am besten 2 mal, abtropfen lassen. Ca. 4 Champignons und ca. 8 Pfifferlinge beiseitelegen.
A18: Übrige Pilze klein schneiden. 1 EL Öl in einem Topf erhitzen. Zwiebelwürfel darin anschwitzen. Pilze zugeben und so lange dünsten, bis die Flüssigkeit der Pilze verkocht ist. Pilze mit Salz und Pfeffer würzen und mit Mehl bestäuben.
A19: Unter Rühren langsam mit Brühe ablöschen und ca. 10 Minuten köcheln lassen. Inzwischen Thymian waschen, trocken schütteln und die Blättchen, bis auf einige zum Garnieren, fein hacken. Übrige Pilze halbieren, bzw. in dicke Scheiben schneiden.
A20: 2 TL Butter in einer beschichteten Pfanne erhitzen. Pilze darin ca. 3 Minuten scharf anbraten. 150 g Sahne und 3/4 des gehackten Thymians in die Suppe geben, aufkochen und pürieren. Suppe mit Salz und Pfeffer abschmecken und in Suppentassen anrichten.
A21: Übrige Sahne in Schlieren auf die Suppe geben, dann gebratene Pilze in der Mitte verteilen. Suppe mit Thymian bestreuen und garnieren.
A30: Fleisch ca. 1 Std. vor dem Braten aus dem Kühlschrank nehmen, würzen. Fleisch auf ein Blech legen. Bratbutter in einer Pfanne heiss werden lassen, über das Fleisch giessen. Fleischthermometer an der dicksten Stelle einstecken. Blech in die Mitte des auf 220 Grad vorgeheizten Ofens schieben, ca. 10 Min. anbraten. Temperatur auf ca. 180 Grad reduzieren, ca. 30 Min. weiterbraten, bis die Kerntemperatur ca. 60 - 65 Grad beträgt. Vor dem Tranchieren Braten zugedeckt ca. 10 Min. ruhen lassen.
A32: Beiseite gestellten Wein mit Bouillon und Thymian aufkochen, Hitze reduzieren, ca. 5 Min. köcheln. Thymian entfernen. Butter und Mehl mischen, beigeben, Sauce unter Rühren ca. 5 Min. köcheln, Thymianblättchen beigeben. Fleisch in ca. 1 cm dicke Tranchen schneiden, Sauce dazu servieren, mit Goldknöpfli und Rüebli anrichten.

Sheet Suppe
E1: Chochete vom | F1: =SUM(Menu!#REF!) -> #REF! | I1: Original Rezept
A2: =Menu!#REF! -> #REF! | E2: Rezept für | F2: =SUM(Menu!#REF!) -> #REF! | J2: Personen | L2: Menu Angaben wie folgt machen:
A3: Menge | B3: Einheit | C3: Artikel (Gewicht alles ca. Angaben) | D3: Bemerkungen | E3: Einkaufspreis | F3: Betrag | I3: Originalrezept | J3: pro Person
A4: =ROUND(SUM(J4*$F$2),2) -> #DIV/0! | F4: =SUM(E4*A4) -> #DIV/0! | J4: =I4/$I$2 -> #DIV/0! | L4: Kg | M4: 0.25
A5: =ROUND(SUM(J5*$F$2),2) -> #DIV/0! | F5: =SUM(E5*A5) -> #DIV/0! | J5: =I5/$I$2 -> #DIV/0! | L5: Lt | M5: 1.25
A6: =ROUND(SUM(J6*$F$2),2) -> #DIV/0! | F6: =SUM(E6*A6) -> #DIV/0! | J6: =I6/$I$2 -> #DIV/0! | L6: EL | M6: Esslöffel
A7: =ROUND(SUM(J7*$F$2),2) -> #DIV/0! | F7: =SUM(E7*A7) -> #DIV/0! | J7: =I7/$I$2 -> #DIV/0! | L7: TL | M7: Kaffeelöffel
A8: =ROUND(SUM(J8*$F$2),2) -> #DIV/0! | F8: =SUM(E8*A8) -> #DIV/0! | J8: =I8/$I$2 -> #DIV/0! | L8: Bund | M8: 1
A9: =ROUND(SUM(J9*$F$2),2) -> #DIV/0! | F9: =SUM(E9*A9) -> #DIV/0! | J9: =I9/$I$2 -> #DIV/0! | L9: Stk | M9: Stück
A10: =ROUND(SUM(J10*$F$2),2) -> #DIV/0! | F10: =SUM(E10*A10) -> #DIV/0! | J10: =I10/$I$2 -> #DIV/0! | L10: Pä | M10: Päckli
A11: =ROUND(SUM(J11*$F$2),2) -> #DIV/0! | F11: =SUM(E11*A11) -> #DIV/0! | J11: =I11/$I$2 -> #DIV/0! | L11: alles weitere ausschreiben
A12: =ROUND(SUM(J12*$F$2),2) -> #DIV/0! | F12: =SUM(E12*A12) -> #DIV/0! | J12: =I12/$I$2 -> #DIV/0!
A13: =ROUND(SUM(J13*$F$2),2) -> #DIV/0! | F13: =SUM(E13*A13) -> #DIV/0! | J13: =I13/$I$2 -> #DIV/0!
A14: =ROUND(SUM(J14*$F$2),2) -> #DIV/0! | F14: =SUM(E14*A14) -> #DIV/0! | J14: =I14/$I$2 -> #DIV/0!
A15: =ROUND(SUM(J15*$F$2),2) -> #DIV/0! | F15: =SUM(E15*A15) -> #DIV/0! | J15: =I15/$I$2 -> #DIV/0!
A16: =ROUND(SUM(J16*$F$2),2) -> #DIV/0! | F16: =SUM(E16*A16) -> #DIV/0! | J16: =I16/$I$2 -> #DIV/0!
A17: =ROUND(SUM(J17*$F$2),2) -> #DIV/0! | F17: =SUM(E17*A17) -> #DIV/0! | J17: =I17/$I$2 -> #DIV/0!
A18: =ROUND(SUM(J18*$F$2),2) -> #DIV/0! | F18: =SUM(E18*A18) -> #DIV/0! | J18: =I18/$I$2 -> #DIV/0!
A19: =ROUND(SUM(J19*$F$2),2) -> #DIV/0! | F19: =SUM(E19*A19) -> #DIV/0! | J19: =I19/$I$2 -> #DIV/0!
A20: =ROUND(SUM(J20*$F$2),2) -> #DIV/0! | F20: =SUM(E20*A20) -> #DIV/0! | J20: =I20/$I$2 -> #DIV/0!
A21: Zubereitung

Sheet Hauptgang
E1: Chochete vom | F1: =Menu!B3 -> 45918 | I1: Original Rezept
A2: =Menu!B9 -> Aargauer Braten mit | E2: Rezept für | F2: =Menu!B19 -> 4 | I2: 4 | J2: Personen | L2: Menu Angaben wie folgt machen:
A3: Menge | B3: Einheit | C3: Artikel (Gewicht alles ca. Angaben) | D3: Bemerkungen | E3: Einkaufspreis | F3: Betrag | I3: Originalrezept | J3: pro Person
A4: =ROUND(SUM(J4*$F$2),2) -> 0.2 | B4: Kg | C4: entsteinte Dörrpflaumen | D4: für Fleisch | F4: =SUM(E4*A4) -> 0 | I4: 0.2 | J4: =I4/$I$2 -> 0.05 | L4: Kg | M4: 0.25
A5: =ROUND(SUM(J5*$F$2),2) -> 0.15 | B5: Lt | C5: Weisswein | F5: =SUM(E5*A5) -> 0 | I5: 0.15 | J5: =I5/$I$2 -> 0.0375 | L5: Lt | M5: 1.25
A6: =ROUND(SUM(J6*$F$2),2) -> 1.2 | B6: Kg | C6: Schweinsnierstück | F6: =SUM(E6*A6) -> 0 | I6: 1.2 | J6: =I6/$I$2 -> 0.3 | L6: EL | M6: Esslöffel
A7: =ROUND(SUM(J7*$F$2),2) -> 2 | B7: EL | C7: flüssiger Honig | F7: =SUM(E7*A7) -> 0 | I7: 2 | J7: =I7/$I$2 -> 0.5 | L7: TL | M7: Kaffeelöffel
A8: =ROUND(SUM(J8*$F$2),2) -> 2 | B8: EL | C8: Thymianblättchen | F8: =SUM(E8*A8) -> 0 | I8: 2 | J8: =I8/$I$2 -> 0.5 | L8: Bund | M8: 1
A9: 5 | B9: TL | C9: Salz | F9: =SUM(E9*A9) -> 0 | I9: 1.5 | J9: =I9/$I$2 -> 0.375 | L9: Stk | M9: Stück
A10: =ROUND(SUM(J10*$F$2),2) -> 0 | C10: wenig Pfeffer | F10: =SUM(E10*A10) -> 0 | J10: =I10/$I$2 -> 0 | L10: Pä | M10: Päckli
A11: =ROUND(SUM(J11*$F$2),2) -> 3 | B11: EL | C11: Bratbutter zum Anbratwn | F11: =SUM(E11*A11) -> 0 | I11: 3 | J11: =I11/$I$2 -> 0.75 | L11: alles weitere ausschreiben
A12: =ROUND(SUM(J12*$F$2),2) -> 0 | J12: =I12/$I$2 -> 0
A13: =ROUND(SUM(J13*$F$2),2) -> 0 | C13: Bratensauce | J13: =I13/$I$2 -> 0
A14: =ROUND(SUM(J14*$F$2),2) -> 0.3 | B14: Lt | C14: Fleischbouillon | F14: =SUM(E14*A14) -> 0 | I14: 0.3 | J14: =I14/$I$2 -> 0.075
A15: =ROUND(SUM(J15*$F$2),2) -> 2 | B15: Stk | C15: Thymian (2 Zweiglein) | F15: =SUM(E15*A15) -> 0 | I15: 2 | J15: =I15/$I$2 -> 0.5
A16: =ROUND(SUM(J16*$F$2),2) -> 1 | B16: EL | C16: Butter, weich | F16: =SUM(E16*A16) -> 0 | I16: 1 | J16: =I16/$I$2 -> 0.25
A17: =ROUND(SUM(J17*$F$2),2) -> 1 | B17: EL | C17: Mehl | F17: =SUM(E17*A17) -> 0 | I17: 1 | J17: =I17/$I$2 -> 0.25
A18: =ROUND(SUM(J18*$F$2),2) -> 1 | B18: EL | C18: Thymianblättchen | F18: § | I18: 1 | J18: =I18/$I$2 -> 0.25
A19: =ROUND(SUM(J19*$F$2),2) -> 0
F25: =SUM(E25*A25) -> 0 | J25: =I25/$I$2 -> 0
A26: Zubereitung
A27: Pflaumen im Wein ca. 1 Std einweichen.
A28: Für Fleisch:
A29: Fleisch in der Mitte längs mit einem schmalen langen Messer durchstossen, einige Male hin und her fahren, bis der Schnitt ca. 4 cm breit ist. Pflaumen abtropfen, Wein für die Sauce beiseite stellen. Pflaumen mit einer Kelle in die Fleischöffnung stossen. Braten ringsum mit Honig und Thymian bestreichen, zugedeckt im Kühlschrank ca. 1 Tag marinieren.
A30: Fleisch ca. 1 Std. vor dem Braten aus dem Kühlschrank nehmen, würzen. Fleisch auf ein Blech legen. Bratbutter in einer Pfanne heiss werden lassen, über das Fleisch giessen. Fleischthermometer an der dicksten Stelle einstecken. Blech in die Mitte des auf 220 Grad vorgeheizten Ofens schieben, ca. 10 Min. anbraten. Temperatur auf ca. 180 Grad reduzieren, ca. 30 Min. weiterbraten, bis die Kerntemperatur ca. 60 - 65 Grad beträgt. Vor dem Tranchieren Braten zugedeckt ca. 10 Min. ruhen lassen.
A31: Für Bratensauce:
A32: Beiseite gestellten Wein mit Bouillon und Thymian aufkochen, Hitze reduzieren, ca. 5 Min. köcheln. Thymian entfernen. Butter und Mehl mischen, beigeben, Sauce unter Rühren ca. 5 Min. köcheln, Thymianblättchen beigeben. Fleisch in ca. 1 cm dicke Tranchen schneiden, Sauce dazu servieren, mit Goldknöpfli und Rüebli anrichten.

Sheet Beilage1
E1: Chochete vom | F1: =Menu!B3 -> 45918 | I1: Original Rezept
A2: =Menu!B10 -> Goldknöpfli und | E2: Rezept für | F2: =Menu!B19 -> 4 | I2: 4 | J2: Personen | L2: Menu Angaben wie folgt machen:
A3: Menge | B3: Einheit | C3: Artikel (Gewicht alles ca. Angaben) | D3: Bemerkungen | E3: Einkaufspreis | F3: Betrag | I3: Originalrezept | J3: pro Person
A4: =ROUND(SUM(J4*$F$2),2) -> 0.2 | B4: Kg | C4: Mehl | D4: für Goldknöpfli | F4: =SUM(E4*A4) -> 0 | I4: 0.2 | J4: =I4/$I$2 -> 0.05 | L4: Kg | M4: 0.25
A5: =ROUND(SUM(J5*$F$2),2) -> 0.1 | B5: Kg | C5: Knöpflimehl | F5: =SUM(E5*A5) -> 0 | I5: 0.1 | J5: =I5/$I$2 -> 0.025 | L5: Lt | M5: 1.25
A6: =ROUND(SUM(J6*$F$2),2) -> 0.25 | B6: TL | C6: Muskat | F6: =SUM(E6*A6) -> 0 | I6: 0.25 | J6: =I6/$I$2 -> 0.0625 | L6: EL | M6: Esslöffel
A7: =ROUND(SUM(J7*$F$2),2) -> 1 | B7: TL | C7: Salz | F7: =SUM(E7*A7) -> 0 | I7: 1 | J7: =I7/$I$2 -> 0.25 | L7: TL | M7: Kaffeelöffel
A8: =ROUND(SUM(J8*$F$2),2) -> 0.15 | B8: Lt | C8: Milchwasser (1/2 Milch / 1/2 Wasser) | F8: =SUM(E8*A8) -> 0 | I8: 0.15 | J8: =I8/$I$2 -> 0.0375 | L8: Bund | M8: 1
A9: =ROUND(SUM(J9*$F$2),2) -> 1 | B9: Stk | C9: Briefchen Safran | F9: =SUM(E9*A9) -> 0 | I9: 1 | J9: =I9/$I$2 -> 0.25 | L9: Stk | M9: Stück
A10: =ROUND(SUM(J10*$F$2),2) -> 3 | B10: Stk | C10: frische Eier | F10: =SUM(E10*A10) -> 0 | I10: 3 | J10: =I10/$I$2 -> 0.75 | L10: Pä | M10: Päckli
A11: =ROUND(SUM(J11*$F$2),2) -> 0 | C11: Salzwasser, siedend | J11: =I11/$I$2 -> 0 | L11: alles weitere ausschreiben
A12: =ROUND(SUM(J12*$F$2),2) -> 0 | F12: =SUM(E12*A12) -> 0 | J12: =I12/$I$2 -> 0
A13: =ROUND(SUM(J13*$F$2),2) -> 0.05 | B13: Kg | C13: Butter zum Anbraten (Optional) | F13: =SUM(E13*A13) -> 0 | I13: 0.05 | J13: =I13/$I$2 -> 0.0125
A14: =ROUND(SUM(J14*$F$2),2) -> 0 | F14: =SUM(E14*A14) -> 0 | J14: =I14/$I$2 -> 0
A15: =ROUND(SUM(J15*$F$2),2) -> 0 | F15: =SUM(E15*A15) -> 0 | J15: =I15/$I$2 -> 0
A16: =ROUND(SUM(J16*$F$2),2) -> 0 | F16: =SUM(E16*A16) -> 0 | J16: =I16/$I$2 -> 0
A17: =ROUND(SUM(J17*$F$2),2) -> 0 | F17: =SUM(E17*A17) -> 0 | J17: =I17/$I$2 -> 0
A18: =ROUND(SUM(J18*$F$2),2) -> 0 | F18: § | J18: =I18/$I$2 -> 0
A19: =ROUND(SUM(J19*$F$2),2) -> 0 | F19: =SUM(E19*A19) -> 0 | J19: =I19/$I$2 -> 0
A20: =ROUND(SUM(J20*$F$2),2) -> 0 | F20: =SUM(E20*A20) -> 0 | J20: =I20/$I$2 -> 0
A21: Zubereitung
A22: Für Goldknöpfli:
A23: Mehl, Muskat und Salz in einer Schüssel mischen, in der Mitte eine Mulde eindrücken.
A24: Milchwasser, Safran und Eier verrühren, nach und nach unter Rühren in die Mulde giessen, mit einer Kelle mischen und so lange klopfen, bis der Teig glänzt und Blasen wirft. Zugedeckt bei Raumtemperatur ca. 30 Min. quellen lassen.
A25: Teig portionenweise durchs Knöpflisieb ins leicht siedende Salzwasser streichen. Knöpfli ziehen lassen, bis sie an die Oberfläche steigen, mit einer Schaumkelle herausnehmen, abtropfen.
A30: Fleisch ca. 1 Std. vor dem Braten aus dem Kühlschrank nehmen, würzen. Fleisch auf ein Blech legen. Bratbutter in einer Pfanne heiss werden lassen, über das Fleisch giessen. Fleischthermometer an der dicksten Stelle einstecken. Blech in die Mitte des auf 220 Grad vorgeheizten Ofens schieben, ca. 10 Min. anbraten. Temperatur auf ca. 180 Grad reduzieren, ca. 30 Min. weiterbraten, bis die Kerntemperatur ca. 60 - 65 Grad beträgt. Vor dem Tranchieren Braten zugedeckt ca. 10 Min. ruhen lassen.
A32: Beiseite gestellten Wein mit Bouillon und Thymian aufkochen, Hitze reduzieren, ca. 5 Min. köcheln. Thymian entfernen. Butter und Mehl mischen, beigeben, Sauce unter Rühren ca. 5 Min. köcheln, Thymianblättchen beigeben. Fleisch in ca. 1 cm dicke Tranchen schneiden, Sauce dazu servieren, mit Goldknöpfli und Rüebli anrichten.

Sheet Beilage2
E1: Chochete vom | F1: =Menu!B3 -> 45918 | I1: Original Rezept
A2: =Menu!B11 -> Rüebli | E2: Rezept für | F2: =Menu!B19 -> 4 | I2: 4 | J2: Personen | L2: Menu Angaben wie folgt machen:
A3: Menge | B3: Einheit | C3: Artikel (Gewicht alles ca. Angaben) | D3: Bemerkungen | E3: Einkaufspreis | F3: $ | I3: Originalrezept | J3: pro Person
A4: =ROUND(SUM(J4*$F$2),2) -> 6 | B4: Stk | C4: Rüebli / Karotten mittel gross | F4: =SUM(E4*A4) -> 0 | I4: 6 | J4: =I4/$I$2 -> 1.5 | L4: Kg | M4: 0.25
A5: =ROUND(SUM(J5*$F$2),2) -> 1 | B5: Stk | C5: Schalotte | F5: =SUM(E5*A5) -> 0 | I5: 1 | J5: =I5/$I$2 -> 0.25 | L5: Lt | M5: 1.25
A6: =ROUND(SUM(J6*$F$2),2) -> 1 | B6: EL | C6: Butter | F6: =SUM(E6*A6) -> 0 | I6: 1 | J6: =I6/$I$2 -> 0.25 | L6: EL | M6: Esslöffel
A7: =ROUND(SUM(J7*$F$2),2) -> 0.1 | B7: Lt | C7: Bier | F7: =SUM(E7*A7) -> 0 | I7: 0.1 | J7: =I7/$I$2 -> 0.025 | L7: TL | M7: Kaffeelöffel
A8: =ROUND(SUM(J8*$F$2),2) -> 0.05 | B8: Lt | C8: Wassser | F8: =SUM(E8*A8) -> 0 | I8: 0.05 | J8: =I8/$I$2 -> 0.0125 | L8: Bund | M8: 1
A9: =ROUND(SUM(J9*$F$2),2) -> 0 | C9: Salz / Pfeffer | F9: =SUM(E9*A9) -> 0 | J9: =I9/$I$2 -> 0 | L9: Stk | M9: Stück
A10: =ROUND(SUM(J10*$F$2),2) -> 0 | F10: =SUM(E10*A10) -> 0 | J10: =I10/$I$2 -> 0 | L10: Pä | M10: Päckli
A11: =ROUND(SUM(J11*$F$2),2) -> 0.5 | B11: Bund | C11: Schnittlauch | F11: =SUM(E11*A11) -> 0 | I11: 0.5 | J11: =I11/$I$2 -> 0.125 | L11: alles weitere ausschreiben
A12: =ROUND(SUM(J12*$F$2),2) -> 0 | F12: =SUM(E12*A12) -> 0 | J12: =I12/$I$2 -> 0
A13: =ROUND(SUM(J13*$F$2),2) -> 0 | F13: =SUM(E13*A13) -> 0 | J13: =I13/$I$2 -> 0
A14: =ROUND(SUM(J14*$F$2),2) -> 0 | F14: =SUM(E14*A14) -> 0 | J14: =I14/$I$2 -> 0
A15: =ROUND(SUM(J15*$F$2),2) -> 0 | F15: =SUM(E15*A15) -> 0 | J15: =I15/$I$2 -> 0
A16: =ROUND(SUM(J16*$F$2),2) -> 0 | F16: =SUM(E16*A16) -> 0 | J16: =I16/$I$2 -> 0
A17: =ROUND(SUM(J17*$F$2),2) -> 0 | F17: =SUM(E17*A17) -> 0 | J17: =I17/$I$2 -> 0
A18: =ROUND(SUM(J18*$F$2),2) -> 0 | F18: § | J18: =I18/$I$2 -> 0
A19: =ROUND(SUM(J19*$F$2),2) -> 0 | F19: =SUM(E19*A19) -> 0 | J19: =I19/$I$2 -> 0
A20: =ROUND(SUM(J20*$F$2),2) -> 0 | F20: =SUM(E20*A20) -> 0 | J20: =I20/$I$2 -> 0
A21: Zubereitung
A22: Karotten rüsten und in Stifte schneiden
A23: Schalotten klein würfeln und in Butter glsig dünsten, Karotten dazugeben, würzen und mit Bier und Wassser ablöschen,
A24: Zugedeckt knackig garen. Schnittlauch unterheben
A30: Fleisch ca. 1 Std. vor dem Braten aus dem Kühlschrank nehmen, würzen. Fleisch auf ein Blech legen. Bratbutter in einer Pfanne heiss werden lassen, über das Fleisch giessen. Fleischthermometer an der dicksten Stelle einstecken. Blech in die Mitte des auf 220 Grad vorgeheizten Ofens schieben, ca. 10 Min. anbraten. Temperatur auf ca. 180 Grad reduzieren, ca. 30 Min. weiterbraten, bis die Kerntemperatur ca. 60 - 65 Grad beträgt. Vor dem Tranchieren Braten zugedeckt ca. 10 Min. ruhen lassen.
A32: Beiseite gestellten Wein mit Bouillon und Thymian aufkochen, Hitze reduzieren, ca. 5 Min. köcheln. Thymian entfernen. Butter und Mehl mischen, beigeben, Sauce unter Rühren ca. 5 Min. köcheln, Thymianblättchen beigeben. Fleisch in ca. 1 cm dicke Tranchen schneiden, Sauce dazu servieren, mit Goldknöpfli und Rüebli anrichten.

Sheet Dessert
E1: Chochete vom | F1: =Menu!B3 -> 45918 | I1: Original Rezept
A2: =Menu!B13 -> Glace mit Meringue und Greyzer Rahm | E2: Rezept für | F2: =Menu!B19 -> 4 | I2: 1 | J2: Personen | L2: Menu Angaben wie folgt machen:
A3: Menge | B3: Einheit | C3: Artikel (Gewicht alles ca. Angaben) | D3: Bemerkungen | E3: Einkaufspreis | F3: Betrag | I3: Originalrezept | J3: pro Person
A4: =ROUND(SUM(J4*$F$2),2) -> 8 | B4: Stk | C4: Vanille - Glacekugel | F4: =SUM(E4*A4) -> 0 | I4: 2 | J4: =I4/$I$2 -> 2 | L4: Kg | M4: 0.25
A5: =ROUND(SUM(J5*$F$2),2) -> 8 | B5: Stk | C5: Meringue kleine bis mittlere Grösse | F5: =SUM(E5*A5) -> 0 | I5: 2 | J5: =I5/$I$2 -> 2 | L5: Lt | M5: 1.25
A6: =ROUND(SUM(J6*$F$2),2) -> 0.4 | B6: Lt | C6: Doppelrahm Gruyère (Greyzer) | F6: =SUM(E6*A6) -> 0 | I6: 0.1 | J6: =I6/$I$2 -> 0.1 | L6: EL | M6: Esslöffel
A7: 1 | B7: Pä | C7: ein paar Beeren (z.B. Brom-/Himbeeren) | F7: =SUM(E7*A7) -> 0 | J7: =I7/$I$2 -> 0 | L7: KL | M7: Kaffeelöffel
A8: 1 | B8: Pä | C8: Optional: 2 kleine Prisen trockenes Vanillepulver | F8: =SUM(E8*A8) -> 0 | J8: =I8/$I$2 -> 0 | L8: Bund | M8: 1
A9: =ROUND(SUM(J9*$F$2),2) -> 0 | F9: =SUM(E9*A9) -> 0 | J9: =I9/$I$2 -> 0 | L9: Stk | M9: Stück
A10: =ROUND(SUM(J10*$F$2),2) -> 0 | F10: =SUM(E10*A10) -> 0 | J10: =I10/$I$2 -> 0 | L10: Pä | M10: Päckli
A11: =ROUND(SUM(J11*$F$2),2) -> 0 | F11: =SUM(E11*A11) -> 0 | J11: =I11/$I$2 -> 0 | L11: alles weitere ausschreiben
A12: =ROUND(SUM(J12*$F$2),2) -> 0 | F12: =SUM(E12*A12) -> 0 | J12: =I12/$I$2 -> 0
A13: =ROUND(SUM(J13*$F$2),2) -> 0 | F13: =SUM(E13*A13) -> 0 | J13: =I13/$I$2 -> 0
A14: =ROUND(SUM(J14*$F$2),2) -> 0 | F14: =SUM(E14*A14) -> 0 | J14: =I14/$I$2 -> 0
A15: =ROUND(SUM(J15*$F$2),2) -> 0 | F15: =SUM(E15*A15) -> 0 | J15: =I15/$I$2 -> 0
A16: =ROUND(SUM(J16*$F$2),2) -> 0 | F16: =SUM(E16*A16) -> 0 | J16: =I16/$I$2 -> 0
A17: =ROUND(SUM(J17*$F$2),2) -> 0 | F17: =SUM(E17*A17) -> 0 | J17: =I17/$I$2 -> 0
A18: =ROUND(SUM(J18*$F$2),2) -> 0 | F18: § | J18: =I18/$I$2 -> 0
A19: =ROUND(SUM(J19*$F$2),2) -> 0 | F19: =SUM(E19*A19) -> 0 | J19: =I19/$I$2 -> 0
A20: =ROUND(SUM(J20*$F$2),2) -> 0 | F20: =SUM(E20*A20) -> 0 | J20: =I20/$I$2 -> 0
A21: Zubereitung
A22: Die Meringue in einer Dessertform anrichten, teilweise mit doppeltem Gruyère-Rahm bedecken. Streuen Sie ein paar Brombeeren und Himbeeren auf und herum. Optional: Nach Belieben mit einer Prise getrocknetem Vanillepulver bestreuen.
A30: Fleisch ca. 1 Std. vor dem Braten aus dem Kühlschrank nehmen, würzen. Fleisch auf ein Blech legen. Bratbutter in einer Pfanne heiss werden lassen, über das Fleisch giessen. Fleischthermometer an der dicksten Stelle einstecken. Blech in die Mitte des auf 220 Grad vorgeheizten Ofens schieben, ca. 10 Min. anbraten. Temperatur auf ca. 180 Grad reduzieren, ca. 30 Min. weiterbraten, bis die Kerntemperatur ca. 60 - 65 Grad beträgt. Vor dem Tranchieren Braten zugedeckt ca. 10 Min. ruhen lassen.
A32: Beiseite gestellten Wein mit Bouillon und Thymian aufkochen, Hitze reduzieren, ca. 5 Min. köcheln. Thymian entfernen. Butter und Mehl mischen, beigeben, Sauce unter Rühren ca. 5 Min. köcheln, Thymianblättchen beigeben. Fleisch in ca. 1 cm dicke Tranchen schneiden, Sauce dazu servieren, mit Goldknöpfli und Rüebli anrichten.

Sheet Diverses
E1: Chochete vom | F1: =SUM(Menu!#REF!) -> #REF! | I1: Original Rezept
A2: =Menu!#REF! -> #REF! | E2: Rezept für | F2: =SUM(Menu!#REF!) -> #REF! | J2: Personen | L2: Menu Angaben wie folgt machen:
A3: Menge | B3: Einheit | C3: Artikel (Gewicht alles ca. Angaben) | D3: Bemerkungen | E3: Einkaufspreis | F3: Betrag | I3: Originalrezept | J3: pro Person
A4: =ROUND(SUM(J4*$F$2),2) -> #DIV/0! | F4: =SUM(E4*A4) -> #DIV/0! | J4: =I4/$I$2 -> #DIV/0! | L4: Kg | M4: 0.25
A5: =ROUND(SUM(J5*$F$2),2) -> #DIV/0! | F5: =SUM(E5*A5) -> #DIV/0! | J5: =I5/$I$2 -> #DIV/0! | L5: Lt | M5: 1.25
A6: =ROUND(SUM(J6*$F$2),2) -> #DIV/0! | F6: =SUM(E6*A6) -> #DIV/0! | J6: =I6/$I$2 -> #DIV/0! | L6: EL | M6: Esslöffel
A7: =ROUND(SUM(J7*$F$2),2) -> #DIV/0! | F7: =SUM(E7*A7) -> #DIV/0! | J7: =I7/$I$2 -> #DIV/0! | L7: KL | M7: Kaffeelöffel
A8: =ROUND(SUM(J8*$F$2),2) -> #DIV/0! | F8: =SUM(E8*A8) -> #DIV/0! | J8: =I8/$I$2 -> #DIV/0! | L8: Bund | M8: 1
A9: =ROUND(SUM(J9*$F$2),2) -> #DIV/0! | F9: =SUM(E9*A9) -> #DIV/0! | J9: =I9/$I$2 -> #DIV/0! | L9: Stk | M9: Stück
A10: =ROUND(SUM(J10*$F$2),2) -> #DIV/0! | F10: =SUM(E10*A10) -> #DIV/0! | J10: =I10/$I$2 -> #DIV/0! | L10: Pä | M10: Päckli
A11: =ROUND(SUM(J11*$F$2),2) -> #DIV/0! | F11: =SUM(E11*A11) -> #DIV/0! | J11: =I11/$I$2 -> #DIV/0! | L11: alles weitere ausschreiben
A12: =ROUND(SUM(J12*$F$2),2) -> #DIV/0! | F12: =SUM(E12*A12) -> #DIV/0! | J12: =I12/$I$2 -> #DIV/0!
A13: =ROUND(SUM(J13*$F$2),2) -> #DIV/0! | F13: =SUM(E13*A13) -> #DIV/0! | J13: =I13/$I$2 -> #DIV/0!
A14: =ROUND(SUM(J14*$F$2),2) -> #DIV/0! | F14: =SUM(E14*A14) -> #DIV/0! | J14: =I14/$I$2 -> #DIV/0!
A15: =ROUND(SUM(J15*$F$2),2) -> #DIV/0! | F15: =SUM(E15*A15) -> #DIV/0! | J15: =I15/$I$2 -> #DIV/0!
A16: =ROUND(SUM(J16*$F$2),2) -> #DIV/0! | F16: =SUM(E16*A16) -> #DIV/0! | J16: =I16/$I$2 -> #DIV/0!
A17: =ROUND(SUM(J17*$F$2),2) -> #DIV/0! | F17: =SUM(E17*A17) -> #DIV/0! | J17: =I17/$I$2 -> #DIV/0!
A18: =ROUND(SUM(J18*$F$2),2) -> #DIV/0! | F18: =SUM(E18*A18) -> #DIV/0! | J18: =I18/$I$2 -> #DIV/0!
A19: =ROUND(SUM(J19*$F$2),2) -> #DIV/0! | F19: =SUM(E19*A19) -> #DIV/0! | J19: =I19/$I$2 -> #DIV/0!
A20: =ROUND(SUM(J20*$F$2),2) -> #DIV/0! | F20: =SUM(E20*A20) -> #DIV/0! | J20: =I20/$I$2 -> #DIV/0!
A21: Zubereitung

Sheet Einkaufsliste
A1: Hobby-Küche Zug | C1: Einkaufsliste für Tisch D | D1: =Dessert!F1 -> 45918 | E1: ok
A2: Menge | B2: Einheit | C2: Artikel
A3: =Vorspeise!A2 -> Pilzsuppe | D3: Bemerkungen
A4: =SUM(Vorspeise!A4) -> 1 | B4: =Vorspeise!B4 -> Stk | C4: =Vorspeise!C4 -> kleine Zwiebel | D4: =Vorspeise!D4 -> 0
A5: =SUM(Vorspeise!A5) -> 0.2 | B5: =Vorspeise!B5 -> Kg | C5: =Vorspeise!C5 -> Champingons | D5: =Vorspeise!D5 -> 0
A6: =SUM(Vorspeise!A6) -> 0.2 | B6: =Vorspeise!B6 -> Kg | C6: =Vorspeise!C6 -> Pfifferlinge | D6: =Vorspeise!D6 -> 0
A7: =SUM(Vorspeise!A7) -> 1 | B7: =Vorspeise!B7 -> EL | C7: =Vorspeise!C7 -> Öl | D7: =Vorspeise!D7 -> 0
A8: =SUM(Vorspeise!A8) -> 2 | B8: =Vorspeise!B8 -> TL | C8: =Vorspeise!C8 -> Butter | D8: =Vorspeise!D8 -> 0
A9: =SUM(Vorspeise!A9) -> 0 | B9: =Vorspeise!B9 -> 0 | C9: =Vorspeise!C9 -> Salz | D9: =Vorspeise!D9 -> 0
A10: =SUM(Vorspeise!A10) -> 0 | B10: =Vorspeise!B10 -> 0 | C10: =Vorspeise!C10 -> Pfeffer | D10: =Vorspeise!D10 -> 0
A11: =SUM(Vorspeise!A11) -> 1 | B11: =Vorspeise!B11 -> TL | C11: =Vorspeise!C11 -> leicht gehäufter TL Mehl | D11: =Vorspeise!D11 -> 0
A12: =SUM(Vorspeise!A12) -> 0.6 | B12: =Vorspeise!B12 -> Lt | C12: =Vorspeise!C12 -> Gemüsebrühe | D12: =Vorspeise!D12 -> 0
A13: =SUM(Vorspeise!A13) -> 1 | B13: =Vorspeise!B13 -> Bund | C13: =Vorspeise!C13 -> Thymian (8-10 Stiele) | D13: =Vorspeise!D13 -> 0
A14: =SUM(Vorspeise!A14) -> 0.2 | B14: =Vorspeise!B14 -> Lt | C14: =Vorspeise!C14 -> Schlagsahne | D14: =Vorspeise!D14 -> 0
A15: =SUM(Vorspeise!A15) -> 1 | B15: =Vorspeise!B15 -> Stk | C15: =Vorspeise!C15 -> Bagette / Rustico | D15: =Vorspeise!D15 -> 0
A16: =Suppe!A2 -> #REF! | D16: Bemerkungen
A17: =SUM(Suppe!A4) -> #DIV/0! | B17: =Suppe!B4 -> 0 | C17: =Suppe!C4 -> 0 | D17: =Suppe!D4 -> 0
A18: =SUM(Suppe!A5) -> #DIV/0! | B18: =Suppe!B5 -> 0 | C18: =Suppe!C5 -> 0 | D18: =Suppe!D5 -> 0 | F18: §
A19: =SUM(Suppe!A6) -> #DIV/0! | B19: =Suppe!B6 -> 0 | C19: =Suppe!C6 -> 0 | D19: =Suppe!D6 -> 0
A20: =SUM(Suppe!A7) -> #DIV/0! | B20: =Suppe!B7 -> 0 | C20: =Suppe!C7 -> 0 | D20: =Suppe!D7 -> 0
A21: =SUM(Suppe!A8) -> #DIV/0! | B21: =Suppe!B8 -> 0 | C21: =Suppe!C8 -> 0 | D21: =Suppe!D8 -> 0
A22: =SUM(Suppe!A9) -> #DIV/0! | B22: =Suppe!B9 -> 0 | C22: =Suppe!C9 -> 0 | D22: =Suppe!D9 -> 0
A23: =SUM(Suppe!A10) -> #DIV/0! | B23: =Suppe!B10 -> 0 | C23: =Suppe!C10 -> 0 | D23: =Suppe!D10 -> 0
A24: =SUM(Suppe!A11) -> #DIV/0! | B24: =Suppe!B11 -> 0 | C24: =Suppe!C11 -> 0 | D24: =Suppe!D11 -> 0
A25: =SUM(Suppe!A12) -> #DIV/0! | B25: =Suppe!B12 -> 0 | C25: =Suppe!C12 -> 0 | D25: =Suppe!D12 -> 0
A26: =SUM(Suppe!A13) -> #DIV/0! | B26: =Suppe!B13 -> 0 | C26: =Suppe!C13 -> 0 | D26: =Suppe!D13 -> 0
A27: =SUM(Suppe!A14) -> #DIV/0! | B27: =Suppe!B14 -> 0 | C27: =Suppe!C14 -> 0 | D27: =Suppe!D14 -> 0
A28: =SUM(Suppe!A15) -> #DIV/0! | B28: =Suppe!B15 -> 0 | C28: =Suppe!C15 -> 0 | D28: =Suppe!D15 -> 0
A29: =SUM(Suppe!A16) -> #DIV/0! | B29: =Suppe!B16 -> 0 | C29: =Suppe!C16 -> 0 | D29: =Suppe!D16 -> 0
A30: Fleisch ca. 1 Std. vor dem Braten aus dem Kühlschrank nehmen, würzen. Fleisch auf ein Blech legen. Bratbutter in einer Pfanne heiss werden lassen, über das Fleisch giessen. Fleischthermometer an der dicksten Stelle einstecken. Blech in die Mitte des auf 220 Grad vorgeheizten Ofens schieben, ca. 10 Min. anbraten. Temperatur auf ca. 180 Grad reduzieren, ca. 30 Min. weiterbraten, bis die Kerntemperatur ca. 60 - 65 Grad beträgt. Vor dem Tranchieren Braten zugedeckt ca. 10 Min. ruhen lassen. | B30: =Suppe!B17 -> 0 | C30: =Suppe!C17 -> 0 | D30: =Suppe!D17 -> 0
A31: =SUM(Suppe!A18) -> #DIV/0! | B31: =Suppe!B18 -> 0 | C31: =Suppe!C18 -> 0 | D31: =Suppe!D18 -> 0
A32: Beiseite gestellten Wein mit Bouillon und Thymian aufkochen, Hitze reduzieren, ca. 5 Min. köcheln. Thymian entfernen. Butter und Mehl mischen, beigeben, Sauce unter Rühren ca. 5 Min. köcheln, Thymianblättchen beigeben. Fleisch in ca. 1 cm dicke Tranchen schneiden, Sauce dazu servieren, mit Goldknöpfli und Rüebli anrichten. | B32: =Suppe!B19 -> 0 | C32: =Suppe!C19 -> 0 | D32: =Suppe!D19 -> 0
A33: =SUM(Suppe!A20) -> #DIV/0! | B33: =Suppe!B20 -> 0 | C33: =Suppe!C20 -> 0 | D33: =Suppe!D20 -> 0
A34: =Hauptgang!A2 -> Aargauer Braten mit | D34: Bemerkungen
A35: =SUM(Hauptgang!A4) -> 0.2 | B35: =Hauptgang!B4 -> Kg | C35: =Hauptgang!C4 -> entsteinte Dörrpflaumen | D35: =Hauptgang!D4 -> für Fleisch
A36: =SUM(Hauptgang!A5) -> 0.15 | B36: =Hauptgang!B5 -> Lt | C36: =Hauptgang!C5 -> Weisswein | D36: =Hauptgang!D5 -> 0
A37: =SUM(Hauptgang!A6) -> 1.2 | B37: =Hauptgang!B6 -> Kg | C37: =Hauptgang!C6 -> Schweinsnierstück | D37: =Hauptgang!D6 -> 0
A38: =SUM(Hauptgang!A7) -> 2 | B38: =Hauptgang!B7 -> EL | C38: =Hauptgang!C7 -> flüssiger Honig | D38: =Hauptgang!D7 -> 0
A39: =SUM(Hauptgang!A8) -> 2 | B39: =Hauptgang!B8 -> EL | C39: =Hauptgang!C8 -> Thymianblättchen | D39: =Hauptgang!D8 -> 0
A40: =SUM(Hauptgang!A9) -> 5 | B40: =Hauptgang!B9 -> TL | C40: =Hauptgang!C9 -> Salz | D40: =Hauptgang!D9 -> 0
...
