Workbook

Sheet Menu
A3: Datum | B3: 45834 | D3: Menu Angaben wie folgt machen: | H3: Kg | I3: 0.25
H4: Lt | I4: 1.25
A5: Vorspeise 1 | B5: Eier - Gemüse - Muffins | D5: alle weiteren Angaben ausschreiben | H5: EL | I5: Esslöffel
H6: TL | I6: Teelöffel
A7: Vorspeise 2 | H7: Bund | I7: 1
H8: Stk | I8: Stück
A9: Hauptgang | B9: Torta da Charn (Fleischkuchen) | H9: Pä | I9: Päckli
A10: Beilage1 | B10: Wildkräutersalat mit Tomaten und Radicchio
A11: Beilage2
A13: Dessert | B13: Griessköpfli mit Apfelstückchen
A15: Diverses
A17: Menu von Tisch | B17: C
A19: Personenzahl | B19: 4

Sheet Vorspeise 1
E1: Chochete vom | F1: =SUM(Menu!B3) -> 45834 | I1: Original Rezept
A2: =Menu!B5 -> Eier - Gemüse - Muffins | E2: Rezept für | F2: =SUM(Menu!B19) -> 4 | I2: 4 | J2: Personen | L2: Menu Angaben wie folgt machen:
A3: Menge | B3: Einheit | C3: Artikel | D3: Bemerkungen | E3: Einkaufspreis | F3: Betrag | I3: Originalrezept | J3: pro Person
A4: =ROUND(SUM(J4*$F$2),2) -> 12 | B4: Stück | C4: Papierkapseln | F4: =SUM(E4*A4) -> 0 | I4: 12 | J4: =I4/$I$2 -> 3 | L4: Kg | M4: 0.25
A5: =ROUND(SUM(J5*$F$2),2) -> 0 | F5: =SUM(E5*A5) -> 0 | J5: =I5/$I$2 -> 0 | L5: Lt | M5: 1.25
A6: =ROUND(SUM(J6*$F$2),2) -> 2 | B6: Stück | C6: Rüebli | D6: klein gewürfelt | F6: =SUM(E6*A6) -> 0 | I6: 2 | J6: =I6/$I$2 -> 0.5 | L6: EL | M6: Esslöffel
A7: =ROUND(SUM(J7*$F$2),2) -> 0.05 | B7: Kg | C7: Erbsli | D7: tiefgekühlt | F7: =SUM(E7*A7) -> 0 | I7: 0.05 | J7: =I7/$I$2 -> 0.0125 | L7: TL | M7: Kaffeelöffel
A8: =ROUND(SUM(J8*$F$2),2) -> 0.1 | B8: Kg | C8: Lauch | D8: in feinen Streifen | F8: =SUM(E8*A8) -> 0 | I8: 0.1 | J8: =I8/$I$2 -> 0.025 | L8: Bund | M8: 1
A9: =ROUND(SUM(J9*$F$2),2) -> 1 | B9: EL | C9: Butter | F9: =SUM(E9*A9) -> 0 | I9: 1 | J9: =I9/$I$2 -> 0.25 | L9: Stk | M9: Stück
A10: =ROUND(SUM(J10*$F$2),2) -> 1 | B10: Prise | C10: Salz und Pfeffer | D10: Gemüse würzen | F10: =SUM(E10*A10) -> 0 | I10: 1 | J10: =I10/$I$2 -> 0.25 | L10: Pä | M10: Päckli
A11: =ROUND(SUM(J11*$F$2),3) -> 0 | F11: =SUM(E11*A11) -> 0 | J11: =I11/$I$2 -> 0 | L11: alles weitere ausschreiben
A12: =ROUND(SUM(J12*$F$2),2) -> 0.25 | B12: Kg | C12: Mehl | F12: =SUM(E12*A12) -> 0 | I12: 0.25 | J12: =I12/$I$2 -> 0.0625
A13: =ROUND(SUM(J13*$F$2),2) -> 1 | B13: TL | C13: Salz | F13: =SUM(E13*A13) -> 0 | I13: 1 | J13: =I13/$I$2 -> 0.25
A14: =ROUND(SUM(J14*$F$2),2) -> 2 | B14: TL | C14: Backpulver | F14: =SUM(E14*A14) -> 0 | I14: 2 | J14: =I14/$I$2 -> 0.5
A15: =ROUND(SUM(J15*$F$2),2) -> 0.08 | B15: Kg | C15: Gruyère | D15: gerieben | F15: =SUM(E15*A15) -> 0 | I15: 0.075 | J15: =I15/$I$2 -> 0.01875
A16: =ROUND(SUM(J16*$F$2),2) -> 0.18 | B16: Kg | C16: Naturejoghurt | F16: =SUM(E16*A16) -> 0 | I16: 0.18 | J16: =I16/$I$2 -> 0.045
A17: =ROUND(SUM(J17*$F$2),2) -> 2 | B17: Stück | C17: Eier | D17: verquirlt | F17: =SUM(E17*A17) -> 0 | I17: 2 | J17: =I17/$I$2 -> 0.5
A18: =ROUND(SUM(J18*$F$2),2) -> 0 | F18: =SUM(E18*A18) -> 0 | J18: =I18/$I$2 -> 0
A19: =ROUND(SUM(J19*$F$2),2) -> 0 | F19: =SUM(E19*A19) -> 0 | J19: =I19/$I$2 -> 0
A20: =ROUND(SUM(J20*$F$2),2) -> 0 | F20: =SUM(E20*A20) -> 0 | J20: =I20/$I$2 -> 0
A21: Zubereitung | B21: ergeben 3 Muffins pro Person
A22: Ofen auf 200 Grad Ober- und Unterhitze vorheizen.
A23: Gemüse in Buttter andünsten und würzen.
A25: Mehl, Salz, Backpulver und Käse in einer Schüssel mischen. Joghurt und Eier dazugeben. Alles zu einem glatten Teig verarbeiten. Ausgekühltes Gemüse daruntermischen.
A27: Teig in die Muffin-Kapseln verteilen. In der Mitte des vorgeheizten Backofens 25 bis 30 Minuten backen.

Sheet Vorspeise 2
E1: Chochete vom | F1: =SUM(Menu!B3) -> 45834 | I1: Original Rezept
A2: =Menu!B7 -> 0 | E2: Rezept für | F2: =SUM(Menu!B19) -> 4 | I2: 4 | J2: Personen | L2: Menu Angaben wie folgt machen:
A3: Menge | B3: Einheit | C3: Artikel (Gewicht alles ca. Angaben) | D3: Bemerkungen | E3: Einkaufspreis | F3: Betrag | I3: Originalrezept | J3: pro Person
A4: =ROUND(SUM(J4*$F$2),2) -> 0 | F4: =SUM(E4*A4) -> 0 | J4: =I4/$I$2 -> 0 | L4: Kg | M4: 0.25
A5: =ROUND(SUM(J5*$F$2),2) -> 0 | F5: =SUM(E5*A5) -> 0 | J5: =I5/$I$2 -> 0 | L5: Lt | M5: 1.25
A6: =ROUND(SUM(J6*$F$2),2) -> 0 | F6: =SUM(E6*A6) -> 0 | J6: =I6/$I$2 -> 0 | L6: EL | M6: Esslöffel
A7: =ROUND(SUM(J7*$F$2),2) -> 0 | F7: =SUM(E7*A7) -> 0 | J7: =I7/$I$2 -> 0 | L7: TL | M7: Kaffeelöffel
A8: =ROUND(SUM(J8*$F$2),2) -> 0 | F8: =SUM(E8*A8) -> 0 | J8: =I8/$I$2 -> 0 | L8: Bund | M8: 1
A9: =ROUND(SUM(J9*$F$2),2) -> 0 | F9: =SUM(E9*A9) -> 0 | J9: =I9/$I$2 -> 0 | L9: Stk | M9: Stück
A10: =ROUND(SUM(J10*$F$2),2) -> 0 | F10: =SUM(E10*A10) -> 0 | J10: =I10/$I$2 -> 0 | L10: Pä | M10: Päckli
A11: =ROUND(SUM(J11*$F$2),2) -> 0 | F11: =SUM(E11*A11) -> 0 | J11: =I11/$I$2 -> 0 | L11: alles weitere ausschreiben
A12: =ROUND(SUM(J12*$F$2),2) -> 0 | F12: =SUM(E12*A12) -> 0 | J12: =I12/$I$2 -> 0
A13: =ROUND(SUM(J13*$F$2),2) -> 0 | F13: =SUM(E13*A13) -> 0 | J13: =I13/$I$2 -> 0
A14: =ROUND(SUM(J14*$F$2),2) -> 0 | F14: =SUM(E14*A14) -> 0 | J14: =I14/$I$2 -> 0
A15: =ROUND(SUM(J15*$F$2),2) -> 0 | F15: =SUM(E15*A15) -> 0 | J15: =I15/$I$2 -> 0
A16: =ROUND(SUM(J16*$F$2),2) -> 0 | F16: =SUM(E16*A16) -> 0 | J16: =I16/$I$2 -> 0
A17: =ROUND(SUM(J17*$F$2),2) -> 0 | F17: =SUM(E17*A17) -> 0 | J17: =I17/$I$2 -> 0
A18: =ROUND(SUM(J18*$F$2),2) -> 0 | F18: =SUM(E18*A18) -> 0 | J18: =I18/$I$2 -> 0
A19: =ROUND(SUM(J19*$F$2),2) -> 0 | F19: =SUM(E19*A19) -> 0 | J19: =I19/$I$2 -> 0
A20: =ROUND(SUM(J20*$F$2),2) -> 0 | F20: =SUM(E20*A20) -> 0 | J20: =I20/$I$2 -> 0
A21: Zubereitung

Sheet Hauptgang
E1: Chochete vom | F1: =SUM(Menu!B3) -> 45834 | I1: Original Rezept
A2: =Menu!B9 -> Torta da Charn (Fleischkuchen) | E2: Rezept für | F2: =SUM(Menu!B19) -> 4 | I2: 4 | J2: Personen | L2: Menu Angaben wie folgt machen:
A3: Menge | B3: Einheit | C3: Artikel | D3: Bemerkungen | E3: Einkaufspreis | F3: Betrag | I3: Originalrezept | J3: pro Person
A4: =ROUND(SUM(J4*$F$2),2) -> 0 | C4: Wähenform | D4: 23 cm Durchmesser | F4: =SUM(E4*A4) -> 0 | I4: 0 | J4: =I4/$I$2 -> 0 | L4: Kg | M4: 0.25
A5: =ROUND(SUM(J5*$F$2),2) -> 0 | F5: =SUM(E5*A5) -> 0 | J5: =I5/$I$2 -> 0 | L5: Lt | M5: 1.25
A6: =ROUND(SUM(J6*$F$2),2) -> 0.45 | B6: Kg | C6: gemischtes Hackfleisch | D6: Rind und Schwein | F6: =SUM(E6*A6) -> 0 | I6: 0.45 | J6: =I6/$I$2 -> 0.1125 | L6: EL | M6: Esslöffel
A7: =ROUND(SUM(J7*$F$2),2) -> 2 | B7: EL | C7: Sonnenblumenöl | F7: =SUM(E7*A7) -> 0 | I7: 2 | J7: =I7/$I$2 -> 0.5 | L7: TL | M7: Kaffeelöffel
A8: =ROUND(SUM(J8*$F$2),2) -> 1 | B8: Stück | C8: Zwiebel | D8: fein gehackt | F8: =SUM(E8*A8) -> 0 | I8: 1 | J8: =I8/$I$2 -> 0.25 | L8: Bund | M8: 1
A9: =ROUND(SUM(J9*$F$2),2) -> 1 | B9: Stück | C9: Knoblauchzehe | D9: fein gehackt | F9: =SUM(E9*A9) -> 0 | I9: 1 | J9: =I9/$I$2 -> 0.25 | L9: Stk | M9: Stück
A10: =ROUND(SUM(J10*$F$2),2) -> 1 | B10: EL | C10: Butter | F10: =SUM(E10*A10) -> 0 | I10: 1 | J10: =I10/$I$2 -> 0.25 | L10: Pä | M10: Päckli
A11: =ROUND(SUM(J11*$F$2),3) -> 0.15 | B11: Kg | C11: Speckwürfel | D11: geräuchert | F11: =SUM(E11*A11) -> 0 | I11: 0.15 | J11: =I11/$I$2 -> 0.0375 | L11: alles weitere ausschreiben
A12: =ROUND(SUM(J12*$F$2),2) -> 4 | B12: Stück | C12: Thymianzweige | F12: =SUM(E12*A12) -> 0 | I12: 4 | J12: =I12/$I$2 -> 1
A13: =ROUND(SUM(J13*$F$2),2) -> 0.08 | B13: Kg | C13: Weissbrot | D13: kleine Würfel | F13: =SUM(E13*A13) -> 0 | I13: 0.08 | J13: =I13/$I$2 -> 0.02
A14: =ROUND(SUM(J14*$F$2),2) -> 4 | B14: EL | C14: Milch | F14: =SUM(E14*A14) -> 0 | I14: 4 | J14: =I14/$I$2 -> 1
A15: =ROUND(SUM(J15*$F$2),2) -> 0.15 | B15: Lt | C15: Rahm | F15: =SUM(E15*A15) -> 0 | I15: 0.15 | J15: =I15/$I$2 -> 0.0375
A16: =ROUND(SUM(J16*$F$2),2) -> 0 | C16: Salz, Pfeffer aus der Mühle | F16: =SUM(E16*A16) -> 0 | J16: =I16/$I$2 -> 0
A17: =ROUND(SUM(J17*$F$2),2) -> 1 | B17: Stück | C17: Eigelb | F17: =SUM(E17*A17) -> 0 | I17: 1 | J17: =I17/$I$2 -> 0.25
A18: =ROUND(SUM(J18*$F$2),2) -> 1 | B18: EL | C18: Milch | F18: =SUM(E18*A18) -> 0 | I18: 1 | J18: =I18/$I$2 -> 0.25
A19: =ROUND(SUM(J19*$F$2),2) -> 2 | B19: Stück | C19: Blätterteig | D19: 32 cm Durchmesser | F19: =SUM(E19*A19) -> 0 | I19: 2 | J19: =I19/$I$2 -> 0.5
A20: =ROUND(SUM(J20*$F$2),2) -> 0 | F20: =SUM(E20*A20) -> 0 | J20: =I20/$I$2 -> 0
A21: Zubereitung
A22: Das Hackfleisch ca. 3 bis 4 Minuten im heissen Sonnenblumenöl anbraten, danach beiseitestellen.
A23: Die Zwiebel und den Knoblauch in der Butter 6 bis 8 Minuten goldig dünsten.
A24: Die Speckwürfel und den gezupften Thymian 2 Minuten mitdünsten und alles zum Hackfleisch geben.
A25: Die in wenig Milch eingeweichten Brotwürfel mit dem Rahm unter die Füllung mischen und mit Salz und Pfeffer abschmecken.
A26: Ein Blätterteigblatt mit dem Backpapier auf das Blech legen und einen 3 bis 4 cm hohen Rand hochziehen.
A27: Die ausgekühlte Masse darauf verteilen.
A28: Das zweite Teigblatt zu einem Deckel von ca. 24 cm Durchmesser ausschneiden. Auf die Masse legen und mit Eigelb bestreichen.
A29: Den stehenden Rand über den Deckel falten, gut andrücken und den Deckel mit einer Gabel gleichmässig einstechen.
A30: Im vorgeheizten Ofen bei 180 Grad ca. 40 Minuten goldbraun backen.
A31: Fleischtorte aus der Form nehmen und in beliebig grosse Stücke schneiden.

Sheet Beilage1
E1: Chochete vom | F1: =SUM(Menu!B3) -> 45834 | I1: Original Rezept
A2: =Menu!B10 -> Wildkräutersalat mit Tomaten und Radicchio | E2: Rezept für | F2: =SUM(Menu!B19) -> 4 | I2: 4 | J2: Personen | L2: Menu Angaben wie folgt machen:
A3: Menge | B3: Einheit | C3: Artikel | D3: Bemerkungen | E3: Einkaufspreis | F3: Betrag | I3: Originalrezept | J3: pro Person
A4: =ROUND(SUM(J4*$F$2),2) -> 0.04 | B4: Kg | C4: Bulgur | F4: =SUM(E4*A4) -> 0 | I4: 0.04 | J4: =I4/$I$2 -> 0.01 | L4: Kg | M4: 0.25
A5: =ROUND(SUM(J5*$F$2),2) -> 0.05 | B5: Kg | C5: Wildkräuter | F5: =SUM(E5*A5) -> 0 | I5: 0.05 | J5: =I5/$I$2 -> 0.0125 | L5: Lt | M5: 1.25
A6: =ROUND(SUM(J6*$F$2),2) -> 0.15 | B6: Kg | C6: Radicchio | F6: =SUM(E6*A6) -> 0 | I6: 0.15 | J6: =I6/$I$2 -> 0.0375 | L6: EL | M6: Esslöffel
A7: =ROUND(SUM(J7*$F$2),2) -> 0.12 | B7: Kg | C7: Kirschtomaten | D7: rot und gelb | F7: =SUM(E7*A7) -> 0 | I7: 0.12 | J7: =I7/$I$2 -> 0.03 | L7: TL | M7: Kaffeelöffel
A8: =ROUND(SUM(J8*$F$2),2) -> 0 | F8: =SUM(E8*A8) -> 0 | J8: =I8/$I$2 -> 0 | L8: Bund | M8: 1
A9: =ROUND(SUM(J9*$F$2),2) -> 0 | C9: Dressing | F9: =SUM(E9*A9) -> 0 | J9: =I9/$I$2 -> 0 | L9: Stk | M9: Stück
A10: =ROUND(SUM(J10*$F$2),2) -> 0 | F10: =SUM(E10*A10) -> 0 | J10: =I10/$I$2 -> 0 | L10: Pä | M10: Päckli
A11: =ROUND(SUM(J11*$F$2),3) -> 2 | B11: EL | C11: Himbeeressig | F11: =SUM(E11*A11) -> 0 | I11: 2 | J11: =I11/$I$2 -> 0.5 | L11: alles weitere ausschreiben
A12: =ROUND(SUM(J12*$F$2),2) -> 1 | B12: EL | C12: Zitronensaft | F12: =SUM(E12*A12) -> 0 | I12: 1 | J12: =I12/$I$2 -> 0.25
A13: =ROUND(SUM(J13*$F$2),2) -> 0 | C13: Salz und Pfeffer | F13: =SUM(E13*A13) -> 0 | J13: =I13/$I$2 -> 0
A14: =ROUND(SUM(J14*$F$2),2) -> 1 | B14: TL | C14: Honig | F14: =SUM(E14*A14) -> 0 | I14: 1 | J14: =I14/$I$2 -> 0.25
A15: =ROUND(SUM(J15*$F$2),2) -> 2 | B15: EL | C15: Walnussöl | F15: =SUM(E15*A15) -> 0 | I15: 2 | J15: =I15/$I$2 -> 0.5
A16: =ROUND(SUM(J16*$F$2),2) -> 4 | B16: EL | C16: Olivenöl | F16: =SUM(E16*A16) -> 0 | I16: 4 | J16: =I16/$I$2 -> 1
A17: =ROUND(SUM(J17*$F$2),2) -> 0.05 | B17: Kg | C17: Sonnenblumenkerne | D17: geröstet | F17: =SUM(E17*A17) -> 0 | I17: 0.045 | J17: =I17/$I$2 -> 0.01125
A18: =ROUND(SUM(J18*$F$2),2) -> 0 | F18: =SUM(E18*A18) -> 0 | J18: =I18/$I$2 -> 0
A19: =ROUND(SUM(J19*$F$2),2) -> 1 | B19: Stück | C19: Brot | F19: =SUM(E19*A19) -> 0 | I19: 1 | J19: =I19/$I$2 -> 0.25
A20: =ROUND(SUM(J20*$F$2),2) -> 0 | F20: =SUM(E20*A20) -> 0 | J20: =I20/$I$2 -> 0
A21: Zubereitung
A22: Bulgur unter fliessendem Wasser reinigen. Anschliessend mit der 1,5-fachen Menge Wasser und etwas Salz in einen Topf geben. Alles zum Kochen bringen. Sobald das Wasser kocht, die Hitze reduzieren und den Bulgur für ca. 20 Minuten mit geschlossenem Deckel köcheln lassen. Danach den Bulgur auskühlen lassen.
A23: Wildkräuter putzen, waschen, verlesen und trocken schleudern.
A24: Radicchio putzen, waschen und und in ca. 5 mm breite Streifen schneiden.
A25: Kirschtomaten waschen und je nach Grösse halbieren oder vierteln.
A27: Für das Dressing Himbeeressig, Zitronensaft, Honig, Walnussöl, Olivenöl, Salz und Pfeffer gut verrühren und abschmecken.
A29: Sonnenblumenkerne rösten.
A31: Vorbereitete Salatzutaten in einer Schüssel mit dem Dressing übergiessen und vorsichtig vermengen.
A32: Auf Teller verteilen, mit Bulgur und Sonnenblumenkernen bestreuen und mit Pfeffer übermahlen.

Sheet Beilage2
E1: Chochete vom | F1: =SUM(Menu!B3) -> 45834 | I1: Original Rezept
A2: =Menu!B11 -> 0 | E2: Rezept für | F2: =SUM(Menu!B19) -> 4 | I2: 4 | J2: Personen | L2: Menu Angaben wie folgt machen:
A3: Menge | B3: Einheit | C3: Artikel | D3: Bemerkungen | E3: Einkaufspreis | F3: Betrag | I3: Originalrezept | J3: pro Person
A4: =ROUND(SUM(J4*$F$2),2) -> 0 | F4: =SUM(E4*A4) -> 0 | J4: =I4/$I$2 -> 0 | L4: Kg | M4: 0.25
A5: =ROUND(SUM(J5*$F$2),2) -> 0 | F5: =SUM(E5*A5) -> 0 | J5: =I5/$I$2 -> 0 | L5: Lt | M5: 1.25
A6: =ROUND(SUM(J6*$F$2),2) -> 0 | F6: =SUM(E6*A6) -> 0 | J6: =I6/$I$2 -> 0 | L6: EL | M6: Esslöffel
A7: =ROUND(SUM(J7*$F$2),2) -> 0 | F7: =SUM(E7*A7) -> 0 | J7: =I7/$I$2 -> 0 | L7: TL | M7: Kaffeelöffel
A8: =ROUND(SUM(J8*$F$2),2) -> 0 | F8: =SUM(E8*A8) -> 0 | J8: =I8/$I$2 -> 0 | L8: Bund | M8: 1
A9: =ROUND(SUM(J9*$F$2),2) -> 0 | F9: =SUM(E9*A9) -> 0 | J9: =I9/$I$2 -> 0 | L9: Stk | M9: Stück
A10: =ROUND(SUM(J10*$F$2),2) -> 0 | F10: =SUM(E10*A10) -> 0 | J10: =I10/$I$2 -> 0 | L10: Pä | M10: Päckli
A11: =ROUND(SUM(J11*$F$2),3) -> 0 | F11: =SUM(E11*A11) -> 0 | J11: =I11/$I$2 -> 0 | L11: alles weitere ausschreiben
A12: =ROUND(SUM(J12*$F$2),2) -> 0 | F12: =SUM(E12*A12) -> 0 | J12: =I12/$I$2 -> 0
A13: =ROUND(SUM(J13*$F$2),2) -> 0 | F13: =SUM(E13*A13) -> 0 | J13: =I13/$I$2 -> 0
A14: =ROUND(SUM(J14*$F$2),2) -> 0 | F14: =SUM(E14*A14) -> 0 | J14: =I14/$I$2 -> 0
A15: =ROUND(SUM(J15*$F$2),2) -> 0 | F15: =SUM(E15*A15) -> 0 | J15: =I15/$I$2 -> 0
A16: =ROUND(SUM(J16*$F$2),2) -> 0 | F16: =SUM(E16*A16) -> 0 | J16: =I16/$I$2 -> 0
A17: =ROUND(SUM(J17*$F$2),2) -> 0 | F17: =SUM(E17*A17) -> 0 | J17: =I17/$I$2 -> 0
A18: =ROUND(SUM(J18*$F$2),2) -> 0 | F18: =SUM(E18*A18) -> 0 | J18: =I18/$I$2 -> 0
A19: =ROUND(SUM(J19*$F$2),2) -> 0 | F19: =SUM(E19*A19) -> 0 | J19: =I19/$I$2 -> 0
A20: =ROUND(SUM(J20*$F$2),2) -> 0 | F20: =SUM(E20*A20) -> 0 | J20: =I20/$I$2 -> 0
A21: Zubereitung

Sheet Dessert
E1: Chochete vom | F1: =SUM(Menu!B3) -> 45834 | I1: Original Rezept
A2: =Menu!B13 -> Griessköpfli mit Apfelstückchen | E2: Rezept für | F2: =SUM(Menu!B19) -> 4 | I2: 4 | J2: Personen | L2: Menu Angaben wie folgt machen:
A3: Menge | B3: Einheit | C3: Artikel | D3: Bemerkungen | E3: Einkaufspreis | F3: Betrag | I3: Originalrezept | J3: pro Person
A4: =ROUND(SUM(J4*$F$2),2) -> 0 | C4: Griessköpfli | F4: =SUM(E4*A4) -> 0 | I4: 0 | J4: =I4/$I$2 -> 0 | L4: Kg | M4: 0.25
A5: =ROUND(SUM(J5*$F$2),2) -> 0 | F5: =SUM(E5*A5) -> 0 | I5: 0 | J5: =I5/$I$2 -> 0 | L5: Lt | M5: 1.25
A6: =ROUND(SUM(J6*$F$2),2) -> 0.5 | B6: Liter | C6: Milch | F6: =SUM(E6*A6) -> 0 | I6: 0.5 | J6: =I6/$I$2 -> 0.125 | L6: EL | M6: Esslöffel
A7: =ROUND(SUM(J7*$F$2),2) -> 2 | B7: Prise | C7: Salz | F7: =SUM(E7*A7) -> 0 | I7: 2 | J7: =I7/$I$2 -> 0.5 | L7: KL | M7: Kaffeelöffel
A8: =ROUND(SUM(J8*$F$2),2) -> 0.1 | B8: Kg | C8: Hartweizenkochgriess | F8: =SUM(E8*A8) -> 0 | I8: 0.1 | J8: =I8/$I$2 -> 0.025 | L8: Bund | M8: 1
A9: =ROUND(SUM(J9*$F$2),2) -> 4 | B9: EL | C9: Zucker | F9: =SUM(E9*A9) -> 0 | I9: 4 | J9: =I9/$I$2 -> 1 | L9: Stk | M9: Stück
A10: =ROUND(SUM(J10*$F$2),3) -> 1 | B10: Stück | C10: Zitrone | F10: =SUM(E10*A10) -> 0 | I10: 1 | J10: =I10/$I$2 -> 0.25 | L10: Pä | M10: Päckli
A11: =ROUND(SUM(J11*$F$2),2) -> 0.06 | B11: Liter | C11: flüssiger Rahm | F11: =SUM(E11*A11) -> 0 | I11: 0.06 | J11: =I11/$I$2 -> 0.015 | L11: alles weitere ausschreiben
A12: =ROUND(SUM(J12*$F$2),2) -> 0 | F12: =SUM(E12*A12) -> 0 | I12: 0 | J12: =I12/$I$2 -> 0
A13: =ROUND(SUM(J13*$F$2),2) -> 0 | C13: Äpfel | F13: =SUM(E13*A13) -> 0 | J13: =I13/$I$2 -> 0
A14: =ROUND(SUM(J14*$F$2),2) -> 0 | F14: =SUM(E14*A14) -> 0 | J14: =I14/$I$2 -> 0
A15: =ROUND(SUM(J15*$F$2),2) -> 3 | B15: Stück | C15: Äpfel | D15: süss-säuerlich | F15: =SUM(E15*A15) -> 0 | I15: 3 | J15: =I15/$I$2 -> 0.75
A16: =ROUND(SUM(J16*$F$2),2) -> 1 | B16: Stück | C16: Zitrone | F16: =SUM(E16*A16) -> 0 | I16: 1 | J16: =I16/$I$2 -> 0.25
A17: =ROUND(SUM(J17*$F$2),2) -> 2 | B17: EL | C17: Zucker | F17: =SUM(E17*A17) -> 0 | I17: 2 | J17: =I17/$I$2 -> 0.5
A18: =ROUND(SUM(J18*$F$2),2) -> 1 | B18: Prise | C18: Zimt | F18: =SUM(E18*A18) -> 0 | I18: 1 | J18: =I18/$I$2 -> 0.25
A19: =ROUND(SUM(J19*$F$2),2) -> 0 | F19: =SUM(E19*A19) -> 0 | J19: =I19/$I$2 -> 0
A20: =ROUND(SUM(J20*$F$2),2) -> 8 | B20: EL | C20: geschlagener Rahm | D20: Dekoration | F20: =SUM(E20*A20) -> 0 | I20: 8 | J20: =I20/$I$2 -> 2
A21: Zubereitung
A22: Milch und Salz aufkochen. Griess dazugeben und bei kleiner Hitze ca. 10 Minuten quellen lassen.
A23: Etwas Zitronenschale fein abreiben. Zitrone auspressen. Schale und Saft mit Zucker unter den Griess rühren. Flüssigen Rahm dazugeben.
A24: Förmchen kalt ausspülen, Griessmasse einfüllen und für mindestens 30 Minuten kühl stellen.
A26: Äpfel entkernen und klein schneiden. Zitrone auspressen. Äpfel mit Zucker, Zitronensaft und Zimt auf kleiner Hitze ca. 2 bis 5 Minuten köcheln und anschliessend auskühlen lassen.
A28: Griessköpfli auf einen Teller stürzen, Äpfel dazugeben und mit geschlagenem Rahm dekorieren.

Sheet Diverses
E1: Chochete vom | F1: =SUM(Menu!B3) -> 45834 | I1: Original Rezept
A2: =Menu!B15 -> 0 | E2: Rezept für | F2: =SUM(Menu!B19) -> 4 | J2: Personen | L2: Menu Angaben wie folgt machen:
A3: Menge | B3: Einheit | C3: Artikel (Gewicht alles ca. Angaben) | D3: Bemerkungen | E3: Einkaufspreis | F3: Betrag | I3: Originalrezept | J3: pro Person
A4: =ROUND(SUM(J4*$F$2),2) -> #DIV/0! | F4: =SUM(E4*A4) -> #DIV/0! | J4: =I4/$I$2 -> #DIV/0! | L4: Kg | M4: 0.25
A5: =ROUND(SUM(J5*$F$2),2) -> #DIV/0! | F5: =SUM(E5*A5) -> #DIV/0! | J5: =I5/$I$2 -> #DIV/0! | L5: Lt | M5: 1.25
A6: =ROUND(SUM(J6*$F$2),2) -> #DIV/0! | F6: =SUM(E6*A6) -> #DIV/0! | J6: =I6/$I$2 -> #DIV/0! | L6: EL | M6: Esslöffel
A7: =ROUND(SUM(J7*$F$2),2) -> #DIV/0! | F7: =SUM(E7*A7) -> #DIV/0! | J7: =I7/$I$2 -> #DIV/0! | L7: KL | M7: Kaffeelöffel
A8: =ROUND(SUM(J8*$F$2),2) -> #DIV/0! | F8: =SUM(E8*A8) -> #DIV/0! | J8: =I8/$I$2 -> #DIV/0! | L8: Bund | M8: 1
A9: =ROUND(SUM(J9*$F$2),2) -> #DIV/0! | F9: =SUM(E9*A9) -> #DIV/0! | J9: =I9/$I$2 -> #DIV/0! | L9: Stk | M9: Stück
A10: =ROUND(SUM(J10*$F$2),2) -> #DIV/0! | F10: =SUM(E10*A10) -> #DIV/0! | J10: =I10/$I$2 -> #DIV/0! | L10: Pä | M10: Päckli
A11: =ROUND(SUM(J11*$F$2),2) -> #DIV/0! | F11: =SUM(E11*A11) -> #DIV/0! | J11: =I11/$I$2 -> #DIV/0! | L11: alles weitere ausschreiben
A12: =ROUND(SUM(J12*$F$2),2) -> #DIV/0! | F12: =SUM(E12*A12) -> #DIV/0! | J12: =I12/$I$2 -> #DIV/0!
A13: =ROUND(SUM(J13*$F$2),2) -> #DIV/0! | F13: =SUM(E13*A13) -> #DIV/0! | J13: =I13/$I$2 -> #DIV/0!
A14: =ROUND(SUM(J14*$F$2),2) -> #DIV/0! | F14: =SUM(E14*A14) -> #DIV/0! | J14: =I14/$I$2 -> #DIV/0!
A15: =ROUND(SUM(J15*$F$2),2) -> #DIV/0! | F15: =SUM(E15*A15) -> #DIV/0! | J15: =I15/$I$2 -> #DIV/0!
A16: =ROUND(SUM(J16*$F$2),2) -> #DIV/0! | F16: =SUM(E16*A16) -> #DIV/0! | J16: =I16/$I$2 -> #DIV/0!
A17: =ROUND(SUM(J17*$F$2),2) -> #DIV/0! | F17: =SUM(E17*A17) -> #DIV/0! | J17: =I17/$I$2 -> #DIV/0!
A18: =ROUND(SUM(J18*$F$2),2) -> #DIV/0! | F18: =SUM(E18*A18) -> #DIV/0! | J18: =I18/$I$2 -> #DIV/0!
A19: =ROUND(SUM(J19*$F$2),2) -> #DIV/0! | F19: =SUM(E19*A19) -> #DIV/0! | J19: =I19/$I$2 -> #DIV/0!
A20: =ROUND(SUM(J20*$F$2),2) -> #DIV/0! | F20: =SUM(E20*A20) -> #DIV/0! | J20: =I20/$I$2 -> #DIV/0!
A21: Zubereitung

Sheet Einkaufsliste
A1: Hobby-Küche Zug | C1: Einkaufsliste | D1: =Dessert!F1 -> 45834 | E1: ok
A2: Menge | B2: Einheit | C2: Artikel
A3: ='Vorspeise 1'!A2 -> Eier - Gemüse - Muffins | D3: Bemerkungen
A4: =SUM('Vorspeise 1'!A4) -> 12 | B4: ='Vorspeise 1'!B4 -> Stück | C4: ='Vorspeise 1'!C4 -> Papierkapseln | D4: ='Vorspeise 1'!D4 -> 0
A5: =SUM('Vorspeise 1'!A5) -> 0 | B5: ='Vorspeise 1'!B5 -> 0 | C5: ='Vorspeise 1'!C5 -> 0 | D5: ='Vorspeise 1'!D5 -> 0
A6: =SUM('Vorspeise 1'!A6) -> 2 | B6: ='Vorspeise 1'!B6 -> Stück | C6: ='Vorspeise 1'!C6 -> Rüebli | D6: ='Vorspeise 1'!D6 -> klein gewürfelt
A7: =SUM('Vorspeise 1'!A7) -> 0.05 | B7: ='Vorspeise 1'!B7 -> Kg | C7: ='Vorspeise 1'!C7 -> Erbsli | D7: ='Vorspeise 1'!D7 -> tiefgekühlt
A8: =SUM('Vorspeise 1'!A8) -> 0.1 | B8: ='Vorspeise 1'!B8 -> Kg | C8: ='Vorspeise 1'!C8 -> Lauch | D8: ='Vorspeise 1'!D8 -> in feinen Streifen
A9: =SUM('Vorspeise 1'!A9) -> 1 | B9: ='Vorspeise 1'!B9 -> EL | C9: ='Vorspeise 1'!C9 -> Butter | D9: ='Vorspeise 1'!D9 -> 0
A10: =SUM('Vorspeise 1'!A10) -> 1 | B10: ='Vorspeise 1'!B10 -> Prise | C10: ='Vorspeise 1'!C10 -> Salz und Pfeffer | D10: ='Vorspeise 1'!D10 -> Gemüse würzen
A11: =SUM('Vorspeise 1'!A11) -> 0 | B11: ='Vorspeise 1'!B11 -> 0 | C11: ='Vorspeise 1'!C11 -> 0 | D11: ='Vorspeise 1'!D11 -> 0
A12: =SUM('Vorspeise 1'!A12) -> 0.25 | B12: ='Vorspeise 1'!B12 -> Kg | C12: ='Vorspeise 1'!C12 -> Mehl | D12: ='Vorspeise 1'!D12 -> 0
A13: =SUM('Vorspeise 1'!A13) -> 1 | B13: ='Vorspeise 1'!B13 -> TL | C13: ='Vorspeise 1'!C13 -> Salz | D13: ='Vorspeise 1'!D13 -> 0
A14: =SUM('Vorspeise 1'!A14) -> 2 | B14: ='Vorspeise 1'!B14 -> TL | C14: ='Vorspeise 1'!C14 -> Backpulver | D14: ='Vorspeise 1'!D14 -> 0
A15: =SUM('Vorspeise 1'!A15) -> 0.08 | B15: ='Vorspeise 1'!B15 -> Kg | C15: ='Vorspeise 1'!C15 -> Gruyère | D15: ='Vorspeise 1'!D15 -> gerieben
... A20: =SUM('Vorspeise 1'!A20) -> 0 | B20: ='Vorspeise 1'!B20 -> 0 | C20: ='Vorspeise 1'!C20 -> 0 | D20: ='Vorspeise 1'!D20 -> 0
A21: ='Vorspeise 2'!A2 -> 0 | D21: Bemerkungen
A22: =SUM('Vorspeise 2'!A4) -> 0 | B22: ='Vorspeise 2'!B4 -> 0 | C22: ='Vorspeise 2'!C4 -> 0 | D22: ='Vorspeise 2'!D4 -> 0
A23: =SUM('Vorspeise 2'!A5) -> 0 | B23: ='Vorspeise 2'!B5 -> 0 | C23: ='Vorspeise 2'!C5 -> 0 | D23: ='Vorspeise 2'!D5 -> 0
A24: =SUM('Vorspeise 2'!A6) -> 0 | B24: ='Vorspeise 2'!B6 -> 0 | C24: ='Vorspeise 2'!C6 -> 0 | D24: ='Vorspeise 2'!D6 -> 0
A25: =SUM('Vorspeise 2'!A7) -> 0 | B25: ='Vorspeise 2'!B7 -> 0 | C25: ='Vorspeise 2'!C7 -> 0 | D25: ='Vorspeise 2'!D7 -> 0
A26: =SUM('Vorspeise 2'!A8) -> 0 | B26: ='Vorspeise 2'!B8 -> 0 | C26: ='Vorspeise 2'!C8 -> 0 | D26: ='Vorspeise 2'!D8 -> 0
A27: =SUM('Vorspeise 2'!A9) -> 0 | B27: ='Vorspeise 2'!B9 -> 0 | C27: ='Vorspeise 2'!C9 -> 0 | D27: ='Vorspeise 2'!D9 -> 0
A28: =SUM('Vorspeise 2'!A10) -> 0 | B28: ='Vorspeise 2'!B10 -> 0 | C28: ='Vorspeise 2'!C10 -> 0 | D28: ='Vorspeise 2'!D10 -> 0
A29: =SUM('Vorspeise 2'!A11) -> 0 | B29: ='Vorspeise 2'!B11 -> 0 | C29: ='Vorspeise 2'!C11 -> 0 | D29: ='Vorspeise 2'!D11 -> 0
A30: =SUM('Vorspeise 2'!A12) -> 0 | B30: ='Vorspeise 2'!B12 -> 0 | C30: ='Vorspeise 2'!C12 -> 0 | D30: ='Vorspeise 2'!D12 -> 0
A31: =SUM('Vorspeise 2'!A13) -> 0 | B31: ='Vorspeise 2'!B13 -> 0 | C31: ='Vorspeise 2'!C13 -> 0 | D31: ='Vorspeise 2'!D13 -> 0
A32: =SUM('Vorspeise 2'!A14) -> 0 | B32: ='Vorspeise 2'!B14 -> 0 | C32: ='Vorspeise 2'!C14 -> 0 | D32: ='Vorspeise 2'!D14 -> 0
A33: =SUM('Vorspeise 2'!A15) -> 0 | B33: ='Vorspeise 2'!B15 -> 0 | C33: ='Vorspeise 2'!C15 -> 0 | D33: ='Vorspeise 2'!D15 -> 0
... A38: =SUM('Vorspeise 2'!A20) -> 0 | B38: ='Vorspeise 2'!B20 -> 0 | C38: ='Vorspeise 2'!C20 -> 0 | D38: ='Vorspeise 2'!D20 -> 0
A39: =Hauptgang!A2 -> Torta da Charn (Fleischkuchen) | D39: Bemerkungen
A40: =SUM(Hauptgang!A4) -> 0 | B40: =Hauptgang!B4 -> 0 | C40: =Hauptgang!C4 -> Wähenform | D40: =Hauptgang!D4 -> 23 cm Durchmesser
A41: =SUM(Hauptgang!A5) -> 0 | B41: =Hauptgang!B5 -> 0 | C41: =Hauptgang!C5 -> 0 | D41: =Hauptgang!D5 -> 0
A42: =SUM(Hauptgang!A6) -> 0.45 | B42: =Hauptgang!B6 -> Kg | C42: =Hauptgang!C6 -> gemischtes Hackfleisch | D42: =Hauptgang!D6 -> Rind und Schwein
A43: =SUM(Hauptgang!A7) -> 2 | B43: =Hauptgang!B7 -> EL | C43: =Hauptgang!C7 -> Sonnenblumenöl | D43: =Hauptgang!D7 -> 0
A44: =SUM(Hauptgang!A8) -> 1 | B44: =Hauptgang!B8 -> Stück | C44: =Hauptgang!C8 -> Zwiebel | D44: =Hauptgang!D8 -> fein gehackt
A45: =SUM(Hauptgang!A9) -> 1 | B45: =Hauptgang!B9 -> Stück | C45: =Hauptgang!C9 -> Knoblauchzehe | D45: =Hauptgang!D9 -> fein gehackt
A46: =SUM(Hauptgang!A10) -> 1 | B46: =Hauptgang!B10 -> EL | C46: =Hauptgang!C10 -> Butter | D46: =Hauptgang!D10 -> 0
A47: =SUM(Hauptgang!A11) -> 0.15 | B47: =Hauptgang!B11 -> Kg | C47: =Hauptgang!C11 -> Speckwürfel | D47: =Hauptgang!D11 -> geräuchert
A48: =SUM(Hauptgang!A12) -> 4 | B48: =Hauptgang!B12 -> Stück | C48: =Hauptgang!C12 -> Thymianzweige | D48: =Hauptgang!D12 -> 0
A49: =SUM(Hauptgang!A13) -> 0.08 | B49: =Hauptgang!B13 -> Kg | C49: =Hauptgang!C13 -> Weissbrot | D49: =Hauptgang!D13 -> kleine Würfel
A50: =SUM(Hauptgang!A14) -> 4 | B50: =Hauptgang!B14 -> EL | C50: =Hauptgang!C14 -> Milch | D50: =Hauptgang!D14 -> 0
A51: =SUM(Hauptgang!A15) -> 0.15 | B51: =Hauptgang!B15 -> Lt | C51: =Hauptgang!C15 -> Rahm | D51: =Hauptgang!D15 -> 0
... A56: =SUM(Hauptgang!A20) -> 0 | B56: =Hauptgang!B20 -> 0 | C56: =Hauptgang!C20 -> 0 | D56: =Hauptgang!D20 -> 0
A57: =Beilage1!A2 -> Wildkräutersalat mit Tomaten und Radicchio | D57: Bemerkungen
A58: =Beilage1!A4 -> 0.04 | B58: =Beilage1!B4 -> Kg | C58: =Beilage1!C4 -> Bulgur | D58: =Beilage1!D4 -> 0
A59: =Beilage1!A5 -> 0.05 | B59: =Beilage1!B5 -> Kg | C59: =Beilage1!C5 -> Wildkräuter | D59: =Beilage1!D5 -> 0
A60: =Beilage1!A6 -> 0.15 | B60: =Beilage1!B6 -> Kg | C60: =Beilage1!C6 -> Radicchio | D60: =Beilage1!D6 -> 0
A61: =Beilage1!A7 -> 0.12 | B61: =Beilage1!B7 -> Kg | C61: =Beilage1!C7 -> Kirschtomaten | D61: =Beilage1!D7 -> rot und gelb
A62: 1 | B62: Pack | C62: Jungblattsalat | D62: =Beilage1!D8 -> 0
A63: =Beilage1!A9 -> 0 | B63: =Beilage1!B9 -> 0 | C63: =Beilage1!C9 -> Dressing | D63: =Beilage1!D9 -> 0
A64: =Beilage1!A10 -> 0 | B64: =Beilage1!B10 -> 0 | C64: =Beilage1!C10 -> 0 | D64: =Beilage1!D10 -> 0
A65: =Beilage1!A11 -> 2 | B65: =Beilage1!B11 -> EL | C65: =Beilage1!C11 -> Himbeeressig | D65: =Beilage1!D11 -> 0
A66: =Beilage1!A12 -> 1 | B66: =Beilage1!B12 -> EL | C66: =Beilage1!C12 -> Zitronensaft | D66: =Beilage1!D12 -> 0
A67: =Beilage1!A13 -> 0 | B67: =Beilage1!B13 -> 0 | C67: =Beilage1!C13 -> Salz und Pfeffer | D67: =Beilage1!D13 -> 0
A68: =Beilage1!A14 -> 1 | B68: =Beilage1!B14 -> TL | C68: =Beilage1!C14 -> Honig | D68: =Beilage1!D14 -> 0
A69: =Beilage1!A15 -> 2 | B69: =Beilage1!B15 -> EL | C69: =Beilage1!C15 -> Walnussöl | D69: =Beilage1!D15 -> 0
A70: =Beilage1!A16 -> 4 | B70: =Beilage1!B16 -> EL | C70: =Beilage1!C16 -> Olivenöl | D70: =Beilage1!D16 -> 0
A71: =Beilage1!A17 -> 0.05 | B71: =Beilage1!B17 -> Kg | C71: =Beilage1!C17 -> Sonnenblumenkerne | D71: =Beilage1!D17 -> geröstet
A72: =Beilage1!A18 -> 0 | B72: =Beilage1!B18 -> 0 | C72: =Beilage1!C18 -> 0 | D72: =Beilage1!D18 -> 0
A73: =Beilage1!A19 -> 1 | B73: =Beilage1!B19 -> Stück | C73: =Beilage1!C19 -> Brot | D73: =Beilage1!D19 -> 0
A74: =Beilage1!A20 -> 0 | B74: =Beilage1!B20 -> 0 | C74: =Beilage1!C20 -> 0 | D74: =Beilage1!D20 -> 0
A75: =Beilage2!A2 -> 0
A76: =SUM(Beilage2!A4) -> 0 | B76: =Beilage2!B4 -> 0 | C76: =Beilage2!C4 -> 0 | D76: =Beilage2!D4 -> 0
A77: =SUM(Beilage2!A5) -> 0 | B77: =Beilage2!B5 -> 0 | C77: =Beilage2!C5 -> 0 | D77: =Beilage2!D5 -> 0
A78: =SUM(Beilage2!A6) -> 0 | B78: =Beilage2!B6 -> 0 | C78: =Beilage2!C6 -> 0 | D78: =Beilage2!D6 -> 0
A79: =SUM(Beilage2!A7) -> 0 | B79: =Beilage2!B7 -> 0 | C79: =Beilage2!C7 -> 0 | D79: =Beilage2!D7 -> 0
A80: =SUM(Beilage2!A8) -> 0 | B80: =Beilage2!B8 -> 0 | C80: =Beilage2!C8 -> 0 | D80: =Beilage2!D8 -> 0
A81: =SUM(Beilage2!A9) -> 0 | B81: =Beilage2!B9 -> 0 | C81: =Beilage2!C9 -> 0 | D81: =Beilage2!D9 -> 0
A82: =SUM(Beilage2!A10) -> 0 | B82: =Beilage2!B10 -> 0 | C82: =Beilage2!C10 -> 0 | D82: =Beilage2!D10 -> 0
A83: =SUM(Beilage2!A11) -> 0 | B83: =Beilage2!B11 -> 0 | C83: =Beilage2!C11 -> 0 | D83: =Beilage2!D11 -> 0
A84: =SUM(Beilage2!A12) -> 0 | B84: =Beilage2!B12 -> 0 | C84: =Beilage2!C12 -> 0 | D84: =Beilage2!D12 -> 0
A85: =SUM(Beilage2!A13) -> 0 | B85: =Beilage2!B13 -> 0 | C85: =Beilage2!C13 -> 0 | D85: =Beilage2!D13 -> 0
A86: =SUM(Beilage2!A14) -> 0 | B86: =Beilage2!B14 -> 0 | C86: =Beilage2!C14 -> 0 | D86: =Beilage2!D14 -> 0
A87: =SUM(Beilage2!A15) -> 0 | B87: =Beilage2!B15 -> 0 | C87: =Beilage2!C15 -> 0 | D87: =Beilage2!D15 -> 0
... A92: =SUM(Beilage2!A20) -> 0 | B92: =Beilage2!B20 -> 0 | C92: =Beilage2!C20 -> 0 | D92: =Beilage2!D20 -> 0
A93: =Dessert!A2 -> Griessköpfli mit Apfelstückchen | D93: Bemerkungen
A94: =SUM(Dessert!A4) -> 0 | B94: =Dessert!B4 -> 0 | C94: =Dessert!C4 -> Griessköpfli | D94: =Dessert!D4 -> 0
A95: =SUM(Dessert!A5) -> 0 | B95: =Dessert!B5 -> 0 | C95: =Dessert!C5 -> 0 | D95: =Dessert!D5 -> 0
A96: =SUM(Dessert!A6) -> 0.5 | B96: =Dessert!B6 -> Liter | C96: =Dessert!C6 -> Milch | D96: =Dessert!D6 -> 0
A97: =SUM(Dessert!A7) -> 2 | B97: =Dessert!B7 -> Prise | C97: =Dessert!C7 -> Salz | D97: =Dessert!D7 -> 0
A98: =SUM(Dessert!A8) -> 0.1 | B98: =Dessert!B8 -> Kg | C98: =Dessert!C8 -> Hartweizenkochgriess | D98: =Dessert!D8 -> 0
A99: =SUM(Dessert!A9) -> 4 | B99: =Dessert!B9 -> EL | C99: =Dessert!C9 -> Zucker | D99: =Dessert!D9 -> 0
A100: =SUM(Dessert!A10) -> 1 | B100: =Dessert!B10 -> Stück | C100: =Dessert!C10 -> Zitrone | D100: =Dessert!D10 -> 0
A101: =SUM(Dessert!A11) -> 0.06 | B101: =Dessert!B11 -> Liter | C101: =Dessert!C11 -> flüssiger Rahm | D101: =Dessert!D11 -> 0
A102: =SUM(Dessert!A12) -> 0 | B102: =Dessert!B12 -> 0 | C102: =Dessert!C12 -> 0 | D102: =Dessert!D12 -> 0
A103: =SUM(Dessert!A13) -> 0 | B103: =Dessert!B13 -> 0 | C103: =Dessert!C13 -> Äpfel | D103: =Dessert!D13 -> 0
A104: =SUM(Dessert!A14) -> 0 | B104: =Dessert!B14 -> 0 | C104: =Dessert!C14 -> 0 | D104: =Dessert!D14 -> 0
A105: =SUM(Dessert!A15) -> 3 | B105: =Dessert!B15 -> Stück | C105: =Dessert!C15 -> Äpfel | D105: =Dessert!D15 -> süss-säuerlich
... A110: =SUM(Dessert!A20) -> 8 | B110: =Dessert!B20 -> EL | C110: =Dessert!C20 -> geschlagener Rahm | D110: =Dessert!D20 -> Dekoration
A113: =SUM(Diverses!A4) -> #DIV/0! | B113: =Diverses!B4 -> 0 | C113: =Diverses!C4 -> 0 | D113: =Diverses!D4 -> 0
A114: =SUM(Diverses!A5) -> #DIV/0! | B114: =Diverses!B5 -> 0 | C114: =Diverses!C5 -> 0 | D114: =Diverses!D5 -> 0
A115: =SUM(Diverses!A6) -> #DIV/0! | B115: =Diverses!B6 -> 0 | C115: =Diverses!C6 -> 0 | D115: =Diverses!D6 -> 0
A116: =SUM(Diverses!A7) -> #DIV/0! | B116: =Diverses!B7 -> 0 | C116: =Diverses!C7 -> 0 | D116: =Diverses!D7 -> 0
A117: =SUM(Diverses!A8) -> #DIV/0! | B117: =Diverses!B8 -> 0 | C117: =Diverses!C8 -> 0 | D117: =Diverses!D8 -> 0
A118: =SUM(Diverses!A9) -> #DIV/0! | B118: =Diverses!B9 -> 0 | C118: =Diverses!C9 -> 0 | D118: =Diverses!D9 -> 0
A119: =SUM(Diverses!A10) -> #DIV/0! | B119: =Diverses!B10 -> 0 | C119: =Diverses!C10 -> 0 | D119: =Diverses!D10 -> 0
A120: =SUM(Diverses!A11) -> #DIV/0! | B120: =Diverses!B11 -> 0 | C120: =Diverses!C11 -> 0 | D120: =Diverses!D11 -> 0
A121: =SUM(Diverses!A12) -> #DIV/0! | B121: =Diverses!B12 -> 0 | C121: =Diverses!C12 -> 0 | D121: =Diverses!D12 -> 0
A122: =SUM(Diverses!A13) -> #DIV/0! | B122: =Diverses!B13 -> 0 | C122: =Diverses!C13 -> 0 | D122: =Diverses!D13 -> 0
...
