Workbook

Sheet Menu
B1: Familien Rezepte / Gross-Mutter's-, -Vater's Rezepte
A3: Datum | B3: 45736
A5: Vorspeise | B5: Gemüsebouillon mit Bärlauch-Flädli
A7: Hauptgang | B7: Rindssaftplätzli
A8: Beilage1 | B8: Polenta Bramata
A9: Beilage 2 | B9: Zucchettiauflauf
A11: Dessert | B11: Fotzelschnitte mit Apfel Kompott-Mus
A13: Menu von Tisch | B13: D
A15: Personenzahl | B15: 4

Sheet Vorspeise
E1: Chochete vom | F1: =Menu!B3 -> 45736 | I1: Original Rezept
A2: =Menu!B5 -> Gemüsebouillon mit Bärlauch-Flädli | E2: Rezept für | F2: =Menu!B15 -> 4 | I2: 4 | J2: Personen | L2: Menu Angaben wie folgt machen:
A3: Menge | B3: Einheit | C3: Artikel (Gewicht alles ca. Angaben) | D3: Bemerkungen | E3: Einkaufspreis | F3: Betrag | I3: Originalrezept | J3: pro Person
A4: =ROUND(SUM(J4*$F$2),2) -> 1 | B4: Stk | C4: Zwiebeln | F4: =SUM(E4*A4) -> 0 | I4: 1 | J4: =I4/$I$2 -> 0.25 | L4: Kg | M4: 0.25
A5: =ROUND(SUM(J5*$F$2),2) -> 0.5 | B5: EL | C5: Olivenöl | F5: =SUM(E5*A5) -> 0 | I5: 0.5 | J5: =I5/$I$2 -> 0.125 | L5: Lt | M5: 1.25
A6: =ROUND(SUM(J6*$F$2),2) -> 1.5 | B6: Stk | C6: Rüebli | F6: =SUM(E6*A6) -> 0 | I6: 1.5 | J6: =I6/$I$2 -> 0.375 | L6: EL | M6: Esslöffel
A7: =ROUND(SUM(J7*$F$2),2) -> 1 | B7: Stk | C7: Knollenselerie | F7: =SUM(E7*A7) -> 0 | I7: 1 | J7: =I7/$I$2 -> 0.25 | L7: TL | M7: Kaffeelöffel
A8: =ROUND(SUM(J8*$F$2),2) -> 1 | B8: Stk | C8: Lauchstange | F8: =SUM(E8*A8) -> 0 | I8: 1 | J8: =I8/$I$2 -> 0.25 | L8: Bund | M8: 1
A9: =ROUND(SUM(J9*$F$2),2) -> 1.5 | B9: Stk | C9: Tomaten | F9: =SUM(E9*A9) -> 0 | I9: 1.5 | J9: =I9/$I$2 -> 0.375 | L9: Stk | M9: Stück
A10: =ROUND(SUM(J10*$F$2),2) -> 1 | B10: Stk | C10: Knoblauchzehen | F10: =SUM(E10*A10) -> 0 | I10: 1 | J10: =I10/$I$2 -> 0.25 | L10: Pä | M10: Päckli
A11: =ROUND(SUM(J11*$F$2),2) -> 0.5 | B11: Bund | C11: Petersilie | F11: =SUM(E11*A11) -> 0 | I11: 0.5 | J11: =I11/$I$2 -> 0.125 | L11: alles weitere ausschreiben
A12: =ROUND(SUM(J12*$F$2),2) -> 0.25 | B12: Bund | C12: Liebstöckel | F12: =SUM(E12*A12) -> 0 | I12: 0.25 | J12: =I12/$I$2 -> 0.0625
A13: =ROUND(SUM(J13*$F$2),2) -> 5 | B13: Stk | C13: Pfefferkörner | F13: =SUM(E13*A13) -> 0 | I13: 5 | J13: =I13/$I$2 -> 1.25
A14: =ROUND(SUM(J14*$F$2),2) -> 0.5 | B14: Stk | C14: Lorbeerblatt | F14: =SUM(E14*A14) -> 0 | I14: 0.5 | J14: =I14/$I$2 -> 0.125
A15: =ROUND(SUM(J15*$F$2),2) -> 1 | B15: Lt | C15: Wasser | F15: =SUM(E15*A15) -> 0 | I15: 1 | J15: =I15/$I$2 -> 0.25
A16: =ROUND(SUM(J16*$F$2),2) -> 0.05 | B16: Lt | C16: Noilly Prat | F16: =SUM(E16*A16) -> 0 | I16: 0.05 | J16: =I16/$I$2 -> 0.0125
A17: =ROUND(SUM(J17*$F$2),2) -> 0.03 | B17: Kg | C17: Bärlauch | F17: =SUM(E17*A17) -> 0 | I17: 0.025 | J17: =I17/$I$2 -> 0.00625
A18: =ROUND(SUM(J18*$F$2),2) -> 1 | B18: Stk | C18: Eier | F18: =SUM(E18*A18) -> 0 | I18: 1 | J18: =I18/$I$2 -> 0.25
A19: =ROUND(SUM(J19*$F$2),2) -> 0.05 | B19: Kg | C19: Mehl | F19: =SUM(E19*A19) -> 0 | I19: 0.05 | J19: =I19/$I$2 -> 0.0125
A20: =ROUND(SUM(J20*$F$2),2) -> 0.15 | B20: Lt | C20: Milch | F20: =SUM(E20*A20) -> 0 | I20: 0.15 | J20: =I20/$I$2 -> 0.0375
A21: =ROUND(SUM(J21*$F$2),2) -> 0.5 | B21: Bund | C21: Kerbel | F21: =SUM(E21*A21) -> 0 | I21: 0.5 | J21: =I21/$I$2 -> 0.125
A22: =ROUND(SUM(J22*$F$2),2) -> 0.5 | B22: Stk | C22: Kohlrabi | F22: =SUM(E22*A22) -> 0 | I22: 0.5 | J22: =I22/$I$2 -> 0.125
A23: =ROUND(SUM(J23*$F$2),2) -> 0.1 | B23: Kg | C23: Erbsen TK | F23: =SUM(E23*A23) -> 0 | I23: 0.1 | J23: =I23/$I$2 -> 0.025
A25: Zubereitung
A27: Die Zwiebeln ungeschält halbieren. Die Schnittflächen mit dem Olivenöl bestreichen. In einer beschichteten Bratpfanne die Zwiebelhälften mit der Schnittfläche nach unten sehr dunkel anrösten.
A28: Inzwischen Rüebli, Sellerie, Lauch und Tomaten nur waschen, jedoch nicht schälen, dann in kleinere Würfel schneiden. Die Knoblauchzehen schälen und halbieren. Petersilie und Liebstöckel mitsamt Stielen grob schneiden. Alle diese Zutaten sowie die gerösteten Zwiebelhälften in eine grosse Pfanne geben.
A29: Die Pfefferkörner grob zerquetschen. Die Lorbeerblätter dem Rand entlang einige Male einreissen. Beide Zutaten mit den Nelken zum Gemüse geben. Das Wasser und den Noilly Prat oder die Weisswein-Sherry-Mischung beifügen. Alles aufkochen. Dann das Salz beifügen und die Bouillon in der offenen Pfanne gut 1 Stunde leise kochen lassen.
A30: Inzwischen die Flädli zubereiten: Die Bärlauchblätter gründlich spülen, dann trockenschleudern oder auf Küchenpapier trockentupfen. Die Stiele entfernen. Die Blätter in Streifen schneiden und in einen grossen hohen Becher geben. Die Eier beifügen und alles mit dem Stabmixer pürieren. Dann Milch, Mehl sowie etwas Salz beifügen und alles glatt mixen. Wenn nötig nachwürzen. Den Teig 30 Minuten ausquellen lassen.
A31: Den Boden einer beschichteten Bratpfanne mit etwas Butter bestreichen und erwärmen. Aus dem Teig nacheinander 5–6 dünne Omeletten backen. Herausnehmen und sofort aufrollen. Nebeneinander auf einen grossen, mit Backpapier belegten Teller legen und auskühlen lassen. Anschliessend mit Klarsichtfolie abdecken und bis zur Verwendung kühl stellen.
A32: Die Bouillon durch ein grosses Sieb in eine Schüssel abgiessen. Die Rückstände leicht auspressen, weil darin viel Aroma steckt. Die Bouillon mit Klarsichtfolie abgedeckt bis kurz vor dem Servieren kalt stellen.
A33: Für die Gemüseeinlage den Kerbel hacken. Den Kohlrabi schälen und in höchstens ½ cm grosse Würfel schneiden. Beides mit Folie decken und beiseitestellen.
A34: Kurz vor dem Servieren die Bouillon wieder in eine grosse Pfanne geben und aufkochen. Kohlrabi und Erbsen hineingeben und 5 Minuten mitkochen.
A35: Die Bärlauch-Omeletten aufrollen, in dünne Streifen schneiden und in vorgewärmte tiefe Teller oder Suppentassen verteilen.
A36: Unmittelbar vor dem Servieren den Kerbel in die Suppe geben und diese mit Salz, Pfeffer und frisch geriebener Muskatnuss abschmecken. Die Suppe über die Bärlauch-Flädli geben, nach Belieben mit dem Rauchlachs verfeinern und sofort servieren.

Sheet Hauptgang
E1: Chochete vom | F1: =Menu!B3 -> 45736 | I1: Original Rezept
A2: =Menu!B7 -> Rindssaftplätzli | E2: Rezept für | F2: =Menu!B15 -> 4 | I2: 4 | J2: Personen | L2: Menu Angaben wie folgt machen:
A3: Menge | B3: Einheit | C3: Artikel (Gewicht alles ca. Angaben) | D3: Bemerkungen | E3: Einkaufspreis | F3: Betrag | I3: Originalrezept | J3: pro Person
A4: =ROUND(SUM(J4*$F$2),2) -> 0.75 | B4: Kg | C4: Rindssaftplätzli | F4: =SUM(E4*A4) -> 0 | I4: 0.75 | J4: =I4/$I$2 -> 0.1875 | L4: Kg | M4: 0.25
A5: =ROUND(SUM(J5*$F$2),2) -> 0.1 | B5: Kg | C5: Speckwürfeli | F5: =SUM(E5*A5) -> 0 | I5: 0.1 | J5: =I5/$I$2 -> 0.025 | L5: Lt | M5: 1.25
A6: =ROUND(SUM(J6*$F$2),2) -> 3 | B6: Stk | C6: Zwiebeln | F6: =SUM(E6*A6) -> 0 | I6: 3 | J6: =I6/$I$2 -> 0.75 | L6: EL | M6: Esslöffel
A7: =ROUND(SUM(J7*$F$2),2) -> 1 | B7: Bund | C7: Peterli | F7: =SUM(E7*A7) -> 0 | I7: 1 | J7: =I7/$I$2 -> 0.25 | L7: TL | M7: Kaffeelöffel
A8: =ROUND(SUM(J8*$F$2),2) -> 0.5 | B8: Lt | C8: Rahm | F8: =SUM(E8*A8) -> 0 | I8: 0.5 | J8: =I8/$I$2 -> 0.125 | L8: Bund | M8: 1
A9: =ROUND(SUM(J9*$F$2),2) -> 2 | B9: TL | C9: Rinds Bouillon (Gewürz) | F9: =SUM(E9*A9) -> 0 | I9: 2 | J9: =I9/$I$2 -> 0.5 | L9: Stk | M9: Stück
A10: =ROUND(SUM(J10*$F$2),2) -> 3 | B10: EL | C10: Wasser | F10: =SUM(E10*A10) -> 0 | I10: 3 | J10: =I10/$I$2 -> 0.75 | L10: Pä | M10: Päckli
A11: =ROUND(SUM(J11*$F$2),2) -> 1 | B11: Schuss | C11: Cognac | F11: =SUM(E11*A11) -> 0 | I11: 1 | J11: =I11/$I$2 -> 0.25 | L11: alles weitere ausschreiben
A12: =ROUND(SUM(J12*$F$2),2) -> 5 | B12: EL | C12: Wibeeri / Rosinen | F12: =SUM(E12*A12) -> 0 | I12: 5 | J12: =I12/$I$2 -> 1.25
A13: =ROUND(SUM(J13*$F$2),2) -> 2 | B13: EL | C13: Knorr Bratensauce | F13: =SUM(E13*A13) -> 0 | I13: 2 | J13: =I13/$I$2 -> 0.5
A14: =ROUND(SUM(J14*$F$2),2) -> 0 | F14: =SUM(E14*A14) -> 0 | J14: =I14/$I$2 -> 0
A15: =ROUND(SUM(J15*$F$2),2) -> 0 | J15: =I15/$I$2 -> 0
A16: =ROUND(SUM(J16*$F$2),2) -> 0 | J16: =I16/$I$2 -> 0
A17: =ROUND(SUM(J17*$F$2),2) -> 0 | J17: =I17/$I$2 -> 0
A18: =ROUND(SUM(J18*$F$2),2) -> 0 | J18: =I18/$I$2 -> 0
A19: =ROUND(SUM(J19*$F$2),2) -> 0 | F19: =SUM(E19*A19) -> 0 | J19: =I19/$I$2 -> 0
A20: =ROUND(SUM(J20*$F$2),2) -> 0 | F20: =SUM(E20*A20) -> 0 | J20: =I20/$I$2 -> 0
A21: Zubereitung
A22: Zwiebeln und Petersilie kleinhacken
A23: Die Zutaten wie folgt in einem grossen Topf schichten: Speckwürfeli, Rindssaftplätzli, gehackte Zwiebeln, gehackter Peterli, Wiiberi, Salz und Pfeffer - danach wieder mit Speckwürfeli beginnen.
A24: Nachdem alles geschichtet ist 3 EL Wasser dazugeben und bei kleiner Temperatur mir Deckel für ca. 2h köcheln lassen (wenn man den Deckel hebt, müsste man erneut einwenig Wasser beigeben).
A25: Kurz vor schluss Rahm, Saucenwunder und evt. etwas Cognac dazu geben. Abschmecken.

Sheet Beilage1
E1: Chochete vom | F1: =Menu!B3 -> 45736 | I1: Original Rezept
A2: =Menu!B8 -> Polenta Bramata | E2: Rezept für | F2: =Menu!B15 -> 4 | I2: 4 | J2: Personen | L2: Menu Angaben wie folgt machen:
A3: Menge | B3: Einheit | C3: Artikel (Gewicht alles ca. Angaben) | D3: Bemerkungen | E3: Einkaufspreis | F3: Betrag | I3: Originalrezept | J3: pro Person
A4: =ROUND(SUM(J4*$F$2),2) -> 1 | B4: Stk | C4: Zwiebel | F4: =SUM(E4*A4) -> 0 | I4: 1 | J4: =I4/$I$2 -> 0.25 | L4: Kg | M4: 0.25
A5: =ROUND(SUM(J5*$F$2),2) -> 1 | B5: Stk | C5: Knoblauchzehe | F5: =SUM(E5*A5) -> 0 | I5: 1 | J5: =I5/$I$2 -> 0.25 | L5: Lt | M5: 1.25
A6: =ROUND(SUM(J6*$F$2),2) -> 1 | B6: EL | C6: Butter | F6: =SUM(E6*A6) -> 0 | I6: 1 | J6: =I6/$I$2 -> 0.25 | L6: EL | M6: Esslöffel
A7: =ROUND(SUM(J7*$F$2),2) -> 0.8 | B7: Lt | C7: Gemüsebouillon | F7: =SUM(E7*A7) -> 0 | I7: 0.8 | J7: =I7/$I$2 -> 0.2 | L7: TL | M7: Kaffeelöffel
A8: =ROUND(SUM(J8*$F$2),2) -> 0.25 | B8: Kg | C8: Polenta Bramata | F8: =SUM(E8*A8) -> 0 | I8: 0.25 | J8: =I8/$I$2 -> 0.0625 | L8: Bund | M8: 1
A9: =ROUND(SUM(J9*$F$2),2) -> 0.05 | B9: Kg | C9: Butter | F9: =SUM(E9*A9) -> 0 | I9: 0.05 | J9: =I9/$I$2 -> 0.0125 | L9: Stk | M9: Stück
A10: =ROUND(SUM(J10*$F$2),2) -> 0.05 | B10: Kg | C10: Sprinz gerieben | F10: =SUM(E10*A10) -> 0 | I10: 0.05 | J10: =I10/$I$2 -> 0.0125 | L10: Pä | M10: Päckli
A11: =ROUND(SUM(J11*$F$2),2) -> 0 | C11: Salz | F11: =SUM(E11*A11) -> 0 | J11: =I11/$I$2 -> 0 | L11: alles weitere ausschreiben
A12: =ROUND(SUM(J12*$F$2),2) -> 0 | C12: Pfeffer | F12: =SUM(E12*A12) -> 0 | J12: =I12/$I$2 -> 0
A13: =ROUND(SUM(J13*$F$2),2) -> 0 | F13: =SUM(E13*A13) -> 0 | J13: =I13/$I$2 -> 0
A14: =ROUND(SUM(J14*$F$2),2) -> 0 | F14: =SUM(E14*A14) -> 0 | J14: =I14/$I$2 -> 0
A15: =ROUND(SUM(J15*$F$2),2) -> 0 | F15: =SUM(E15*A15) -> 0 | J15: =I15/$I$2 -> 0
A16: =ROUND(SUM(J16*$F$2),2) -> 0 | F16: =SUM(E16*A16) -> 0 | J16: =I16/$I$2 -> 0
A17: =ROUND(SUM(J17*$F$2),2) -> 0 | F17: =SUM(E17*A17) -> 0 | J17: =I17/$I$2 -> 0
A18: =ROUND(SUM(J18*$F$2),2) -> 0 | F18: =SUM(E18*A18) -> 0 | J18: =I18/$I$2 -> 0
A19: =ROUND(SUM(J19*$F$2),2) -> 0 | F19: =SUM(E19*A19) -> 0 | J19: =I19/$I$2 -> 0
A20: =ROUND(SUM(J20*$F$2),2) -> 0 | F20: =SUM(E20*A20) -> 0 | J20: =I20/$I$2 -> 0
A21: Zubereitung
A22: Zwiebel und Knoblauch schälen, fein hacken. Butter in einer Pfanne warm werden lassen. Zwiebel und Knoblauch andämpfen, Bouillon dazugiessen, aufkochen.
A23: Polenta einrühren, Hitze reduzieren, unter Rühren bei kleiner Hitze nach Packungsangabe. zu einem dicken Brei köcheln. Butter darunterrühren, würzen.

Sheet Beilage2
E1: Chochete vom | F1: =Menu!B3 -> 45736 | I1: Original Rezept
A2: =Menu!B9 -> Zucchettiauflauf | E2: Rezept für | F2: =Menu!B15 -> 4 | I2: 4 | J2: Personen | L2: Menu Angaben wie folgt machen:
A3: Menge | B3: Einheit | C3: Artikel (Gewicht alles ca. Angaben) | D3: Bemerkungen | E3: Einkaufspreis | F3: Betrag | I3: Originalrezept | J3: pro Person
A4: =ROUND(SUM(J4*$F$2),2) -> 2 | B4: Stk | C4: Zucchetti | D4: ca. 500g | F4: =SUM(E4*A4) -> 0 | I4: 2 | J4: =I4/I2 -> 0.5 | L4: Kg | M4: 0.25
A5: =ROUND(SUM(J5*$F$2),2) -> 1 | B5: Pä | C5: Basilikum | F5: =SUM(E5*A5) -> 0 | I5: 1 | J5: =I5/$I$2 -> 0.25 | L5: Lt | M5: 1.25
A6: =ROUND(SUM(J6*$F$2),2) -> 0.3 | B6: Lt | C6: Rahm | F6: =SUM(E6*A6) -> 0 | I6: 0.3 | J6: =I6/$I$2 -> 0.075 | L6: EL | M6: Esslöffel
A7: =ROUND(SUM(J7*$F$2),2) -> 0 | C7: Salz | F7: =SUM(E7*A7) -> 0 | J7: =I7/$I$2 -> 0 | L7: TL | M7: Kaffeelöffel
A8: =ROUND(SUM(J8*$F$2),2) -> 0 | C8: Pfeffer | F8: =SUM(E8*A8) -> 0 | J8: =I8/$I$2 -> 0 | L8: Bund | M8: 1
A9: =ROUND(SUM(J9*$F$2),2) -> 0 | F9: =SUM(E9*A9) -> 0 | J9: =I9/$I$2 -> 0 | L9: Stk | M9: Stück
A10: =ROUND(SUM(J10*$F$2),2) -> 0 | F10: =SUM(E10*A10) -> 0 | J10: =I10/$I$2 -> 0 | L10: Pä | M10: Päckli
A11: =ROUND(SUM(J11*$F$2),2) -> 0 | F11: =SUM(E11*A11) -> 0 | J11: =I11/$I$2 -> 0 | L11: alles weitere ausschreiben
A12: =ROUND(SUM(J12*$F$2),2) -> 0 | F12: =SUM(E12*A12) -> 0 | J12: =I12/$I$2 -> 0
A13: =ROUND(SUM(J13*$F$2),2) -> 0 | F13: =SUM(E13*A13) -> 0 | J13: =I13/$I$2 -> 0
A14: =ROUND(SUM(J14*$F$2),2) -> 0 | F14: =SUM(E14*A14) -> 0 | J14: =I14/$I$2 -> 0
A15: =ROUND(SUM(J15*$F$2),2) -> 0 | F15: =SUM(E15*A15) -> 0 | J15: =I15/$I$2 -> 0
A16: =ROUND(SUM(J16*$F$2),2) -> 0 | F16: =SUM(E16*A16) -> 0 | J16: =I16/$I$2 -> 0
A17: =ROUND(SUM(J17*$F$2),2) -> 0 | F17: =SUM(E17*A17) -> 0 | J17: =I17/$I$2 -> 0
A18: =ROUND(SUM(J18*$F$2),2) -> 0 | F18: =SUM(E18*A18) -> 0 | J18: =I18/$I$2 -> 0
A19: =ROUND(SUM(J19*$F$2),2) -> 0 | F19: =SUM(E19*A19) -> 0 | J19: =I19/$I$2 -> 0
A20: =ROUND(SUM(J20*$F$2),2) -> 0 | F20: =SUM(E20*A20) -> 0 | J20: =I20/$I$2 -> 0
A21: Zubereitung
A22: Zucchetti in dünne scheiben hobeln
A23: Zuchettischeiben in Auflaufform geben, sodass der Boden bedeckt ist. Basilikumblätter auf die Zuchettischeiben legen und Salz und Pfeffer dazu geben. Nächste Schickt mit Zucchettischeiben darauf legen und wieder Basilikumblätter darauf legen und Salz und Pfeffer dazu geben.
A24: Sobald keine Zuchetti mehr übrig ist, Rahm dazugeben.
A25: Im Ofen für ca. 20 Minuten bei 180°C Kochen lassen.

Sheet Dessert
E1: Chochete vom | F1: =Menu!B3 -> 45736 | I1: Original Rezept
A2: =Menu!B11 -> Fotzelschnitte mit Apfel Kompott-Mus | E2: Rezept für | F2: =Menu!B15 -> 4 | I2: 4 | J2: Personen | L2: Menu Angaben wie folgt machen:
A3: Menge | B3: Einheit | C3: Artikel (Gewicht alles ca. Angaben) | D3: Bemerkungen | E3: Einkaufspreis | F3: Betrag | I3: Originalrezept | J3: pro Person
A4: =ROUND(SUM(J4*$F$2),2) -> 0 | C4: Apfel Kompott-Mus | J4: =I4/$I$2 -> 0 | L4: Kg | M4: 0.25
A5: =ROUND(SUM(J5*$F$2),2) -> 0.5 | B5: KG | C5: Apfel Gala gerüstet, in Scheiben | I5: 0.5 | J5: =I5/$I$2 -> 0.125 | L5: Lt | M5: 1.25
A6: =ROUND(SUM(J6*$F$2),2) -> 0.5 | B6: KG | C6: Apfel Boskopp gerüstet un in Scheiben | I6: 0.5 | J6: =I6/$I$2 -> 0.125 | L6: EL | M6: Esslöffel
A7: =ROUND(SUM(J7*$F$2),2) -> 0.05 | B7: KG | C7: Zucker | I7: 0.05 | J7: =I7/$I$2 -> 0.0125 | L7: KL | M7: Kaffeelöffel
A8: =ROUND(SUM(J8*$F$2),2) -> 1 | B8: Stk | C8: Zimt | I8: 1 | J8: =I8/$I$2 -> 0.25 | L8: Bund | M8: 1
A9: =ROUND(SUM(J9*$F$2),2) -> 1 | B9: Stk | C9: Nälke | I9: 1 | J9: =I9/$I$2 -> 0.25 | L9: Stk | M9: Stück
A10: =ROUND(SUM(J10*$F$2),2) -> 0 | J10: =I10/$I$2 -> 0 | L10: Pä | M10: Päckli
A11: =ROUND(SUM(J11*$F$2),2) -> 0 | F11: =SUM(E11*A11) -> 0 | J11: =I11/$I$2 -> 0 | L11: alles weitere ausschreiben
A12: =ROUND(SUM(J12*$F$2),2) -> 0 | C12: Fotzelschnitte | F12: =SUM(E12*A12) -> 0 | J12: =I12/$I$2 -> 0
A13: =ROUND(SUM(J13*$F$2),2) -> 2 | B13: Stk | C13: Eier | F13: =SUM(E13*A13) -> 0 | I13: 2 | J13: =I13/$I$2 -> 0.5
A14: =ROUND(SUM(J14*$F$2),2) -> 0.2 | B14: Lt | C14: Milch | F14: =SUM(E14*A14) -> 0 | I14: 0.2 | J14: =I14/$I$2 -> 0.05
A15: =ROUND(SUM(J15*$F$2),2) -> 1 | B15: KL | C15: Vanillezucker | F15: =SUM(E15*A15) -> 0 | I15: 1 | J15: =I15/$I$2 -> 0.25
A16: =ROUND(SUM(J16*$F$2),2) -> 0.25 | B16: Kg | C16: Brot (Pfünderli weiss) | F16: =SUM(E16*A16) -> 0 | I16: 0.25 | J16: =I16/$I$2 -> 0.0625
A17: =ROUND(SUM(J17*$F$2),2) -> 1 | B17: EL | C17: Butter | F17: =SUM(E17*A17) -> 0 | I17: 1 | J17: =I17/$I$2 -> 0.25
A18: =ROUND(SUM(J18*$F$2),2) -> 1 | B18: KL | C18: Zimt | F18: =SUM(E18*A18) -> 0 | I18: 1 | J18: =I18/$I$2 -> 0.25
A19: =ROUND(SUM(J19*$F$2),2) -> 0.05 | B19: Kg | C19: Zucker | F19: =SUM(E19*A19) -> 0 | I19: 0.05 | J19: =I19/$I$2 -> 0.0125
A20: =ROUND(SUM(J20*$F$2),2) -> 0 | F20: =SUM(E20*A20) -> 0 | J20: =I20/$I$2 -> 0
A21: =ROUND(SUM(J21*$F$2),2) -> 0 | C21: Glace | F21: =SUM(E21*A21) -> 0 | J21: =I21/$I$2 -> 0
A22: =ROUND(SUM(J22*$F$2),2) -> 4 | B22: Kugeln | C22: Vanille Glace | F22: =SUM(E22*A22) -> 0 | I22: 4 | J22: =I22/$I$2 -> 1
A23: =ROUND(SUM(J23*$F$2),2) -> 0 | F23: =SUM(E23*A23) -> 0 | J23: =I23/$I$2 -> 0
A24: =ROUND(SUM(J24*$F$2),2) -> 0 | F24: =SUM(E24*A24) -> 0 | J24: =I24/$I$2 -> 0
A25: =ROUND(SUM(J25*$F$2),2) -> 0 | F25: =SUM(E25*A25) -> 0 | J25: =I25/$I$2 -> 0
A26: =ROUND(SUM(J26*$F$2),2) -> 0 | F26: =SUM(E26*A26) -> 0 | J26: =I26/$I$2 -> 0
A27: Zubereitung
A28: Apfel-Kompott-Mus: Apfel rüsten mit den Zutaten aufkochen und leicht anquetschen, so dass es noch stückig bleibt
A30: Eier, Milch, Vanillezucker und Salz in einer weiten Form verrühren. Brotscheiben in die Form legen, ca. 10 Min. ziehen lassen. Brotscheiben wenden, nochmals ca. 10 Min. ziehen lassen.
A31: Bratbutter in einer beschichteten Bratpfanne heiss werden lassen. Hitze reduzieren, Brotscheiben portionenweise beidseitig je ca. 2 Min. goldbraun backen. Zucker und Zimt in einem Teller mischen, die warmen Brotscheiben darin wenden, sofort servieren.

Sheet Einkaufsliste
A1: Hobby-Küche Zug | C1: Einkaufsliste | D1: =Dessert!F1 -> 45736 | E1: ok
A2: Menge | B2: Einheit | C2: Artikel | D2: für 4 Personen
A3: =Vorspeise!A2 -> Gemüsebouillon mit Bärlauch-Flädli | D3: Bemerkungen
A4: =SUM(Vorspeise!A4) -> 1 | B4: =Vorspeise!B4 -> Stk | C4: =Vorspeise!C4 -> Zwiebeln | D4: =Vorspeise!D4 -> 0
A5: =SUM(Vorspeise!A5) -> 0.5 | B5: =Vorspeise!B5 -> EL | C5: =Vorspeise!C5 -> Olivenöl | D5: =Vorspeise!D5 -> 0
A6: =SUM(Vorspeise!A6) -> 1.5 | B6: =Vorspeise!B6 -> Stk | C6: =Vorspeise!C6 -> Rüebli | D6: =Vorspeise!D6 -> 0
A7: =SUM(Vorspeise!A7) -> 1 | B7: =Vorspeise!B7 -> Stk | C7: =Vorspeise!C7 -> Knollenselerie | D7: =Vorspeise!D7 -> 0
A8: =SUM(Vorspeise!A8) -> 1 | B8: =Vorspeise!B8 -> Stk | C8: =Vorspeise!C8 -> Lauchstange | D8: =Vorspeise!D8 -> 0
A9: =SUM(Vorspeise!A9) -> 1.5 | B9: =Vorspeise!B9 -> Stk | C9: =Vorspeise!C9 -> Tomaten | D9: =Vorspeise!D9 -> 0
A10: =SUM(Vorspeise!A10) -> 1 | B10: =Vorspeise!B10 -> Stk | C10: =Vorspeise!C10 -> Knoblauchzehen | D10: =Vorspeise!D10 -> 0
A11: =SUM(Vorspeise!A11) -> 0.5 | B11: =Vorspeise!B11 -> Bund | C11: =Vorspeise!C11 -> Petersilie | D11: =Vorspeise!D11 -> 0
A12: =SUM(Vorspeise!A12) -> 0.25 | B12: =Vorspeise!B12 -> Bund | C12: =Vorspeise!C12 -> Liebstöckel | D12: =Vorspeise!D12 -> 0
A13: =SUM(Vorspeise!A13) -> 5 | B13: =Vorspeise!B13 -> Stk | C13: =Vorspeise!C13 -> Pfefferkörner | D13: =Vorspeise!D13 -> 0
A14: =SUM(Vorspeise!A14) -> 0.5 | B14: =Vorspeise!B14 -> Stk | C14: =Vorspeise!C14 -> Lorbeerblatt | D14: =Vorspeise!D14 -> 0
A15: =SUM(Vorspeise!A15) -> 1 | B15: =Vorspeise!B15 -> Lt | C15: =Vorspeise!C15 -> Wasser | D15: =Vorspeise!D15 -> 0
... A24: =SUM(Vorspeise!A24) -> 0 | B24: =Vorspeise!B24 -> 0 | C24: =Vorspeise!C24 -> 0 | D24: =Vorspeise!D24 -> 0
A25: =SUM(Vorspeise!A32) -> 0 | B25: =Vorspeise!B32 -> 0 | C25: =Vorspeise!C32 -> 0 | D25: =Vorspeise!D32 -> 0
A27: =Hauptgang!A2 -> Rindssaftplätzli | D27: Bemerkungen
A28: =SUM(Hauptgang!A4) -> 0.75 | B28: =Hauptgang!B4 -> Kg | C28: =Hauptgang!C4 -> Rindssaftplätzli | D28: =Hauptgang!D4 -> 0
A29: =SUM(Hauptgang!A5) -> 0.1 | B29: =Hauptgang!B5 -> Kg | C29: =Hauptgang!C5 -> Speckwürfeli | D29: =Hauptgang!D5 -> 0
A30: =SUM(Hauptgang!A6) -> 3 | B30: =Hauptgang!B6 -> Stk | C30: =Hauptgang!C6 -> Zwiebeln | D30: =Hauptgang!D6 -> 0
A31: =SUM(Hauptgang!A7) -> 1 | B31: =Hauptgang!B7 -> Bund | C31: =Hauptgang!C7 -> Peterli | D31: =Hauptgang!D7 -> 0
A32: =SUM(Hauptgang!A8) -> 0.5 | B32: =Hauptgang!B8 -> Lt | C32: =Hauptgang!C8 -> Rahm | D32: =Hauptgang!D8 -> 0
A33: =SUM(Hauptgang!A9) -> 2 | B33: =Hauptgang!B9 -> TL | C33: =Hauptgang!C9 -> Rinds Bouillon (Gewürz) | D33: =Hauptgang!D9 -> 0
A34: =SUM(Hauptgang!A10) -> 3 | B34: =Hauptgang!B10 -> EL | C34: =Hauptgang!C10 -> Wasser | D34: =Hauptgang!D10 -> 0
A35: =SUM(Hauptgang!A11) -> 1 | B35: =Hauptgang!B11 -> Schuss | C35: =Hauptgang!C11 -> Cognac | D35: =Hauptgang!D11 -> 0
A36: =SUM(Hauptgang!A12) -> 5 | B36: =Hauptgang!B12 -> EL | C36: =Hauptgang!C12 -> Wibeeri / Rosinen | D36: =Hauptgang!D12 -> 0
A37: =SUM(Hauptgang!A13) -> 2 | B37: =Hauptgang!B13 -> EL | C37: =Hauptgang!C13 -> Knorr Bratensauce | D37: =Hauptgang!D13 -> 0
A38: =SUM(Hauptgang!A14) -> 0 | B38: =Hauptgang!B14 -> 0 | C38: =Hauptgang!C14 -> 0 | D38: =Hauptgang!D14 -> 0
A39: =SUM(Hauptgang!A20) -> 0 | B39: =Hauptgang!B20 -> 0 | C39: =Hauptgang!C20 -> 0 | D39: =Hauptgang!D20 -> 0
A40: =Beilage1!A2 -> Polenta Bramata | D40: Bemerkungen
A41: =Beilage1!A4 -> 1 | B41: =Beilage1!B4 -> Stk | C41: =Beilage1!C4 -> Zwiebel | D41: =Beilage1!D4 -> 0
A42: =Beilage1!A5 -> 1 | B42: =Beilage1!B5 -> Stk | C42: =Beilage1!C5 -> Knoblauchzehe | D42: =Beilage1!D5 -> 0
A43: =Beilage1!A6 -> 1 | B43: =Beilage1!B6 -> EL | C43: =Beilage1!C6 -> Butter | D43: =Beilage1!D6 -> 0
A44: =Beilage1!A7 -> 0.8 | B44: =Beilage1!B7 -> Lt | C44: =Beilage1!C7 -> Gemüsebouillon | D44: =Beilage1!D7 -> 0
A45: =Beilage1!A8 -> 0.25 | B45: =Beilage1!B8 -> Kg | C45: =Beilage1!C8 -> Polenta Bramata | D45: =Beilage1!D8 -> 0
A46: =Beilage1!A9 -> 0.05 | B46: =Beilage1!B9 -> Kg | C46: =Beilage1!C9 -> Butter | D46: =Beilage1!D9 -> 0
A47: =Beilage1!A10 -> 0.05 | B47: =Beilage1!B10 -> Kg | C47: =Beilage1!C10 -> Sprinz gerieben | D47: =Beilage1!D10 -> 0
A48: =Beilage1!A11 -> 0 | B48: =Beilage1!B11 -> 0 | C48: =Beilage1!C11 -> Salz | D48: =Beilage1!D11 -> 0
A49: =Beilage1!A12 -> 0 | B49: =Beilage1!B12 -> 0 | C49: =Beilage1!C12 -> Pfeffer | D49: =Beilage1!D12 -> 0
A50: =Beilage1!A13 -> 0 | B50: =Beilage1!B13 -> 0 | C50: =Beilage1!C13 -> 0 | D50: =Beilage1!D13 -> 0
A51: =Beilage1!A18 -> 0 | B51: =Beilage1!B18 -> 0 | C51: =Beilage1!C18 -> 0 | D51: =Beilage1!D18 -> 0
A52: =Beilage1!A19 -> 0 | B52: =Beilage1!B19 -> 0 | C52: =Beilage1!C19 -> 0 | D52: =Beilage1!D19 -> 0
A53: =Beilage1!A20 -> 0 | B53: =Beilage1!B20 -> 0 | C53: =Beilage1!C20 -> 0 | D53: =Beilage1!D20 -> 0
A54: =Beilage2!A2 -> Zucchettiauflauf
A55: =SUM(Beilage2!A4) -> 2 | B55: =Beilage2!B4 -> Stk | C55: =Beilage2!C4 -> Zucchetti | D55: =Beilage2!D4 -> ca. 500g
A56: =SUM(Beilage2!A5) -> 1 | B56: =Beilage2!B5 -> Pä | C56: =Beilage2!C5 -> Basilikum | D56: =Beilage2!D5 -> 0
A57: =SUM(Beilage2!A6) -> 0.3 | B57: =Beilage2!B6 -> Lt | C57: =Beilage2!C6 -> Rahm | D57: =Beilage2!D6 -> 0
A58: =SUM(Beilage2!A7) -> 0 | B58: =Beilage2!B7 -> 0 | C58: =Beilage2!C7 -> Salz | D58: =Beilage2!D7 -> 0
A59: =SUM(Beilage2!A8) -> 0 | B59: =Beilage2!B8 -> 0 | C59: =Beilage2!C8 -> Pfeffer | D59: =Beilage2!D8 -> 0
A60: =SUM(Beilage2!A9) -> 0 | B60: =Beilage2!B9 -> 0 | C60: =Beilage2!C9 -> 0 | D60: =Beilage2!D9 -> 0
A61: =SUM(Beilage2!A17) -> 0 | B61: =Beilage2!B17 -> 0 | C61: =Beilage2!C17 -> 0 | D61: =Beilage2!D17 -> 0
A62: =SUM(Beilage2!A18) -> 0 | B62: =Beilage2!B18 -> 0 | C62: =Beilage2!C18 -> 0 | D62: =Beilage2!D18 -> 0
A63: =SUM(Beilage2!A19) -> 0 | B63: =Beilage2!B19 -> 0 | C63: =Beilage2!C19 -> 0 | D63: =Beilage2!D19 -> 0
A64: =SUM(Beilage2!A20) -> 0 | B64: =Beilage2!B20 -> 0 | C64: =Beilage2!C20 -> 0 | D64: =Beilage2!D20 -> 0
A65: =Dessert!A2 -> Fotzelschnitte mit Apfel Kompott-Mus | D65: Bemerkungen
A66: =SUM(Dessert!A4) -> 0 | B66: =Dessert!B4 -> 0 | C66: =Dessert!C4 -> Apfel Kompott-Mus | D66: =Dessert!D4 -> 0
A67: =SUM(Dessert!A5) -> 0.5 | B67: =Dessert!B5 -> KG | C67: =Dessert!C5 -> Apfel Gala gerüstet, in Scheiben | D67: =Dessert!D5 -> 0
A68: =SUM(Dessert!A6) -> 0.5 | B68: =Dessert!B6 -> KG | C68: =Dessert!C6 -> Apfel Boskopp gerüstet un in Scheiben | D68: =Dessert!D6 -> 0
A69: =SUM(Dessert!A7) -> 0.05 | B69: =Dessert!B7 -> KG | C69: =Dessert!C7 -> Zucker | D69: =Dessert!D7 -> 0
A70: =SUM(Dessert!A8) -> 1 | B70: =Dessert!B8 -> Stk | C70: =Dessert!C8 -> Zimt | D70: =Dessert!D8 -> 0
A71: =SUM(Dessert!A9) -> 1 | B71: =Dessert!B9 -> Stk | C71: =Dessert!C9 -> Nälke | D71: =Dessert!D9 -> 0
A72: =SUM(Dessert!A10) -> 0 | B72: =Dessert!B10 -> 0 | C72: =Dessert!C10 -> 0 | D72: =Dessert!D10 -> 0
A73: =SUM(Dessert!A11) -> 0 | B73: =Dessert!B11 -> 0 | C73: =Dessert!C11 -> 0 | D73: =Dessert!D11 -> 0
A74: =SUM(Dessert!A12) -> 0 | B74: =Dessert!B12 -> 0 | C74: =Dessert!C12 -> Fotzelschnitte | D74: =Dessert!D12 -> 0
A75: =SUM(Dessert!A13) -> 2 | B75: =Dessert!B13 -> Stk | C75: =Dessert!C13 -> Eier | D75: =Dessert!D13 -> 0
A76: =SUM(Dessert!A14) -> 0.2 | B76: =Dessert!B14 -> Lt | C76: =Dessert!C14 -> Milch | D76: =Dessert!D14 -> 0
A77: =SUM(Dessert!A15) -> 1 | B77: =Dessert!B15 -> KL | C77: =Dessert!C15 -> Vanillezucker | D77: =Dessert!D15 -> 0
... A83: =SUM(Dessert!A21) -> 0 | B83: =Dessert!B21 -> 0 | C83: =Dessert!C21 -> Glace | D83: =Dessert!D21 -> 0
A84: =SUM(Dessert!A22) -> 4 | B84: =Dessert!B22 -> Kugeln | C84: =Dessert!C22 -> Vanille Glace | D84: 1/2 Block für 4 Personen
A85: =SUM(Dessert!A23) -> 0 | B85: =Dessert!B23 -> 0 | C85: =Dessert!C23 -> 0 | D85: =Dessert!D23 -> 0
A86: =SUM(Dessert!A23) -> 0 | B86: =Dessert!B23 -> 0 | C86: =Dessert!C23 -> 0 | D86: =Dessert!D23 -> 0
A87: Diverses
A88: 4 | B88: Stk | C88: Bagette
