Workbook

Sheet Menu
A3: Datum | B3: 45617 | D3: Menu Angaben wie folgt machen: | H3: Kg | I3: 0.25
H4: Lt | I4: 1.25
A5: Vorspeise | B5: Krautsalat mit Apfelstücken und Baumnüsse | D5: alle weiteren Angaben ausschreiben | H5: EL | I5: Esslöffel
H6: TL | I6: Teelöffel
A7: Vorspeise | B7: Tarlette mit Lauch und Speck | H7: Bund | I7: 1
H8: Stk | I8: Stück
A9: Hauptgang | B9: Hirschsteak mit Bergkäse überbacken | H9: Pä | I9: Päckli
A10: Beilage1 | B10: Kürbisgnocchi mit Salbeibutter
A11: Beilage2
A13: Dessert | B13: Scheiterhaufen
A15: Diverses | B15: Wildsauce
A17: Menu von Tisch | B17: B
A19: Personenzahl | B19: 5

Sheet 1.Vorspeise
E1: Chochete vom | F1: =SUM(Menu!B3) -> 45617 | I1: Original Rezept
A2: =Menu!B5 -> Krautsalat mit Apfelstücken und Baumnüsse | E2: Rezept für | F2: =Menu!B19 -> 5 | I2: 4 | J2: Personen | L2: Menu Angaben wie folgt machen:
A3: Menge | B3: Einheit | C3: Artikel (Gewicht alles ca. Angaben) | D3: Bemerkungen | E3: Einkaufspreis | F3: Betrag | I3: Originalrezept | J3: pro Person
A4: =ROUND(SUM(J4*$F$2),2) -> 0.5 | B4: Kg | C4: Weisskraut | F4: =SUM(E4*A4) -> 0 | I4: 0.4 | J4: =I4/$I$2 -> 0.1 | L4: Kg | M4: 0.25
A5: =ROUND(SUM(J5*$F$2),2) -> 0.03 | B5: Lt | C5: Essig | F5: =SUM(E5*A5) -> 0 | I5: 0.02 | J5: =I5/$I$2 -> 0.005 | L5: Lt | M5: 1.25
A6: =ROUND(SUM(J6*$F$2),2) -> 0.08 | B6: Lt | C6: Oel | F6: =SUM(E6*A6) -> 0 | I6: 0.06 | J6: =I6/$I$2 -> 0.015 | L6: EL | M6: Esslöffel
A7: =ROUND(SUM(J7*$F$2),2) -> 0 | C7: Kümmel | F7: =SUM(E7*A7) -> 0 | J7: =I7/$I$2 -> 0 | L7: TL | M7: Kaffeelöffel
A8: =ROUND(SUM(J8*$F$2),2) -> 0 | C8: Salz | F8: =SUM(E8*A8) -> 0 | J8: =I8/$I$2 -> 0 | L8: Bund | M8: 1
A9: =ROUND(SUM(J9*$F$2),2) -> 0 | C9: Pfeffer aus der Mühle | F9: =SUM(E9*A9) -> 0 | J9: =I9/$I$2 -> 0 | L9: Stk | M9: Stück
A10: =ROUND(SUM(J10*$F$2),2) -> 0 | C10: Baumüsse | F10: =SUM(E10*A10) -> 0 | J10: =I10/$I$2 -> 0 | L10: Pä | M10: Päckli
A11: 4 | B11: Stk | C11: Apfel (sauer) | F11: =SUM(E11*A11) -> 0 | I11: 1 | J11: =I11/$I$2 -> 0.25 | L11: alles weitere ausschreiben
A12: =ROUND(SUM(J12*$F$2),2) -> 0 | F12: =SUM(E12*A12) -> 0 | J12: =I12/$I$2 -> 0
A13: =ROUND(SUM(J13*$F$2),2) -> 0 | F13: =SUM(E13*A13) -> 0 | J13: =I13/$I$2 -> 0
A14: =ROUND(SUM(J14*$F$2),2) -> 0 | F14: =SUM(E14*A14) -> 0 | J14: =I14/$I$2 -> 0
A15: =ROUND(SUM(J15*$F$2),2) -> 0 | F15: =SUM(E15*A15) -> 0 | J15: =I15/$I$2 -> 0
A16: =ROUND(SUM(J16*$F$2),2) -> 0 | F16: =SUM(E16*A16) -> 0 | J16: =I16/$I$2 -> 0
A17: =ROUND(SUM(J17*$F$2),2) -> 0 | F17: =SUM(E17*A17) -> 0 | J17: =I17/$I$2 -> 0
A18: =ROUND(SUM(J18*$F$2),2) -> 0 | F18: =SUM(E18*A18) -> 0 | J18: =I18/$I$2 -> 0
A19: =ROUND(SUM(J19*$F$2),2) -> 0 | F19: =SUM(E19*A19) -> 0 | J19: =I19/$I$2 -> 0
A20: =ROUND(SUM(J20*$F$2),2) -> 0 | F20: =SUM(E20*A20) -> 0 | J20: =I20/$I$2 -> 0
A21: Zubereitung
A22: Aussenblätter des Weisskrautkopfs entfernen. Den Krautkopf dann vierteln, den harten Strunk herausschneiden und die Viertel sehr dünn schneiden.
A23: Das Kraut in einer Schlüssel mit Salz vermengen, damit es weich wird.
A24: Die fein geschnittenen Apfelstücke und die fein gehackten Baumnüsse dazu geben, Essig, Oel und Kümmel unternemengen und den Salat etwas ziehen lassen.

Sheet 2. Vorspeise
E1: Chochete vom | F1: =SUM(Menu!B3) -> 45617 | I1: Original Rezept
A2: =Menu!B7 -> Tarlette mit Lauch und Speck | E2: Rezept für | F2: =Menu!B19 -> 5 | I2: 4 | J2: Personen | L2: Menu Angaben wie folgt machen:
A3: Menge | B3: Einheit | C3: Artikel (Gewicht alles ca. Angaben) | D3: Bemerkungen | E3: Einkaufspreis | F3: Betrag | I3: Originalrezept | J3: pro Person
A4: =ROUND(SUM(J4*$F$2),2) -> 0 | C4: Teig | F4: =SUM(E4*A4) -> 0 | J4: =I4/$I$2 -> 0 | L4: Kg | M4: 0.25
A5: =ROUND(SUM(J5*$F$2),2) -> 0.25 | B5: Kg | C5: Brotmischung | F5: =SUM(E5*A5) -> 0 | I5: 0.2 | J5: =I5/$I$2 -> 0.05 | L5: Lt | M5: 1.25
A6: =ROUND(SUM(J6*$F$2),2) -> 0.13 | B6: Kg | C6: Butter | F6: =SUM(E6*A6) -> 0 | I6: 0.1 | J6: =I6/$I$2 -> 0.025 | L6: EL | M6: Esslöffel
A7: =ROUND(SUM(J7*$F$2),2) -> 0.09 | B7: Kg | C7: kaltes Wasser | F7: =SUM(E7*A7) -> 0 | I7: 0.07 | J7: =I7/$I$2 -> 0.0175 | L7: TL | M7: Kaffeelöffel
A8: =ROUND(SUM(J8*$F$2),2) -> 0 | F8: =SUM(E8*A8) -> 0 | J8: =I8/$I$2 -> 0 | L8: Bund | M8: 1
A9: =ROUND(SUM(J9*$F$2),2) -> 0 | F9: =SUM(E9*A9) -> 0 | J9: =I9/$I$2 -> 0 | L9: Stk | M9: Stück
A10: =ROUND(SUM(J10*$F$2),2) -> 0 | C10: Füllung | F10: =SUM(E10*A10) -> 0 | J10: =I10/$I$2 -> 0 | L10: Pä | M10: Päckli
A11: =ROUND(SUM(J11*$F$2),2) -> 0.38 | B11: Lt | C11: Milch | F11: =SUM(E11*A11) -> 0 | I11: 0.3 | J11: =I11/$I$2 -> 0.075 | L11: alles weitere ausschreiben
A12: =ROUND(SUM(J12*$F$2),2) -> 0.31 | B12: Kg | C12: Bergkäse | F12: =SUM(E12*A12) -> 0 | I12: 0.25 | J12: =I12/$I$2 -> 0.0625
A13: =ROUND(SUM(J13*$F$2),2) -> 0.25 | B13: Kg | C13: Landrauchschinken | F13: =SUM(E13*A13) -> 0 | I13: 0.2 | J13: =I13/$I$2 -> 0.05
A14: =ROUND(SUM(J14*$F$2),2) -> 0.06 | B14: Kg | C14: Butter | F14: =SUM(E14*A14) -> 0 | I14: 0.05 | J14: =I14/$I$2 -> 0.0125
A15: =ROUND(SUM(J15*$F$2),2) -> 0.06 | B15: Kg | C15: Rechmehl | F15: =SUM(E15*A15) -> 0 | I15: 0.05 | J15: =I15/$I$2 -> 0.0125
A16: =ROUND(SUM(J16*$F$2),2) -> 2.5 | B16: Stk | C16: Lauch | F16: =SUM(E16*A16) -> 0 | I16: 2 | J16: =I16/$I$2 -> 0.5
A17: =ROUND(SUM(J17*$F$2),2) -> 0 | C17: Salz und Pfeffer | F17: =SUM(E17*A17) -> 0 | J17: =I17/$I$2 -> 0
A18: =ROUND(SUM(J18*$F$2),2) -> 2.5 | B18: Stk | C18: Eier | F18: =SUM(E18*A18) -> 0 | I18: 2 | J18: =I18/$I$2 -> 0.5
A19: =ROUND(SUM(J19*$F$2),2) -> 0 | C19: Natives Olivenöl extra | F19: =SUM(E19*A19) -> 0 | J19: =I19/$I$2 -> 0
C20: ein paar Blätter Bohnenkraut
A21: =ROUND(SUM(J21*$F$2),2) -> 0 | C21: eine Prise Muskatnuss | F21: =SUM(E21*A21) -> 0 | J21: =I21/$I$2 -> 0
A22: Zubereitung
A23: Die kalte Butter in kleinen Stücken zusammen mit der Brotmischung, Salz und kaltem Wasser in den Mixer geben. Mehrere Male mixen, bis die Mischung gut vermengt ist. Zu einer Kugel formen, in Frischhaltefolie einwickeln und eine Stunde lang im Kühlschrank ruhen.
A24: In der Zwischenzeit die äusseren Blätter, die Wurzeln und den grünen Teil des Lauches entfernen und den Rest in feine Scheiben schneiden. Etwas Oel in einer Pfanne erhitzen und den Lauch darin anbraten, bis er weich ist.
A25: In einer anderen Pfanne mit hohem Rand die Butter schmelzen, das Mehl hinzufügen und umrühren. Auf kleine Flamme weiterrühren, bis die Mischung zu bräunen beginnt, dann nach und nach die heisse Milch hinzufügen und dabei ständig mit einem Schneebesen rühren, damit sich keine Klumpen bilden. Weiter kochen, bis die Béchamelsauce eine cremige Konsistenz erreicht.
A26: Die Pfanne vom Herd nehmen und in kleine Stücke geschnittenen Bergkäse nach und nach hinzufügen, dabei stätig umrühren, damit der Käse langsam schmilzt.
A27: Wenn der Käse vollständig geschmolzen ist, die Eigelbe hinzufügen, mit Salz und Pfeffer würzen und mit Bohnenkrautblättern und einer Prise Muskatnuss bestreuen. Den gewürfelten Speck und gedünsteten Lauch in die Béchamelsauce geben.
A28: Den Teig aus dem Kühlschrank nehmen und mit einem Nudelholz ausrollen, in die Tarteletteformen legen und die Ränder abschneiden.
A29: Die Törtchen füllen und im heissen Ofen bei 180 Grad 20 Minuten backen.

Sheet Hauptgang
E1: Chochete vom | F1: =SUM(Menu!B3) -> 45617 | I1: Original Rezept
A2: =Menu!B9 -> Hirschsteak mit Bergkäse überbacken | E2: Rezept für | F2: =Menu!B19 -> 5 | I2: 4 | J2: Personen | L2: Menu Angaben wie folgt machen:
A3: Menge | B3: Einheit | C3: Artikel (Gewicht alles ca. Angaben) | D3: Bemerkungen | E3: Einkaufspreis | F3: Betrag | I3: Originalrezept | J3: pro Person
F4: =SUM(E4*A4) -> 0 | J4: =I4/$I$2 -> 0 | L4: Kg | M4: 0.25
A5: =ROUND(SUM(J5*$F$2),2) -> 0.5 | B5: Kg | C5: Hirschsteak | F5: =SUM(E5*A5) -> 0 | I5: 0.4 | J5: =I5/$I$2 -> 0.1 | L5: Lt | M5: 1.25
A6: =ROUND(SUM(J6*$F$2),2) -> 0.15 | B6: Kg | C6: Augerginen | F6: =SUM(E6*A6) -> 0 | I6: 0.12 | J6: =I6/$I$2 -> 0.03 | L6: EL | M6: Esslöffel
A7: =ROUND(SUM(J7*$F$2),2) -> 0.13 | B7: Kg | C7: Lauch | F7: =SUM(E7*A7) -> 0 | I7: 0.1 | J7: =I7/$I$2 -> 0.025 | L7: TL | M7: Kaffeelöffel
A8: =ROUND(SUM(J8*$F$2),2) -> 0.04 | B8: Kg | C8: Butter | F8: =SUM(E8*A8) -> 0 | I8: 0.03 | J8: =I8/$I$2 -> 0.0075 | L8: Bund | M8: 1
A9: 6 | B9: Zehe | C9: Knoblauchzehe | D9: 1/2 Zehe f. 4 P. | F9: =SUM(E9*A9) -> 0 | I9: 0 | J9: =I9/$I$2 -> 0 | L9: Stk | M9: Stück
A10: =ROUND(SUM(J10*$F$2),2) -> 0 | C10: Salz | F10: =SUM(E10*A10) -> 0 | J10: =I10/$I$2 -> 0 | L10: Pä | M10: Päckli
A11: =ROUND(SUM(J11*$F$2),2) -> 0 | C11: Peffer aus der Mühle | F11: =SUM(E11*A11) -> 0 | J11: =I11/$I$2 -> 0 | L11: alles weitere ausschreiben
A12: 4 | B12: TL | C12: Thymian und Majoran | D12: fein geschnitten | F12: =SUM(E12*A12) -> 0 | I12: 1 | J12: =I12/$I$2 -> 0.25
A13: =ROUND(SUM(J13*$F$2),2) -> 2.5 | B13: TL | C13: Oel zum Anbraten | F13: =SUM(E13*A13) -> 0 | I13: 2 | J13: =I13/$I$2 -> 0.5
A14: =ROUND(SUM(J14*$F$2),2) -> 0 | F14: =SUM(E14*A14) -> 0 | J14: =I14/$I$2 -> 0
A15: =ROUND(SUM(J15*$F$2),2) -> 0 | C15: Zum Ueberbacken | F15: =SUM(E15*A15) -> 0 | J15: =I15/$I$2 -> 0
A16: =ROUND(SUM(J16*$F$2),2) -> 10 | B16: Stk | C16: geröstete Steinpilzscheiben | F16: =SUM(E16*A16) -> 0 | I16: 8 | J16: =I16/$I$2 -> 2
A17: =ROUND(SUM(J17*$F$2),2) -> 0.06 | B17: Kg | C17: Bergkäse | D17: grob gerieben | F17: =SUM(E17*A17) -> 0 | I17: 0.05 | J17: =I17/$I$2 -> 0.0125
A18: 4 | B18: TL | C18: bunter Pfeffer zum Bestreuen | F18: =SUM(E18*A18) -> 0 | I18: 1 | J18: =I18/$I$2 -> 0.25
A19: =ROUND(SUM(J19*$F$2),2) -> 0.13 | B19: Lt | C19: Wildsauce | F19: =SUM(E19*A19) -> 0 | I19: 0.1 | J19: =I19/$I$2 -> 0.025
A20: =ROUND(SUM(J20*$F$2),2) -> 0 | F20: =SUM(E20*A20) -> 0 | J20: =I20/$I$2 -> 0
A21: Zubereitung
A22: Hirschsteak evtl. Von den restlichen Sehnen befreien.
A23: Auberginen und Lauch waschen und in gleichmässige, 1 cm grosse Würfel schneiden.
A24: In einer Pfanne etwas Butter zergehen lassen, Knoblauch darin dünsten, Gemüse dazugeben und weich dünsten.(ca. 4 Minuten dünsten) mit Salz, Thymian und Majoran würzen.
A25: Fleisch mit Salz und Pfeffer würzen, in einer heissen Pfanne in etwas Oel auf beiden Seiten anbraten. (etwa 3 Minuten beide Seiten anbraten)
A26: Fertigstellung:
A27: Steinpilze, Auberginen und Lauch auf die Medaillons geben und mit geriebenem Käse bedecken, mit bunten Pfeffer bestreuen und im Backoffen überbacken. (etwa 220 Grad zum Ueberbacken)
A28: Tipps: Das Fleisch soll innen noch leicht rosa sein.
A30: Wildsauce siehe Diverses

Sheet Beilage1
E1: Chochete vom | F1: =SUM(Menu!B3) -> 45617 | I1: Original Rezept
A2: =Menu!B10 -> Kürbisgnocchi mit Salbeibutter | E2: Rezept für | F2: =Menu!B19 -> 5 | I2: 4 | J2: Personen | L2: Menu Angaben wie folgt machen:
A3: Menge | B3: Einheit | C3: Artikel (Gewicht alles ca. Angaben) | D3: Bemerkungen | E3: Einkaufspreis | F3: Betrag | I3: Originalrezept | J3: pro Person
A5: =ROUND(SUM(J5*$F$2),2) -> 0.63 | B5: Kg | C5: Kürbis (Hokkaido oder Butternut) | F5: =SUM(E5*A5) -> 0 | I5: 0.5 | J5: =I5/$I$2 -> 0.125 | L5: Kg | M5: 0.25
A6: =ROUND(SUM(J6*$F$2),2) -> 0.31 | B6: Kg | C6: Kartoffeln, mehligkochend | F6: =SUM(E6*A6) -> 0 | I6: 0.25 | J6: =I6/$I$2 -> 0.0625 | L6: Lt | M6: 1.25
A7: =ROUND(SUM(J7*$F$2),2) -> 0.19 | B7: Kg | C7: Mehl | F7: =SUM(E7*A7) -> 0 | I7: 0.15 | J7: =I7/$I$2 -> 0.0375 | L7: EL | M7: Esslöffel
A8: =ROUND(SUM(J8*$F$2),2) -> 0.06 | B8: Kg | C8: Gries | F8: =SUM(E8*A8) -> 0 | I8: 0.05 | J8: =I8/$I$2 -> 0.0125 | L8: TL | M8: Kaffeelöffel
A9: 4 | B9: Stk | C9: Ei | F9: =SUM(E9*A9) -> 0 | I9: 1 | J9: =I9/$I$2 -> 0.25 | L9: Bund | M9: 1
A10: =ROUND(SUM(J10*$F$2),2) -> 0 | C10: Salz | F10: =SUM(E10*A10) -> 0 | J10: =I10/$I$2 -> 0 | L10: Stk | M10: Stück
A11: =ROUND(SUM(J11*$F$2),2) -> 0 | C11: Muskatnuss | F11: =SUM(E11*A11) -> 0 | J11: =I11/$I$2 -> 0 | L11: Pä | M11: Päckli
A12: =ROUND(SUM(J12*$F$2),2) -> 0.06 | B12: Kg | C12: Butter | F12: =SUM(E12*A12) -> 0 | I12: 0.05 | J12: =I12/$I$2 -> 0.0125 | L12: alles weitere ausschreiben
A13: =ROUND(SUM(J13*$F$2),2) -> 10 | B13: Stk | C13: Salbeiblätter | F13: =SUM(E13*A13) -> 0 | I13: 8 | J13: =I13/$I$2 -> 2
A14: =ROUND(SUM(J14*$F$2),2) -> 0 | C14: Parmesan | D14: frisch gerieben | F14: =SUM(E14*A14) -> 0 | J14: =I14/$I$2 -> 0
A15: =ROUND(SUM(J15*$F$2),2) -> 0 | F15: =SUM(E15*A15) -> 0 | J15: =I15/$I$2 -> 0
A16: =ROUND(SUM(J16*$F$2),2) -> 0 | F16: =SUM(E16*A16) -> 0 | J16: =I16/$I$2 -> 0
A17: =ROUND(SUM(J17*$F$2),2) -> 0 | F17: =SUM(E17*A17) -> 0 | J17: =I17/$I$2 -> 0
A18: =ROUND(SUM(J18*$F$2),2) -> 0 | F18: =SUM(E18*A18) -> 0 | J18: =I18/$I$2 -> 0
A19: =ROUND(SUM(J19*$F$2),2) -> 0 | F19: =SUM(E19*A19) -> 0 | J19: =I19/$I$2 -> 0
A20: =ROUND(SUM(J20*$F$2),2) -> 0 | F20: =SUM(E20*A20) -> 0 | J20: =I20/$I$2 -> 0
A21: =ROUND(SUM(J21*$F$2),2) -> 0 | F21: =SUM(E21*A21) -> 0 | J21: =I21/$I$2 -> 0
A22: Zubereitung
A23: Kürbis in Stücke schneiden, dämpfen und pürieren
A24: Kartoffeln kochen, schälen und durch die Kartoffelpresse drücken.
A25: Kartoffeln, Kürbispüree, Mehl, Griess, Ei, Salz und Muskatnuss zu einem Teig vermengen.
A26: Teig in Portionen teilen, zu Rollen formen und in klein Gnocchi schneiden.
A27: Gnocchi in kochendem Salzwasser garen, bis sie an die Oberfläche steigen.
A28: Butter in einer Pfanne zerlassen, Salbeiblätter dazugeben und leicht anbraten.
A29: Gnocchi abtropfen lassen und in der Salbeibutter schwenken.
A30: Mit frisch geriebenem Parmesan servieren.

Sheet Dessert
E1: Chochete vom | F1: =SUM(Menu!B3) -> 45617 | I1: Original Rezept
A2: =Menu!B13 -> Scheiterhaufen | E2: Rezept für | F2: =Menu!B19 -> 5 | I2: 4 | J2: Personen | L2: Menu Angaben wie folgt machen:
A3: Menge | B3: Einheit | C3: Artikel (Gewicht alles ca. Angaben) | D3: Bemerkungen | E3: Einkaufspreis | F3: Betrag | I3: Originalrezept | J3: pro Person
A4: =ROUND(SUM(J4*$F$2),2) -> 0 | F4: =SUM(E4*A4) -> 0 | J4: =I4/$I$2 -> 0 | L4: Kg | M4: 0.25
A5: =ROUND(SUM(J5*$F$2),2) -> 10 | B5: Stk | C5: Semmeln (Weggli) | F5: =SUM(E5*A5) -> 0 | I5: 8 | J5: =I5/$I$2 -> 2 | L5: Lt | M5: 1.25
A6: 4 | B6: Stk | C6: Ei | F6: =SUM(E6*A6) -> 0 | I6: 1 | J6: =I6/$I$2 -> 0.25 | L6: EL | M6: Esslöffel
A7: 11 | B7: Stk | C7: Äpfel | D7: feste, säuerliche | F7: =SUM(E7*A7) -> 0 | I7: 3 | J7: =I7/$I$2 -> 0.75 | L7: KL | M7: Kaffeelöffel
A8: =ROUND(SUM(J8*$F$2),2) -> 0.31 | B8: Lt | C8: Milch | F8: =SUM(E8*A8) -> 0 | I8: 0.25 | J8: =I8/$I$2 -> 0.0625 | L8: Bund | M8: 1
A9: =ROUND(SUM(J9*$F$2),2) -> 0.13 | B9: Kg | C9: Rosinen | F9: =SUM(E9*A9) -> 0 | I9: 0.1 | J9: =I9/$I$2 -> 0.025 | L9: Stk | M9: Stück
A10: =ROUND(SUM(J10*$F$2),2) -> 0 | C10: etwas Butter zum Einfetten der Auflaufform | F10: =SUM(E10*A10) -> 0 | J10: =I10/$I$2 -> 0 | L10: Pä | M10: Päckli
A11: =ROUND(SUM(J11*$F$2),2) -> 0 | F11: =SUM(E11*A11) -> 0 | J11: =I11/$I$2 -> 0 | L11: alles weitere ausschreiben
A12: =ROUND(SUM(J12*$F$2),2) -> 0 | F12: =SUM(E12*A12) -> 0 | J12: =I12/$I$2 -> 0
A13: =ROUND(SUM(J13*$F$2),2) -> 0 | F13: =SUM(E13*A13) -> 0 | J13: =I13/$I$2 -> 0
A14: =ROUND(SUM(J14*$F$2),2) -> 0 | F14: =SUM(E14*A14) -> 0 | J14: =I14/$I$2 -> 0
A15: =ROUND(SUM(J15*$F$2),2) -> 0 | F15: =SUM(E15*A15) -> 0 | J15: =I15/$I$2 -> 0
A16: =ROUND(SUM(J16*$F$2),2) -> 0 | F16: =SUM(E16*A16) -> 0 | J16: =I16/$I$2 -> 0
A17: =ROUND(SUM(J17*$F$2),2) -> 0 | F17: =SUM(E17*A17) -> 0 | J17: =I17/$I$2 -> 0
A18: =ROUND(SUM(J18*$F$2),2) -> 0 | F18: =SUM(E18*A18) -> 0 | J18: =I18/$I$2 -> 0
A19: =ROUND(SUM(J19*$F$2),2) -> 0 | F19: =SUM(E19*A19) -> 0 | J19: =I19/$I$2 -> 0
A20: =ROUND(SUM(J20*$F$2),2) -> 0 | F20: =SUM(E20*A20) -> 0 | J20: =I20/$I$2 -> 0
A21: Zubereitung
A22: Äpfel schälen, vom Kerngehäuse befreien, in dünne Scheiben schneiden und mit Zucker und Rosinen vermengen.
A23: Die Semmeln (Weggli) in Scheiben schneiden und das Ei teilen. Das Eigelb gut mit Milch verschlagen und darin die Semmelscheiben durchziehen.
A24: In ein eingefettete Auflaufform abwechselnd eine Lage Semmelscheiben und eine Lage Äpfel schichten.
A25: Eiweiss zu Schnee schlagen, mit Zucker verrühren und als Lage auf den Scheiterhaufen streichen.
A26: Im vorgeheizten Bachofen ca. 30 Minuten bei 200 Grad backen.

Sheet Diverses
E1: Chochete vom | F1: =SUM(Menu!B3) -> 45617 | I1: Original Rezept
A2: =Menu!B15 -> Wildsauce | E2: Rezept für | F2: =SUM(Menu!B19) -> 5 | I2: 4 | J2: Personen | L2: Menu Angaben wie folgt machen:
A3: Menge | B3: Einheit | C3: Artikel (Gewicht alles ca. Angaben) | D3: Bemerkungen | E3: Einkaufspreis | F3: Betrag | I3: Originalrezept | J3: pro Person
A4: =ROUND(SUM(J4*$F$2),2) -> 0.5 | B4: Lt | C4: Wildfond oder Fleischbouillon | F4: =SUM(E4*A4) -> 0 | I4: 0.4 | J4: =I4/$I$2 -> 0.1 | L4: Kg | M4: 0.25
A5: =ROUND(SUM(J5*$F$2),2) -> 0.06 | B5: Lt | C5: Rotwein | F5: =SUM(E5*A5) -> 0 | I5: 0.05 | J5: =I5/$I$2 -> 0.0125 | L5: Lt | M5: 1.25
A6: =ROUND(SUM(J6*$F$2),2) -> 3.75 | B6: Zweiglein | C6: Thymian | F6: =SUM(E6*A6) -> 0 | I6: 3 | J6: =I6/$I$2 -> 0.75 | L6: EL | M6: Esslöffel
A7: =ROUND(SUM(J7*$F$2),2) -> 3.75 | B7: EL | C7: Preiselbeeren aus dem Glas | F7: =SUM(E7*A7) -> 0 | I7: 3 | J7: =I7/$I$2 -> 0.75 | L7: KL | M7: Kaffeelöffel
A8: =ROUND(SUM(J8*$F$2),2) -> 12.5 | B8: gr | C8: dunkle Schokolade | F8: =SUM(E8*A8) -> 0 | I8: 10 | J8: =I8/$I$2 -> 2.5 | L8: Bund | M8: 1
A9: =ROUND(SUM(J9*$F$2),2) -> 2.5 | B9: TL | C9: Maizena Express (brauner Saucenbinder) | F9: =SUM(E9*A9) -> 0 | I9: 2 | J9: =I9/$I$2 -> 0.5 | L9: Stk | M9: Stück
A10: =ROUND(SUM(J10*$F$2),2) -> 0.25 | B10: Lt | C10: Saucen Halbrahm | F10: =SUM(E10*A10) -> 0 | I10: 0.2 | J10: =I10/$I$2 -> 0.05 | L10: Pä | M10: Päckli
A11: =ROUND(SUM(J11*$F$2),2) -> 0 | F11: =SUM(E11*A11) -> 0 | J11: =I11/$I$2 -> 0 | L11: alles weitere ausschreiben
A12: =ROUND(SUM(J12*$F$2),2) -> 0 | C12: Salz Pfeffer | F12: =SUM(E12*A12) -> 0 | J12: =I12/$I$2 -> 0
A13: =ROUND(SUM(J13*$F$2),2) -> 0 | F13: =SUM(E13*A13) -> 0 | J13: =I13/$I$2 -> 0
A14: =ROUND(SUM(J14*$F$2),2) -> 0 | F14: =SUM(E14*A14) -> 0 | J14: =I14/$I$2 -> 0
A15: =ROUND(SUM(J15*$F$2),2) -> 0 | F15: =SUM(E15*A15) -> 0 | J15: =I15/$I$2 -> 0
A16: =ROUND(SUM(J16*$F$2),2) -> 0 | F16: =SUM(E16*A16) -> 0 | J16: =I16/$I$2 -> 0
A17: =ROUND(SUM(J17*$F$2),2) -> 0 | F17: =SUM(E17*A17) -> 0 | J17: =I17/$I$2 -> 0
A18: =ROUND(SUM(J18*$F$2),2) -> 0 | F18: =SUM(E18*A18) -> 0 | J18: =I18/$I$2 -> 0
A19: =ROUND(SUM(J19*$F$2),2) -> 0 | F19: =SUM(E19*A19) -> 0 | J19: =I19/$I$2 -> 0
A20: =ROUND(SUM(J20*$F$2),2) -> 0 | F20: =SUM(E20*A20) -> 0 | J20: =I20/$I$2 -> 0
A21: Zubereitung
A22: Fond, Wein und Thymian in einer kleinen Pfanne aufkochen, ca. 3 Min. auf die Hälfte einkochen. | P22: Fond, Wein und Thymian in einer kleinen Pfanne aufkochen, ca. 3 Min. auf die Hälfte einkochen.
A23: Schokolade grob hacken, mit den Preiselbeeren, Maizena express und Saucen-Halbrahm zum Fond geben.
A24: Sauce unter Rühren mit dem Schwingbesen ca. 2 Min. kochen, würzen.

Sheet Einkaufsliste
A1: Hobby-Küche Zug | C1: Einkaufsliste | D1: =Dessert!F1 -> 45617 | E1: ok
A2: Menge | B2: Einheit | C2: Artikel
A3: ='1.Vorspeise'!A2 -> Krautsalat mit Apfelstücken und Baumnüsse | D3: Bemerkungen
A4: =SUM('1.Vorspeise'!A4) -> 0.5 | B4: ='1.Vorspeise'!B4 -> Kg | C4: ='1.Vorspeise'!C4 -> Weisskraut | D4: ='1.Vorspeise'!D4 -> 0
A5: =SUM('1.Vorspeise'!A5) -> 0.03 | B5: ='1.Vorspeise'!B5 -> Lt | C5: ='1.Vorspeise'!C5 -> Essig | D5: ='1.Vorspeise'!D5 -> 0
A6: =SUM('1.Vorspeise'!A6) -> 0.08 | B6: ='1.Vorspeise'!B6 -> Lt | C6: ='1.Vorspeise'!C6 -> Oel | D6: ='1.Vorspeise'!D6 -> 0
A7: =SUM('1.Vorspeise'!A7) -> 0 | B7: ='1.Vorspeise'!B7 -> 0 | C7: ='1.Vorspeise'!C7 -> Kümmel | D7: ='1.Vorspeise'!D7 -> 0
A8: =SUM('1.Vorspeise'!A8) -> 0 | B8: ='1.Vorspeise'!B8 -> 0 | C8: ='1.Vorspeise'!C8 -> Salz | D8: ='1.Vorspeise'!D8 -> 0
A9: =SUM('1.Vorspeise'!A9) -> 0 | B9: ='1.Vorspeise'!B9 -> 0 | C9: ='1.Vorspeise'!C9 -> Pfeffer aus der Mühle | D9: ='1.Vorspeise'!D9 -> 0
A10: =SUM('1.Vorspeise'!A10) -> 0 | B10: ='1.Vorspeise'!B10 -> 0 | C10: ='1.Vorspeise'!C10 -> Baumüsse | D10: ='1.Vorspeise'!D10 -> 0
A11: =SUM('1.Vorspeise'!A11) -> 4 | B11: ='1.Vorspeise'!B11 -> Stk | C11: ='1.Vorspeise'!C11 -> Apfel (sauer) | D11: ='1.Vorspeise'!D11 -> 0
A12: =SUM('1.Vorspeise'!A12) -> 0 | B12: ='1.Vorspeise'!B12 -> 0 | C12: ='1.Vorspeise'!C12 -> 0 | D12: ='1.Vorspeise'!D12 -> 0
A13: =SUM('1.Vorspeise'!A13) -> 0 | B13: ='1.Vorspeise'!B13 -> 0 | C13: ='1.Vorspeise'!C13 -> 0 | D13: ='1.Vorspeise'!D13 -> 0
A14: =SUM('1.Vorspeise'!A14) -> 0 | B14: ='1.Vorspeise'!B14 -> 0 | C14: ='1.Vorspeise'!C14 -> 0 | D14: ='1.Vorspeise'!D14 -> 0
A15: =SUM('1.Vorspeise'!A15) -> 0 | B15: ='1.Vorspeise'!B15 -> 0 | C15: ='1.Vorspeise'!C15 -> 0 | D15: ='1.Vorspeise'!D15 -> 0
... A20: =SUM('1.Vorspeise'!A20) -> 0 | B20: ='1.Vorspeise'!B20 -> 0 | C20: ='1.Vorspeise'!C20 -> 0 | D20: ='1.Vorspeise'!D20 -> 0
A21: ='2. Vorspeise'!A2 -> Tarlette mit Lauch und Speck | D21: Bemerkungen
A22: =SUM('2. Vorspeise'!A4) -> 0 | B22: ='2. Vorspeise'!B4 -> 0 | C22: ='2. Vorspeise'!C4 -> Teig | D22: ='2. Vorspeise'!D4 -> 0
A23: =SUM('2. Vorspeise'!A5) -> 0.25 | B23: ='2. Vorspeise'!B5 -> Kg | C23: ='2. Vorspeise'!C5 -> Brotmischung | D23: ='2. Vorspeise'!D5 -> 0
A24: =SUM('2. Vorspeise'!A6) -> 0.13 | B24: ='2. Vorspeise'!B6 -> Kg | C24: ='2. Vorspeise'!C6 -> Butter | D24: ='2. Vorspeise'!D6 -> 0
A25: =SUM('2. Vorspeise'!A7) -> 0.09 | B25: ='2. Vorspeise'!B7 -> Kg | C25: ='2. Vorspeise'!C7 -> kaltes Wasser | D25: ='2. Vorspeise'!D7 -> 0
A26: =SUM('2. Vorspeise'!A8) -> 0 | B26: ='2. Vorspeise'!B8 -> 0 | C26: ='2. Vorspeise'!C8 -> 0 | D26: ='2. Vorspeise'!D8 -> 0
A27: =SUM('2. Vorspeise'!A9) -> 0 | B27: ='2. Vorspeise'!B9 -> 0 | C27: ='2. Vorspeise'!C9 -> 0 | D27: ='2. Vorspeise'!D9 -> 0
A28: =SUM('2. Vorspeise'!A10) -> 0 | B28: ='2. Vorspeise'!B10 | C28: ='2. Vorspeise'!C10 -> Füllung | D28: ='2. Vorspeise'!D10 -> 0
A29: =SUM('2. Vorspeise'!A11) -> 0.38 | B29: ='2. Vorspeise'!B11 -> Lt | C29: ='2. Vorspeise'!C11 -> Milch | D29: ='2. Vorspeise'!D11 -> 0
A30: =SUM('2. Vorspeise'!A12) -> 0.31 | B30: ='2. Vorspeise'!B12 -> Kg | C30: ='2. Vorspeise'!C12 -> Bergkäse | D30: ='2. Vorspeise'!D12 -> 0
A31: =SUM('2. Vorspeise'!A13) -> 0.25 | B31: ='2. Vorspeise'!B13 -> Kg | C31: ='2. Vorspeise'!C13 -> Landrauchschinken | D31: ='2. Vorspeise'!D13 -> 0
A32: =SUM('2. Vorspeise'!A14) -> 0.06 | B32: ='2. Vorspeise'!B14 -> Kg | C32: ='2. Vorspeise'!C14 -> Butter | D32: ='2. Vorspeise'!D14 -> 0
A33: =SUM('2. Vorspeise'!A15) -> 0.06 | B33: ='2. Vorspeise'!B15 -> Kg | C33: ='2. Vorspeise'!C15 -> Rechmehl | D33: ='2. Vorspeise'!D15 -> 0
... A37: =SUM('2. Vorspeise'!A19) -> 0 | B37: ='2. Vorspeise'!B19 -> 0 | C37: ='2. Vorspeise'!C19 -> Natives Olivenöl extra | D37: ='2. Vorspeise'!D19 -> 0
A38: =SUM('2. Vorspeise'!A21) -> 0 | B38: ='2. Vorspeise'!B21 -> 0 | C38: ='2. Vorspeise'!C21 -> eine Prise Muskatnuss | D38: ='2. Vorspeise'!D21 -> 0
A39: =Hauptgang!A2 -> Hirschsteak mit Bergkäse überbacken | D39: Bemerkungen
A40: =SUM(Hauptgang!A4) -> 0 | B40: =Hauptgang!B4 -> 0 | C40: =Hauptgang!C4 -> 0 | D40: =Hauptgang!D4 -> 0
A41: =SUM(Hauptgang!A5) -> 0.5 | B41: =Hauptgang!B5 -> Kg | C41: =Hauptgang!C5 -> Hirschsteak | D41: =Hauptgang!D5 -> 0
A42: =SUM(Hauptgang!A6) -> 0.15 | B42: =Hauptgang!B6 -> Kg | C42: =Hauptgang!C6 -> Augerginen | D42: =Hauptgang!D6 -> 0
A43: =SUM(Hauptgang!A7) -> 0.13 | B43: =Hauptgang!B7 -> Kg | C43: =Hauptgang!C7 -> Lauch | D43: =Hauptgang!D7 -> 0
A44: =SUM(Hauptgang!A8) -> 0.04 | B44: =Hauptgang!B8 -> Kg | C44: =Hauptgang!C8 -> Butter | D44: =Hauptgang!D8 -> 0
A45: =SUM(Hauptgang!A9) -> 6 | B45: =Hauptgang!B9 -> Zehe | C45: =Hauptgang!C9 -> Knoblauchzehe | D45: =Hauptgang!D9 -> 1/2 Zehe f. 4 P.
A46: =SUM(Hauptgang!A10) -> 0 | B46: =Hauptgang!B10 -> 0 | C46: =Hauptgang!C10 -> Salz | D46: =Hauptgang!D10 -> 0
A47: =SUM(Hauptgang!A11) -> 0 | B47: =Hauptgang!B11 -> 0 | C47: =Hauptgang!C11 -> Peffer aus der Mühle | D47: =Hauptgang!D11 -> 0
A48: =SUM(Hauptgang!A12) -> 4 | B48: =Hauptgang!B12 -> TL | C48: =Hauptgang!C12 -> Thymian und Majoran | D48: =Hauptgang!D12 -> fein geschnitten
A49: =SUM(Hauptgang!A13) -> 2.5 | B49: =Hauptgang!B13 -> TL | C49: =Hauptgang!C13 -> Oel zum Anbraten | D49: =Hauptgang!D13 -> 0
A50: =SUM(Hauptgang!A14) -> 0 | B50: =Hauptgang!B14 -> 0 | C50: =Hauptgang!C14 -> 0 | D50: =Hauptgang!D14 -> 0
A51: =SUM(Hauptgang!A15) -> 0 | B51: =Hauptgang!B15 -> 0 | C51: =Hauptgang!C15 -> Zum Ueberbacken | D51: =Hauptgang!D15 -> 0
... A56: =SUM(Hauptgang!A20) -> 0 | B56: =Hauptgang!B20 -> 0 | C56: =Hauptgang!C20 -> 0 | D56: =Hauptgang!D20 -> 0
A57: =Beilage1!A2 -> Kürbisgnocchi mit Salbeibutter | D57: Bemerkungen
A58: =Beilage1!A5 -> 0.63 | B58: =Beilage1!B5 -> Kg | C58: =Beilage1!C5 -> Kürbis (Hokkaido oder Butternut) | D58: =Beilage1!D5 -> 0
A59: =Beilage1!A6 -> 0.31 | B59: =Beilage1!B6 -> Kg | C59: =Beilage1!C6 -> Kartoffeln, mehligkochend | D59: =Beilage1!D6 -> 0
A60: =Beilage1!A7 -> 0.19 | B60: =Beilage1!B7 -> Kg | C60: =Beilage1!C7 -> Mehl | D60: =Beilage1!D7 -> 0
A61: =Beilage1!A8 -> 0.06 | B61: =Beilage1!B8 -> Kg | C61: =Beilage1!C8 -> Gries | D61: =Beilage1!D8 -> 0
A62: =Beilage1!A9 -> 4 | B62: =Beilage1!B9 -> Stk | C62: =Beilage1!C9 -> Ei | D62: =Beilage1!D9 -> 0
A63: =Beilage1!A10 -> 0 | B63: =Beilage1!B10 -> 0 | C63: =Beilage1!C10 -> Salz | D63: =Beilage1!D10 -> 0
A64: =Beilage1!A11 -> 0 | B64: =Beilage1!B11 -> 0 | C64: =Beilage1!C11 -> Muskatnuss | D64: =Beilage1!D11 -> 0
A65: =Beilage1!A12 -> 0.06 | B65: =Beilage1!B12 -> Kg | C65: =Beilage1!C12 -> Butter | D65: =Beilage1!D12 -> 0
A66: =Beilage1!A13 -> 10 | B66: =Beilage1!B13 -> Stk | C66: =Beilage1!C13 -> Salbeiblätter | D66: =Beilage1!D13 -> 0
A67: =Beilage1!A14 -> 0 | B67: =Beilage1!B14 -> 0 | C67: =Beilage1!C14 -> Parmesan | D67: =Beilage1!D14 -> frisch gerieben
A68: =Beilage1!A15 -> 0 | B68: =Beilage1!B15 -> 0 | C68: =Beilage1!C15 -> 0 | D68: =Beilage1!D15 -> 0
A69: =Beilage1!A16 -> 0 | B69: =Beilage1!B16 -> 0 | C69: =Beilage1!C16 -> 0 | D69: =Beilage1!D16 -> 0
... A74: =Beilage1!A21 -> 0 | B74: =Beilage1!B21 -> 0 | C74: =Beilage1!C21 -> 0 | D74: =Beilage1!D21 -> 0
A75: =Dessert!A2 -> Scheiterhaufen | D75: Bemerkungen
A76: =SUM(Dessert!A4) -> 0 | B76: =Dessert!B4 -> 0 | C76: =Dessert!C4 -> 0 | D76: =Dessert!D4 -> 0
A77: =SUM(Dessert!A5) -> 10 | B77: =Dessert!B5 -> Stk | C77: =Dessert!C5 -> Semmeln (Weggli) | D77: =Dessert!D5 -> 0
A78: =SUM(Dessert!A6) -> 4 | B78: =Dessert!B6 -> Stk | C78: =Dessert!C6 -> Ei | D78: =Dessert!D6 -> 0
A79: =SUM(Dessert!A7) -> 11 | B79: =Dessert!B7 -> Stk | C79: =Dessert!C7 -> Äpfel | D79: =Dessert!D7 -> feste, säuerliche
A80: =SUM(Dessert!A8) -> 0.31 | B80: =Dessert!B8 -> Lt | C80: =Dessert!C8 -> Milch | D80: =Dessert!D8 -> 0
A81: =SUM(Dessert!A9) -> 0.13 | B81: =Dessert!B9 -> Kg | C81: =Dessert!C9 -> Rosinen | D81: =Dessert!D9 -> 0
A82: =SUM(Dessert!A10) -> 0 | B82: =Dessert!B10 -> 0 | C82: =Dessert!C10 -> etwas Butter zum Einfetten der Auflaufform | D82: =Dessert!D10 -> 0
A83: =SUM(Dessert!A11) -> 0 | B83: =Dessert!B11 -> 0 | C83: =Dessert!C11 -> 0 | D83: =Dessert!D11 -> 0
A84: =SUM(Dessert!A12) -> 0 | B84: =Dessert!B12 -> 0 | C84: =Dessert!C12 -> 0 | D84: =Dessert!D12 -> 0
A85: =SUM(Dessert!A13) -> 0 | B85: =Dessert!B13 -> 0 | C85: =Dessert!C13 -> 0 | D85: =Dessert!D13 -> 0
A86: =SUM(Dessert!A14) -> 0 | B86: =Dessert!B14 -> 0 | C86: =Dessert!C14 -> 0 | D86: =Dessert!D14 -> 0
A87: =SUM(Dessert!A15) -> 0 | B87: =Dessert!B15 -> 0 | C87: =Dessert!C15 -> 0 | D87: =Dessert!D15 -> 0
... A92: =SUM(Dessert!A20) -> 0 | B92: =Dessert!B20 -> 0 | C92: =Dessert!C20 -> 0 | D92: =Dessert!D20 -> 0
A94: =SUM(Dessert!A22) -> 0 | B94: =Dessert!B24 -> 0 | C94: =Dessert!C24 -> 0
A95: =SUM(Dessert!A23) -> 0 | B95: =Dessert!B25 -> 0 | C95: =Dessert!C25 -> 0
A96: =SUM(Dessert!A26) -> 0 | B96: =Dessert!B26 -> 0 | C96: =Dessert!C26 -> 0
A109: =SUM(Dessert!A27) -> 0 | B109: =Dessert!B27 -> 0 | C109: =Dessert!C27 -> 0
A110: =SUM(Dessert!A28) -> 0 | B110: =Dessert!B28 -> 0 | C110: =Dessert!C28 -> 0
A111: =SUM(Dessert!A29) -> 0 | B111: =Dessert!B29 -> 0 | C111: =Dessert!C29 -> 0
A112: =SUM(Dessert!A30) -> 0 | B112: =Dessert!B30 -> 0 | C112: =Dessert!C30 -> 0
A113: =SUM(Dessert!A31) -> 0 | B113: =Dessert!B31 -> 0 | C113: =Dessert!C31 -> 0
A114: =SUM(Dessert!A32) -> 0 | B114: =Dessert!B32 -> 0 | C114: =Dessert!C32 -> 0
