Workbook

Sheet Menu
B1: Nose to tail - Beef
A3: Datum | B3: 45071 | D3: Menu Angaben wie folgt machen: | H3: Kg | I3: 0.25
H4: Lt | I4: 1.25
A5: Vorspeise 1 | B5: Pikanter Kiwi-Fenchelsalat mit Rinderschinken | D5: alle weiteren Angaben ausschreiben | H5: EL | I5: Esslöffel
H6: TL | I6: Teelöffel
A7: Vorspeise 2 | B7: Siedfleisch vom Rind | H7: Bund | I7: 1
H8: Stk | I8: Stück
A9: Hauptgang | B9: Rinderherz | H9: Pä | I9: Päckli
A10: Beilage1 | B10: Sweet Potato / Potato Fries
A11: Beilage2 | B11: BBQ Sauce
A13: Dessert | B13: Erdbeer Mille Feuilles mit Vanille
A15: Diverses | B15: Brot
A17: Menu von Tisch | B17: A
A19: Personenzahl | B19: 15

Sheet Vorspeise
E1: Chochete vom | F1: =SUM(Menu!B3) -> 45071 | I1: Original Rezept
A2: =Menu!B5 -> Pikanter Kiwi-Fenchelsalat mit Rinderschinken | E2: Rezept für | F2: 1 | I2: 6 | J2: Personen | L2: Menu Angaben wie folgt machen:
A3: Menge | B3: Einheit | C3: Artikel (Gewicht alles ca. Angaben) | D3: Bemerkungen | E3: Einkaufspreis | F3: Betrag | I3: Originalrezept | J3: pro Person
A4: =ROUND(SUM(J4*$F$2),2) -> 1 | B4: Stk | C4: Kiwi | F4: =SUM(E4*A4) -> 0 | I4: 6 | J4: =I4/$I$2 -> 1 | L4: Kg | M4: 0.25
A5: =ROUND(SUM(J5*$F$2),2) -> 0.25 | B5: Stk | C5: Fenchelknollen | F5: =SUM(E5*A5) -> 0 | I5: 1.5 | J5: =I5/$I$2 -> 0.25 | L5: Lt | M5: 1.25
A6: =ROUND(SUM(J6*$F$2),2) -> 10 | B6: g | C6: Rugola | F6: =SUM(E6*A6) -> 0 | I6: 60 | J6: =I6/$I$2 -> 10 | L6: EL | M6: Esslöffel
A7: =ROUND(SUM(J7*$F$2),2) -> 8.33 | B7: g | C7: Sesam | F7: =SUM(E7*A7) -> 0 | I7: 50 | J7: =I7/$I$2 -> 8.3333333 | L7: TL | M7: Kaffeelöffel
A8: =ROUND(SUM(J8*$F$2),2) -> 0.13 | B8: Stk | C8: Bio-Orangen | F8: =SUM(E8*A8) -> 0 | I8: 0.75 | J8: =I8/$I$2 -> 0.125 | L8: Bund | M8: 1
A9: =ROUND(SUM(J9*$F$2),2) -> 0.13 | B9: EL | C9: Dijonsenf (körnig) | F9: =SUM(E9*A9) -> 0 | I9: 0.75 | J9: =I9/$I$2 -> 0.125 | L9: Stk | M9: Stück
A10: =ROUND(SUM(J10*$F$2),2) -> 0.13 | B10: TL | C10: Honig | F10: =SUM(E10*A10) -> 0 | I10: 0.75 | J10: =I10/$I$2 -> 0.125 | L10: Pä | M10: Päckli
A11: =ROUND(SUM(J11*$F$2),2) -> 0.63 | B11: EL | C11: Olivenöl | F11: =SUM(E11*A11) -> 0 | I11: 3.75 | J11: =I11/$I$2 -> 0.625 | L11: alles weitere ausschreiben
A12: =ROUND(SUM(J12*$F$2),2) -> 15 | B12: g | C12: Rinderschinken | F12: =SUM(E12*A12) -> 0 | I12: 90 | J12: =I12/$I$2 -> 15
A13: =ROUND(SUM(J13*$F$2),2) -> 0 | F13: =SUM(E13*A13) -> 0 | J13: =I13/$I$2 -> 0
F14: =SUM(E14*A14) -> 0
F15: =SUM(E15*A15) -> 0
F16: =SUM(E16*A16) -> 0
A17: =ROUND(SUM(J17*$F$2),2) -> 0 | C17: Salz | F17: =SUM(E17*A17) -> 0 | J17: =I17/$I$2 -> 0
A18: =ROUND(SUM(J18*$F$2),2) -> 0 | C18: Pfeffer | F18: =SUM(E18*A18) -> 0 | J18: =I18/$I$2 -> 0
A19: =ROUND(SUM(J19*$F$2),2) -> 0 | F19: =SUM(E19*A19) -> 0 | J19: =I19/$I$2 -> 0
A20: =ROUND(SUM(J20*$F$2),2) -> 0 | F20: =SUM(E20*A20) -> 0 | J20: =I20/$I$2 -> 0
A21: Zubereitung
A22: Kiwis wie Äpfel schälen, quer in Scheiben schneiden. Fenchelknollen waschen, putzen, in sehr feine Scheiben schneiden. Rucola putzen, waschen, gut trockenschütteln. Sesam in einer Pfanne ohne Fett rösten. Orangenschale in Zesten abziehen, Saft auspressen. Saft und Zesten mit Senf und Honig glattrühren, Olivenöl unterschlagen. Mit Salz und Pfeffer würzen. Kiwi-, Fenchelscheiben mit Rucola und Schinken portionsweise auf Tellern anrichten. Dressing darüberträufeln und mit Sesam bestreut servieren.

Sheet Vorspeise2
E1: Chochete vom | F1: =SUM(Menu!B3) -> 45071 | I1: Original Rezept
A2: =Menu!B7 -> Siedfleisch vom Rind | E2: Rezept für | F2: 12 | I2: 8 | J2: Personen | L2: Menu Angaben wie folgt machen:
A3: Menge | B3: Einheit | C3: Artikel (Gewicht alles ca. Angaben) | D3: Bemerkungen | E3: Einkaufspreis | F3: Betrag | I3: Originalrezept | J3: pro Person
A4: =ROUND(SUM(J4*$F$2),2) -> 900 | B4: g | C4: Siedfleisch vom Rind | F4: =SUM(E4*A4) -> 0 | I4: 600 | J4: =I4/$I$2 -> 75 | L4: Kg | M4: 0.25
A5: =ROUND(SUM(J5*$F$2),2) -> 9 | B5: Stk | C5: Pfefferkörner | F5: =SUM(E5*A5) -> 0 | I5: 6 | J5: =I5/$I$2 -> 0.75 | L5: Lt | M5: 1.25
A6: =ROUND(SUM(J6*$F$2),2) -> 1.5 | B6: Stk | C6: Zwiebel | F6: =SUM(E6*A6) -> 0 | I6: 1 | J6: =I6/$I$2 -> 0.125 | L6: EL | M6: Esslöffel
A7: =ROUND(SUM(J7*$F$2),2) -> 1.5 | B7: Stk | C7: Rüebli | F7: =SUM(E7*A7) -> 0 | I7: 1 | J7: =I7/$I$2 -> 0.125 | L7: TL | M7: Kaffeelöffel
A8: =ROUND(SUM(J8*$F$2),2) -> 1.5 | B8: Stk | C8: Bio-Zitrone | F8: =SUM(E8*A8) -> 0 | I8: 1 | J8: =I8/$I$2 -> 0.125 | L8: Bund | M8: 1
A9: =ROUND(SUM(J9*$F$2),2) -> 1.5 | B9: Stk | C9: Meerrettich | F9: =SUM(E9*A9) -> 0 | I9: 1 | J9: =I9/$I$2 -> 0.125 | L9: Stk | M9: Stück
A10: =ROUND(SUM(J10*$F$2),2) -> 1.5 | B10: EL | C10: Kapern | F10: =SUM(E10*A10) -> 0 | I10: 1 | J10: =I10/$I$2 -> 0.125 | L10: Pä | M10: Päckli
A11: =ROUND(SUM(J11*$F$2),2) -> 4.5 | B11: EL | C11: Olivenöl | F11: =SUM(E11*A11) -> 0 | I11: 3 | J11: =I11/$I$2 -> 0.375 | L11: alles weitere ausschreiben
A12: =ROUND(SUM(J12*$F$2),2) -> 1.5 | B12: EL | C12: Kresse | F12: =SUM(E12*A12) -> 0 | I12: 1 | J12: =I12/$I$2 -> 0.125
A13: =ROUND(SUM(J13*$F$2),2) -> 12 | B13: Stk | C13: Scheiben Brot | F13: =SUM(E13*A13) -> 0 | I13: 8 | J13: =I13/$I$2 -> 1
A14: =ROUND(SUM(J14*$F$2),2) -> 120 | B14: g | C14: Butter | F14: =SUM(E14*A14) -> 0 | I14: 80 | J14: =I14/$I$2 -> 10
A15: =ROUND(SUM(J15*$F$2),2) -> 0 | F15: =SUM(E15*A15) -> 0 | J15: =I15/$I$2 -> 0
A16: =ROUND(SUM(J16*$F$2),2) -> 0 | F16: =SUM(E16*A16) -> 0 | J16: =I16/$I$2 -> 0
A17: =ROUND(SUM(J17*$F$2),2) -> 0 | F17: =SUM(E17*A17) -> 0 | J17: =I17/$I$2 -> 0
A18: =ROUND(SUM(J18*$F$2),2) -> 0 | F18: =SUM(E18*A18) -> 0 | J18: =I18/$I$2 -> 0
A19: =ROUND(SUM(J19*$F$2),2) -> 0 | F19: =SUM(E19*A19) -> 0 | J19: =I19/$I$2 -> 0
A20: =ROUND(SUM(J20*$F$2),2) -> 0 | F20: =SUM(E20*A20) -> 0 | J20: =I20/$I$2 -> 0
A21: Zubereitung
A22: Ca. 2,5 l Wasser zum Kochen bringen. Siedfleisch, Salz, Pfefferkörner, geschälte Zwiebel und Rüebli zugeben. Bei milder Hitze 2h garen. (Tip: Wenn sich die Fleischgabel einfach ins Siedfleisch stechen lässt, ist es perfekt!) Pfanne vom Feuer nehmen und das Siedfleisch in der Brühe erkalten lassen. Zitrone heiss abwaschen, trocken reiben und die Schale auf einer Küchenreibe fein abreiben. Meerrettich schälen und ebenfalls fein reiben. Kapern grob hacken. Alles mit Olivenöl verrühren und mit einem Spritzer Zitronensaft, Meersalz und Pfeffer würzen. Kresse unterrühren. Siedfleisch in dünne Scheiben schneiden. Brotscheiben buttern, mit den Siedfleischscheiben belegen, die Marinade daraufgeben und sofort servieren. Gemüse falsch gewünscht dazu servieren.

Sheet Hauptgang
E1: Chochete vom | F1: =SUM(Menu!B3) -> 45071 | I1: Original Rezept
A2: =Menu!B9 -> Rinderherz | E2: Rezept für | F2: 12 | I2: 6 | J2: Personen | L2: Menu Angaben wie folgt machen:
A3: Menge | B3: Einheit | C3: Artikel (Gewicht alles ca. Angaben) | D3: Bemerkungen | E3: Einkaufspreis | F3: Betrag | I3: Originalrezept | J3: pro Person
A4: =ROUND(SUM(J4*$F$2),2) -> 2 | B4: Stk | C4: Herz vom Rind | F4: =SUM(E4*A4) -> 0 | I4: 1 | J4: =I4/$I$2 -> 0.16666667 | L4: Kg | M4: 0.25
A5: =ROUND(SUM(J5*$F$2),2) -> 2 | B5: dl | C5: Rotwein | D5: Marinade | F5: =SUM(E5*A5) -> 0 | I5: 1 | J5: =I5/$I$2 -> 0.16666667 | L5: Lt | M5: 1.25
A6: =ROUND(SUM(J6*$F$2),2) -> 2 | B6: dl | C6: Whisky | D6: Marinade | F6: =SUM(E6*A6) -> 0 | I6: 1 | J6: =I6/$I$2 -> 0.16666667 | L6: EL | M6: Esslöffel
A7: =ROUND(SUM(J7*$F$2),2) -> 2 | B7: dl | C7: Olivenöl | D7: Marinade | F7: =SUM(E7*A7) -> 0 | I7: 1 | J7: =I7/$I$2 -> 0.16666667 | L7: TL | M7: Kaffeelöffel
A8: =ROUND(SUM(J8*$F$2),2) -> 4 | B8: EL | C8: Honig | D8: Marinade | F8: =SUM(E8*A8) -> 0 | I8: 2 | J8: =I8/$I$2 -> 0.33333333 | L8: Bund | M8: 1
A9: =ROUND(SUM(J9*$F$2),2) -> 2 | B9: TL | C9: Chilipulver | D9: Marinade | F9: =SUM(E9*A9) -> 0 | I9: 1 | J9: =I9/$I$2 -> 0.16666667 | L9: Stk | M9: Stück
A10: =ROUND(SUM(J10*$F$2),2) -> 8 | B10: Stk | C10: Knoblauchzehen, fein gehackt | D10: Marinade | F10: =SUM(E10*A10) -> 0 | I10: 4 | J10: =I10/$I$2 -> 0.66666667 | L10: Pä | M10: Päckli
A11: =ROUND(SUM(J11*$F$2),2) -> 1 | B11: TL | C11: Kreuzkümmelpulver | D11: Marinade | F11: =SUM(E11*A11) -> 0 | I11: 0.5 | J11: =I11/$I$2 -> 0.083333333 | L11: alles weitere ausschreiben
A12: =ROUND(SUM(J12*$F$2),2) -> 20 | B12: Stk | C12: Pfefferkörner schwarz | D12: Marinade | F12: =SUM(E12*A12) -> 0 | I12: 10 | J12: =I12/$I$2 -> 1.6666667
A13: =ROUND(SUM(J13*$F$2),2) -> 0 | F13: =SUM(E13*A13) -> 0 | J13: =I13/$I$2 -> 0
A14: =ROUND(SUM(J14*$F$2),2) -> 0 | F14: =SUM(E14*A14) -> 0 | J14: =I14/$I$2 -> 0
A15: =ROUND(SUM(J15*$F$2),2) -> 0 | F15: =SUM(E15*A15) -> 0 | J15: =I15/$I$2 -> 0
A16: =ROUND(SUM(J16*$F$2),2) -> 0 | F16: =SUM(E16*A16) -> 0 | J16: =I16/$I$2 -> 0
A17: =ROUND(SUM(J17*$F$2),2) -> 0 | F17: =SUM(E17*A17) -> 0 | J17: =I17/$I$2 -> 0
A18: =ROUND(SUM(J18*$F$2),2) -> 0 | F18: =SUM(E18*A18) -> 0 | J18: =I18/$I$2 -> 0
A19: =ROUND(SUM(J19*$F$2),2) -> 0 | F19: =SUM(E19*A19) -> 0 | J19: =I19/$I$2 -> 0
F20: =SUM(E20*A20) -> 0 | J20: =I20/$I$2 -> 0
A21: Zubereitung
A22: Das Herz der Länge nach in 3–4 cm breite Streifen schneiden und anschliessend alles wegschneiden, was nicht Muskelfleisch ist. Für die Marinade Rotwein, Whisky, Olivenöl, Honig, Chilipulver, Chilischote, Knoblauchzehen, Gewürznelken, Kreuzkümmelpulver und Pfefferkörner in einer Schüssel mischen und die Herzscheiben hineinlegen. Gut zudecken und für 2 - 4 Stunden in den Kühlschrank stellen. Das Fleisch eine Stunde vor der Zubereitung aus dem Kühlschrank nehmen. Die Marinade gut abstreifen. Pfanne mit Öl auf höchster Stufe erhitzen. Wenn das Öl flüssig ist, Fleisch hineingeben. Achtung: Herz solltest du bleu oder saignant geniessen. Brate das Fleisch deshalb portionenweise, sehr heiss und nur ganz kurz an – maximal 2 Minuten pro Seite.

Sheet Beilage1
E1: Chochete vom | F1: =SUM(Menu!B3) -> 45071 | I1: Original Rezept
A2: =Menu!B10 -> Sweet Potato / Potato Fries | E2: Rezept für | F2: 12 | I2: 6 | J2: Personen | L2: Menu Angaben wie folgt machen:
A3: Menge | B3: Einheit | C3: Artikel (Gewicht alles ca. Angaben) | D3: Bemerkungen | E3: Einkaufspreis | F3: Betrag | I3: Originalrezept | J3: pro Person
A4: =ROUND(SUM(J4*$F$2),2) -> 4 | B4: St | C4: Süsskartoffel | F4: =SUM(E4*A4) -> 0 | I4: 2 | J4: =I4/$I$2 -> 0.33333333 | L4: Kg | M4: 0.25
A5: =ROUND(SUM(J5*$F$2),2) -> 4 | B5: St | C5: Kartoffeln | F5: =SUM(E5*A5) -> 0 | I5: 2 | J5: =I5/$I$2 -> 0.33333333 | L5: Lt | M5: 1.25
A6: =ROUND(SUM(J6*$F$2),2) -> 0 | F6: =SUM(E6*A6) -> 0 | J6: =I6/$I$2 -> 0 | L6: EL | M6: Esslöffel
C7: Salz | F7: =SUM(E7*A7) -> 0 | J7: =I7/$I$2 -> 0 | L7: TL | M7: Kaffeelöffel
F8: =SUM(E8*A8) -> 0 | J8: =I8/$I$2 -> 0 | L8: Bund | M8: 1
F9: =SUM(E9*A9) -> 0 | J9: =I9/$I$2 -> 0 | L9: Stk | M9: Stück
F10: =SUM(E10*A10) -> 0 | J10: =I10/$I$2 -> 0 | L10: Pä | M10: Päckli
F11: =SUM(E11*A11) -> 0 | J11: =I11/$I$2 -> 0 | L11: alles weitere ausschreiben
F12: =SUM(E12*A12) -> 0 | J12: =I12/$I$2 -> 0
F13: =SUM(E13*A13) -> 0 | J13: =I13/$I$2 -> 0
A14: =ROUND(SUM(J14*$F$2),2) -> 0 | F14: =SUM(E14*A14) -> 0 | J14: =I14/$I$2 -> 0
A15: =ROUND(SUM(J15*$F$2),2) -> 0 | F15: =SUM(E15*A15) -> 0 | J15: =I15/$I$2 -> 0
A16: =ROUND(SUM(J16*$F$2),2) -> 0 | F16: =SUM(E16*A16) -> 0 | J16: =I16/$I$2 -> 0
A17: =ROUND(SUM(J17*$F$2),2) -> 0 | F17: =SUM(E17*A17) -> 0 | J17: =I17/$I$2 -> 0
A18: =ROUND(SUM(J18*$F$2),2) -> 0 | F18: =SUM(E18*A18) -> 0 | J18: =I18/$I$2 -> 0
A19: =ROUND(SUM(J19*$F$2),2) -> 0 | F19: =SUM(E19*A19) -> 0 | J19: =I19/$I$2 -> 0
A20: =ROUND(SUM(J20*$F$2),2) -> 0 | F20: =SUM(E20*A20) -> 0 | J20: =I20/$I$2 -> 0
A21: Zubereitung
A22: 1. Süsskartoffeln & Kartoffeln in ca. 1cm dicke Streifen schneiden (nicht schälen) 2. Die Süsskartoffelstreifen für ca. 1h wässern. (In Grosser Schale mit Wasser einlegen) 3. Trockentupfen und an der Luft etwas austrocknen lassen. 4. Nun die Kartoffelstreifen bei ca. 140Grad vorfritieren. Diese sollten noch keine Farbe annehmen. Anschliessend auf dem Küchenpapier gut abtropfen und auskühlen lassen. 5. Kurz vor dem Servieren ein zweites Mal bei ca. 170Grad fritieren bis diese goldbraun sind. Anschliessend mit Schaumkelle aus der Pfanne heben, leicht abschütteln und in einer Schüssel salzen.

Sheet Beilage2
E1: Chochete vom | F1: =SUM(Menu!B3) -> 45071 | I1: Original Rezept
A2: =Menu!B11 -> BBQ Sauce | E2: Rezept für | F2: 12 | I2: 6 | J2: Personen | L2: Menu Angaben wie folgt machen:
A3: Menge | B3: Einheit | C3: Artikel (Gewicht alles ca. Angaben) | D3: Bemerkungen | E3: Einkaufspreis | F3: Betrag | I3: Originalrezept | J3: pro Person
A4: =ROUND(SUM(J4*$F$2),2) -> 300 | B4: g | C4: Zwiebeln | F4: =SUM(E4*A4) -> 0 | I4: 150 | J4: =I4/$I$2 -> 25 | L4: Kg | M4: 0.25
A5: =ROUND(SUM(J5*$F$2),2) -> 8 | B5: Stk | C5: Knoblauchzehen | F5: =SUM(E5*A5) -> 0 | I5: 4 | J5: =I5/$I$2 -> 0.66666667 | L5: Lt | M5: 1.25
A6: =ROUND(SUM(J6*$F$2),2) -> 2 | B6: Stk | C6: Bio-Orange | F6: =SUM(E6*A6) -> 0 | I6: 1 | J6: =I6/$I$2 -> 0.16666667 | L6: EL | M6: Esslöffel
A7: =ROUND(SUM(J7*$F$2),2) -> 4 | B7: EL | C7: Paprika | F7: =SUM(E7*A7) -> 0 | I7: 2 | J7: =I7/$I$2 -> 0.33333333 | L7: TL | M7: Kaffeelöffel
A8: =ROUND(SUM(J8*$F$2),2) -> 2 | B8: EL | C8: Korianderpulver | F8: =SUM(E8*A8) -> 0 | I8: 1 | J8: =I8/$I$2 -> 0.16666667 | L8: Bund | M8: 1
A9: =ROUND(SUM(J9*$F$2),2) -> 140 | B9: g | C9: Tomatenpüree | F9: =SUM(E9*A9) -> 0 | I9: 70 | J9: =I9/$I$2 -> 11.666667 | L9: Stk | M9: Stück
A10: =ROUND(SUM(J10*$F$2),2) -> 160 | B10: g | C10: Zucker | F10: =SUM(E10*A10) -> 0 | I10: 80 | J10: =I10/$I$2 -> 13.333333 | L10: Pä | M10: Päckli
A11: =ROUND(SUM(J11*$F$2),2) -> 4 | B11: dl | C11: Gemüsebouillon | F11: =SUM(E11*A11) -> 0 | I11: 2 | J11: =I11/$I$2 -> 0.33333333 | L11: alles weitere ausschreiben
A12: =ROUND(SUM(J12*$F$2),2) -> 4 | B12: EL | C12: Worcestershiresauce | F12: =SUM(E12*A12) -> 0 | I12: 2 | J12: =I12/$I$2 -> 0.33333333
A13: =ROUND(SUM(J13*$F$2),2) -> 130 | B13: g | C13: Balsamicoessig | F13: =SUM(E13*A13) -> 0 | I13: 65 | J13: =I13/$I$2 -> 10.833333
A14: =ROUND(SUM(J14*$F$2),2) -> 4 | B14: EL | C14: Tabasco | F14: =SUM(E14*A14) -> 0 | I14: 2 | J14: =I14/$I$2 -> 0.33333333
A15: =ROUND(SUM(J15*$F$2),2) -> 4 | B15: EL | C15: Senf | F15: =SUM(E15*A15) -> 0 | I15: 2 | J15: =I15/$I$2 -> 0.33333333
A16: =ROUND(SUM(J16*$F$2),2) -> 0 | F16: =SUM(E16*A16) -> 0 | J16: =I16/$I$2 -> 0
A17: =ROUND(SUM(J17*$F$2),2) -> 0 | F17: =SUM(E17*A17) -> 0 | J17: =I17/$I$2 -> 0
A18: =ROUND(SUM(J18*$F$2),2) -> 0 | F18: =SUM(E18*A18) -> 0 | J18: =I18/$I$2 -> 0
A19: =ROUND(SUM(J19*$F$2),2) -> 0 | F19: =SUM(E19*A19) -> 0 | J19: =I19/$I$2 -> 0
A20: =ROUND(SUM(J20*$F$2),2) -> 0 | F20: =SUM(E20*A20) -> 0 | J20: =I20/$I$2 -> 0
A21: Zubereitung
A22: Die Zwiebeln und den Knoblauch schälen und fein hacken. Die Schale der Orange fein abreiben und den Saft auspressen. In einer Pfanne das Öl erhitzen. Die Zwiebeln und den Knoblauch darin glasig andünsten. Den Paprika, den Koriander, das Tomatenpüree, die Orangenschale und den Zucker beifügen und kurz mitdünsten. Mit der Bouillon, dem Orangensaft und der Worcestershire-Sauce ablöschen. Das Salz beifügen, die Pfanne decken und alles auf kleiner Hitze 20 Minuten kochen lassen. Den Balsamicoessig, den Tabasco und den Senf beifügen und alles nochmals 2 Minuten kochen lassen. Die Sauce mit dem Stabmixer fein pürieren, dann durch ein feines Sieb passieren und zurück in die Pfanne geben, warm halten.

Sheet Dessert
E1: Chochete vom | F1: =SUM(Menu!B3) -> 45071 | I1: Original Rezept
A2: =Menu!B13 -> Erdbeer Mille Feuilles mit Vanille | E2: Rezept für | F2: 12 | I2: 6 | J2: Personen | L2: Menu Angaben wie folgt machen:
A3: Menge | B3: Einheit | C3: Artikel (Gewicht alles ca. Angaben) | D3: Bemerkungen | E3: Einkaufspreis | F3: Betrag | I3: Originalrezept | J3: pro Person
A4: =ROUND(SUM(J4*$F$2),2) -> 700 | B4: g | C4: Blätterteig | F4: =SUM(E4*A4) -> 0 | I4: 350 | J4: =I4/$I$2 -> 58.333333 | L4: Kg | M4: 0.25
A5: =ROUND(SUM(J5*$F$2),2) -> 260 | B5: g | C5: Zucker | F5: =SUM(E5*A5) -> 0 | I5: 130 | J5: =I5/$I$2 -> 21.666667 | L5: Lt | M5: 1.25
A6: =ROUND(SUM(J6*$F$2),2) -> 7 | B6: dl | C6: Milch | F6: =SUM(E6*A6) -> 0 | I6: 3.5 | J6: =I6/$I$2 -> 0.58333333 | L6: EL | M6: Esslöffel
A7: =ROUND(SUM(J7*$F$2),2) -> 80 | B7: g | C7: Pudding-Pulver, Vanille | F7: =SUM(E7*A7) -> 0 | I7: 40 | J7: =I7/$I$2 -> 6.6666667 | L7: KL | M7: Kaffeelöffel
A8: =ROUND(SUM(J8*$F$2),2) -> 1 | B8: Stk | C8: Vanilleschote | F8: =SUM(E8*A8) -> 0 | I8: 0.5 | J8: =I8/$I$2 -> 0.083333333 | L8: Bund | M8: 1
A9: =ROUND(SUM(J9*$F$2),2) -> 200 | B9: dl | C9: Vollrahm | F9: =SUM(E9*A9) -> 0 | I9: 100 | J9: =I9/$I$2 -> 16.666667 | L9: Stk | M9: Stück
A10: =ROUND(SUM(J10*$F$2),2) -> 1200 | B10: g | C10: Erdbeeren | F10: =SUM(E10*A10) -> 0 | I10: 600 | J10: =I10/$I$2 -> 100 | L10: Pä | M10: Päckli
A11: =ROUND(SUM(J11*$F$2),2) -> 0 | C11: Puderzucker | F11: =SUM(E11*A11) -> 0 | J11: =I11/$I$2 -> 0 | L11: alles weitere ausschreiben
A12: =ROUND(SUM(J12*$F$2),2) -> 0 | F12: =SUM(E12*A12) -> 0 | J12: =I12/$I$2 -> 0
A13: =ROUND(SUM(J13*$F$2),2) -> 0 | F13: =SUM(E13*A13) -> 0 | J13: =I13/$I$2 -> 0
A14: =ROUND(SUM(J14*$F$2),2) -> 0 | F14: =SUM(E14*A14) -> 0 | J14: =I14/$I$2 -> 0
A15: =ROUND(SUM(J15*$F$2),2) -> 0 | F15: =SUM(E15*A15) -> 0 | J15: =I15/$I$2 -> 0
A16: =ROUND(SUM(J16*$F$2),2) -> 0 | F16: =SUM(E16*A16) -> 0 | J16: =I16/$I$2 -> 0
A17: =ROUND(SUM(J17*$F$2),2) -> 0 | F17: =SUM(E17*A17) -> 0 | J17: =I17/$I$2 -> 0
A18: =ROUND(SUM(J18*$F$2),2) -> 0 | F18: =SUM(E18*A18) -> 0 | J18: =I18/$I$2 -> 0
A19: =ROUND(SUM(J19*$F$2),2) -> 0 | F19: =SUM(E19*A19) -> 0 | J19: =I19/$I$2 -> 0
A20: =ROUND(SUM(J20*$F$2),2) -> 0 | F20: =SUM(E20*A20) -> 0 | J20: =I20/$I$2 -> 0
A21: Zubereitung
A22: Backofen auf 200 °C vorheizen. Blätterteig (350 g) ausrollen und drei runde Stücke mit ca. 18 cm Durchmesser ausstechen. Die Teigstücke auf ein mit Backpapier belegtes Blech legen, mit einer Gabel einstechen und mit Zucker (50 g) bestreuen. Die Teigstücke im vorgeheizten Ofen für ca. 15 Minuten goldbraun backen. In der Zwischenzeit die Milch (100 ml) mit dem Pudding-Pulver (40 g) in einer Schüssel verrühren. In einem Topf die restliche Milch (250 ml) zusammen mit dem Mark der Vanilleschote (1/2) und dem Zucker (80 g) aufkochen. Die Milch mit dem Vanillecrème-Pulver dazugeben und weiterkochen, bis eine dicke Crème entsteht. Die Crème in eine Schüssel geben, sofort mit Klarsichtfolie abdecken und für mindestens 2 Stunden kalt stellen. Die Folie sollte dabei direkt auf der Crème liegen, damit keine Luft dazwischen kommt. Ist die Crème abgekühlt, den Vollrahm (100 ml) aufschlagen und vorsichtig darunterheben. Erdbeeren (600 g) waschen und je nach Grösse halbieren oder vierteln. Das erste gebackene Teigstück mit ca. 1,5 cm Crème bestreichen und 1/3 der Erdbeeren darauf verteilen. Das zweite Teigstück direkt darauf legen und wieder mit Crème bestreichen und mit Erdbeeren belegen. Das letzte Teigstück darauf legen und je nach Belieben nochmals mit Crème besteichen und mit Puderzucker (wenig) bestauben.

Sheet Diverses
E1: Chochete vom | F1: =SUM(Menu!B3) -> 45071 | I1: Original Rezept
A2: =Menu!B15 -> Brot | E2: Rezept für | F2: 12 | I2: 6 | J2: Personen | L2: Menu Angaben wie folgt machen:
A3: Menge | B3: Einheit | C3: Artikel (Gewicht alles ca. Angaben) | D3: Bemerkungen | E3: Einkaufspreis | F3: Betrag | I3: Originalrezept | J3: pro Person
A4: =ROUND(SUM(J4*$F$2),2) -> 800 | B4: g | C4: Urdinkelmehl | F4: =SUM(E4*A4) -> 0 | I4: 400 | J4: =I4/$I$2 -> 66.666667 | L4: Kg | M4: 0.25
A5: =ROUND(SUM(J5*$F$2),2) -> 200 | B5: g | C5: Polenta | F5: =SUM(E5*A5) -> 0 | I5: 100 | J5: =I5/$I$2 -> 16.666667 | L5: Lt | M5: 1.25
A6: =ROUND(SUM(J6*$F$2),2) -> 24 | B6: g | C6: Salz | F6: =SUM(E6*A6) -> 0 | I6: 12 | J6: =I6/$I$2 -> 2 | L6: EL | M6: Esslöffel
A7: =ROUND(SUM(J7*$F$2),2) -> 2 | B7: EL | C7: Olivenöl | F7: =SUM(E7*A7) -> 0 | I7: 1 | J7: =I7/$I$2 -> 0.16666667 | L7: KL | M7: Kaffeelöffel
A8: =ROUND(SUM(J8*$F$2),2) -> 2 | B8: Stk | C8: Hefe | F8: =SUM(E8*A8) -> 0 | I8: 1 | J8: =I8/$I$2 -> 0.16666667 | L8: Bund | M8: 1
A9: =ROUND(SUM(J9*$F$2),2) -> 10 | B9: g | C9: Zucker | F9: =SUM(E9*A9) -> 0 | I9: 5 | J9: =I9/$I$2 -> 0.83333333 | L9: Stk | M9: Stück
A10: =ROUND(SUM(J10*$F$2),2) -> 4 | B10: dl | C10: lauwarmes Wasser | F10: =SUM(E10*A10) -> 0 | I10: 2 | J10: =I10/$I$2 -> 0.33333333 | L10: Pä | M10: Päckli
A11: =ROUND(SUM(J11*$F$2),2) -> 0 | F11: =SUM(E11*A11) -> 0 | J11: =I11/$I$2 -> 0 | L11: alles weitere ausschreiben
A12: =ROUND(SUM(J12*$F$2),2) -> 0 | F12: =SUM(E12*A12) -> 0 | J12: =I12/$I$2 -> 0
A13: =ROUND(SUM(J13*$F$2),2) -> 0 | F13: =SUM(E13*A13) -> 0 | J13: =I13/$I$2 -> 0
A14: =ROUND(SUM(J14*$F$2),2) -> 0 | F14: =SUM(E14*A14) -> 0 | J14: =I14/$I$2 -> 0
A15: =ROUND(SUM(J15*$F$2),2) -> 0 | F15: =SUM(E15*A15) -> 0 | J15: =I15/$I$2 -> 0
A16: =ROUND(SUM(J16*$F$2),2) -> 0 | F16: =SUM(E16*A16) -> 0 | J16: =I16/$I$2 -> 0
A17: =ROUND(SUM(J17*$F$2),2) -> 0 | F17: =SUM(E17*A17) -> 0 | J17: =I17/$I$2 -> 0
A18: =ROUND(SUM(J18*$F$2),2) -> 0 | F18: =SUM(E18*A18) -> 0 | J18: =I18/$I$2 -> 0
A19: =ROUND(SUM(J19*$F$2),2) -> 0 | F19: =SUM(E19*A19) -> 0 | J19: =I19/$I$2 -> 0
A20: =ROUND(SUM(J20*$F$2),2) -> 0 | F20: =SUM(E20*A20) -> 0 | J20: =I20/$I$2 -> 0
A21: Zubereitung

Sheet Einkaufsliste
A1: Hobby-Küche Zug | C1: Einkaufsliste | D1: =Dessert!F1 -> 45071 | E1: ok
A2: Menge | B2: Einheit | C2: Artikel
A3: =Vorspeise!A2 -> Pikanter Kiwi-Fenchelsalat mit Rinderschinken | D3: Bemerkungen
A4: =SUM(Vorspeise!A4) -> 1 | B4: =Vorspeise!B4 -> Stk | C4: =Vorspeise!C4 -> Kiwi | D4: =Vorspeise!D4 -> 0
A5: =SUM(Vorspeise!A5) -> 0.25 | B5: =Vorspeise!B5 -> Stk | C5: =Vorspeise!C5 -> Fenchelknollen | D5: =Vorspeise!D5 -> 0
A6: =SUM(Vorspeise!A6) -> 10 | B6: =Vorspeise!B6 -> g | C6: =Vorspeise!C6 -> Rugola | D6: =Vorspeise!D6 -> 0
A7: =SUM(Vorspeise!A7) -> 8.33 | B7: =Vorspeise!B7 -> g | C7: =Vorspeise!C7 -> Sesam | D7: =Vorspeise!D7 -> 0
A8: =SUM(Vorspeise!A8) -> 0.13 | B8: =Vorspeise!B8 -> Stk | C8: =Vorspeise!C8 -> Bio-Orangen | D8: =Vorspeise!D8 -> 0
A9: =SUM(Vorspeise!A9) -> 0.13 | B9: =Vorspeise!B9 -> EL | C9: =Vorspeise!C9 -> Dijonsenf (körnig) | D9: =Vorspeise!D9 -> 0
A10: =SUM(Vorspeise!A10) -> 0.13 | B10: =Vorspeise!B10 -> TL | C10: =Vorspeise!C10 -> Honig | D10: =Vorspeise!D10 -> 0
A11: =SUM(Vorspeise!A11) -> 0.63 | B11: =Vorspeise!B11 -> EL | C11: =Vorspeise!C11 -> Olivenöl | D11: =Vorspeise!D11 -> 0
A12: =SUM(Vorspeise!A12) -> 15 | B12: =Vorspeise!B12 -> g | C12: =Vorspeise!C12 -> Rinderschinken | D12: =Vorspeise!D12 -> 0
A13: =SUM(Vorspeise!A13) -> 0 | B13: =Vorspeise!B13 -> 0 | C13: =Vorspeise!C13 -> 0 | D13: =Vorspeise!D13 -> 0
A14: =SUM(Vorspeise!A14) -> 0 | B14: =Vorspeise!B14 -> 0 | C14: =Vorspeise!C14 -> 0 | D14: =Vorspeise!D14 -> 0
A15: =SUM(Vorspeise!A15) -> 0 | B15: =Vorspeise!B15 -> 0 | C15: =Vorspeise!C15 -> 0 | D15: =Vorspeise!D15 -> 0
... A20: =SUM(Vorspeise!A20) -> 0 | B20: =Vorspeise!B20 -> 0 | C20: =Vorspeise!C20 -> 0 | D20: =Vorspeise!D20 -> 0
A21: =Vorspeise2!A2 -> Siedfleisch vom Rind | D21: Bemerkungen
A22: =SUM(Vorspeise2!A4) -> 900 | B22: =Vorspeise2!B4 -> g | C22: =Vorspeise2!C4 -> Siedfleisch vom Rind | D22: =Vorspeise2!D4 -> 0
A23: =SUM(Vorspeise2!A5) -> 9 | B23: =Vorspeise2!B5 -> Stk | C23: =Vorspeise2!C5 -> Pfefferkörner | D23: =Vorspeise2!D5 -> 0
A24: =SUM(Vorspeise2!A6) -> 1.5 | B24: =Vorspeise2!B6 -> Stk | C24: =Vorspeise2!C6 -> Zwiebel | D24: =Vorspeise2!D6 -> 0
A25: =SUM(Vorspeise2!A7) -> 1.5 | B25: =Vorspeise2!B7 -> Stk | C25: =Vorspeise2!C7 -> Rüebli | D25: =Vorspeise2!D7 -> 0
A26: =SUM(Vorspeise2!A8) -> 1.5 | B26: =Vorspeise2!B8 -> Stk | C26: =Vorspeise2!C8 -> Bio-Zitrone | D26: =Vorspeise2!D8 -> 0
A27: =SUM(Vorspeise2!A9) -> 1.5 | B27: =Vorspeise2!B9 -> Stk | C27: =Vorspeise2!C9 -> Meerrettich | D27: =Vorspeise2!D9 -> 0
A28: =SUM(Vorspeise2!A10) -> 1.5 | B28: =Vorspeise2!B10 -> EL | C28: =Vorspeise2!C10 -> Kapern | D28: =Vorspeise2!D10 -> 0
A29: =SUM(Vorspeise2!A11) -> 4.5 | B29: =Vorspeise2!B11 -> EL | C29: =Vorspeise2!C11 -> Olivenöl | D29: =Vorspeise2!D11 -> 0
A30: =SUM(Vorspeise2!A12) -> 1.5 | B30: =Vorspeise2!B12 -> EL | C30: =Vorspeise2!C12 -> Kresse | D30: =Vorspeise2!D12 -> 0
A31: =SUM(Vorspeise2!A13) -> 12 | B31: =Vorspeise2!B13 -> Stk | C31: =Vorspeise2!C13 -> Scheiben Brot | D31: =Vorspeise2!D13 -> 0
A32: =SUM(Vorspeise2!A14) -> 120 | B32: =Vorspeise2!B14 -> g | C32: =Vorspeise2!C14 -> Butter | D32: =Vorspeise2!D14 -> 0
A33: =SUM(Vorspeise2!A15) -> 0 | B33: =Vorspeise2!B15 -> 0 | C33: =Vorspeise2!C15 -> 0 | D33: =Vorspeise2!D15 -> 0
... A38: =SUM(Vorspeise2!A20) -> 0 | B38: =Vorspeise2!B20 -> 0 | C38: =Vorspeise2!C20 -> 0 | D38: =Vorspeise2!D20 -> 0
A39: =Hauptgang!A2 -> Rinderherz | D39: Bemerkungen
A40: =SUM(Hauptgang!A4) -> 2 | B40: =Hauptgang!B4 -> Stk | C40: =Hauptgang!C4 -> Herz vom Rind | D40: =Hauptgang!D4 -> 0
A41: =SUM(Hauptgang!A5) -> 2 | B41: =Hauptgang!B5 -> dl | C41: =Hauptgang!C5 -> Rotwein | D41: =Hauptgang!D5 -> Marinade
A42: =SUM(Hauptgang!A6) -> 2 | B42: =Hauptgang!B6 -> dl | C42: =Hauptgang!C6 -> Whisky | D42: =Hauptgang!D6 -> Marinade
A43: =SUM(Hauptgang!A7) -> 2 | B43: =Hauptgang!B7 -> dl | C43: =Hauptgang!C7 -> Olivenöl | D43: =Hauptgang!D7 -> Marinade
A44: =SUM(Hauptgang!A8) -> 4 | B44: =Hauptgang!B8 -> EL | C44: =Hauptgang!C8 -> Honig | D44: =Hauptgang!D8 -> Marinade
A45: =SUM(Hauptgang!A9) -> 2 | B45: =Hauptgang!B9 -> TL | C45: =Hauptgang!C9 -> Chilipulver | D45: =Hauptgang!D9 -> Marinade
A46: =SUM(Hauptgang!A10) -> 8 | B46: =Hauptgang!B10 -> Stk | C46: =Hauptgang!C10 -> Knoblauchzehen, fein gehackt | D46: =Hauptgang!D10 -> Marinade
A47: =SUM(Hauptgang!A11) -> 1 | B47: =Hauptgang!B11 -> TL | C47: =Hauptgang!C11 -> Kreuzkümmelpulver | D47: =Hauptgang!D11 -> Marinade
A48: =SUM(Hauptgang!A12) -> 20 | B48: =Hauptgang!B12 -> Stk | C48: =Hauptgang!C12 -> Pfefferkörner schwarz | D48: =Hauptgang!D12 -> Marinade
A49: =SUM(Hauptgang!A13) -> 0 | B49: =Hauptgang!B13 -> 0 | C49: =Hauptgang!C13 -> 0 | D49: =Hauptgang!D13 -> 0
A50: =SUM(Hauptgang!A14) -> 0 | B50: =Hauptgang!B14 -> 0 | C50: =Hauptgang!C14 -> 0 | D50: =Hauptgang!D14 -> 0
A51: =SUM(Hauptgang!A15) -> 0 | B51: =Hauptgang!B15 -> 0 | C51: =Hauptgang!C15 -> 0 | D51: =Hauptgang!D15 -> 0
... A56: =SUM(Hauptgang!A20) -> 0 | B56: =Hauptgang!B20 -> 0 | C56: =Hauptgang!C20 -> 0 | D56: =Hauptgang!D20 -> 0
A57: =Beilage1!A2 -> Sweet Potato / Potato Fries | D57: Bemerkungen
A58: =Beilage1!A4 -> 4 | B58: =Beilage1!B4 -> St | C58: =Beilage1!C4 -> Süsskartoffel | D58: =Beilage1!D4 -> 0
A59: =Beilage1!A5 -> 4 | B59: =Beilage1!B5 -> St | C59: =Beilage1!C5 -> Kartoffeln | D59: =Beilage1!D5 -> 0
A60: =Beilage1!A6 -> 0 | B60: =Beilage1!B6 -> 0 | C60: =Beilage1!C6 -> 0 | D60: =Beilage1!D6 -> 0
A61: =Beilage1!A7 -> 0 | B61: =Beilage1!B7 -> 0 | C61: =Beilage1!C7 -> Salz | D61: =Beilage1!D7 -> 0
A62: =Beilage1!A8 -> 0 | B62: =Beilage1!B8 -> 0 | C62: =Beilage1!C8 -> 0 | D62: =Beilage1!D8 -> 0
A63: =Beilage1!A9 -> 0 | B63: =Beilage1!B9 -> 0 | C63: =Beilage1!C9 -> 0 | D63: =Beilage1!D9 -> 0
A64: =Beilage1!A10 -> 0 | B64: =Beilage1!B10 -> 0 | C64: =Beilage1!C10 -> 0 | D64: =Beilage1!D10 -> 0
A65: =Beilage1!A11 -> 0 | B65: =Beilage1!B11 -> 0 | C65: =Beilage1!C11 -> 0 | D65: =Beilage1!D11 -> 0
A66: =Beilage1!A12 -> 0 | B66: =Beilage1!B12 -> 0 | C66: =Beilage1!C12 -> 0 | D66: =Beilage1!D12 -> 0
A67: =Beilage1!A13 -> 0 | B67: =Beilage1!B13 -> 0 | C67: =Beilage1!C13 -> 0 | D67: =Beilage1!D13 -> 0
A68: =Beilage1!A14 -> 0 | B68: =Beilage1!B14 -> 0 | C68: =Beilage1!C14 -> 0 | D68: =Beilage1!D14 -> 0
A69: =Beilage1!A15 -> 0 | B69: =Beilage1!B15 -> 0 | C69: =Beilage1!C15 -> 0 | D69: =Beilage1!D15 -> 0
... A74: =Beilage1!A20 -> 0 | B74: =Beilage1!B20 -> 0 | C74: =Beilage1!C20 -> 0 | D74: =Beilage1!D20 -> 0
A75: =Beilage2!A2 -> BBQ Sauce
A76: =SUM(Beilage2!A4) -> 300 | B76: =Beilage2!B4 -> g | C76: =Beilage2!C4 -> Zwiebeln | D76: =Beilage2!D4 -> 0
A77: =SUM(Beilage2!A5) -> 8 | B77: =Beilage2!B5 -> Stk | C77: =Beilage2!C5 -> Knoblauchzehen | D77: =Beilage2!D5 -> 0
A78: =SUM(Beilage2!A6) -> 2 | B78: =Beilage2!B6 -> Stk | C78: =Beilage2!C6 -> Bio-Orange | D78: =Beilage2!D6 -> 0
A79: =SUM(Beilage2!A7) -> 4 | B79: =Beilage2!B7 -> EL | C79: =Beilage2!C7 -> Paprika | D79: =Beilage2!D7 -> 0
A80: =SUM(Beilage2!A8) -> 2 | B80: =Beilage2!B8 -> EL | C80: =Beilage2!C8 -> Korianderpulver | D80: =Beilage2!D8 -> 0
A81: =SUM(Beilage2!A9) -> 140 | B81: =Beilage2!B9 -> g | C81: =Beilage2!C9 -> Tomatenpüree | D81: =Beilage2!D9 -> 0
A82: =SUM(Beilage2!A10) -> 160 | B82: =Beilage2!B10 -> g | C82: =Beilage2!C10 -> Zucker | D82: =Beilage2!D10 -> 0
A83: =SUM(Beilage2!A11) -> 4 | B83: =Beilage2!B11 -> dl | C83: =Beilage2!C11 -> Gemüsebouillon | D83: =Beilage2!D11 -> 0
A84: =SUM(Beilage2!A12) -> 4 | B84: =Beilage2!B12 -> EL | C84: =Beilage2!C12 -> Worcestershiresauce | D84: =Beilage2!D12 -> 0
A85: =SUM(Beilage2!A13) -> 130 | B85: =Beilage2!B13 -> g | C85: =Beilage2!C13 -> Balsamicoessig | D85: =Beilage2!D13 -> 0
A86: =SUM(Beilage2!A14) -> 4 | B86: =Beilage2!B14 -> EL | C86: =Beilage2!C14 -> Tabasco | D86: =Beilage2!D14 -> 0
A87: =SUM(Beilage2!A15) -> 4 | B87: =Beilage2!B15 -> EL | C87: =Beilage2!C15 -> Senf | D87: =Beilage2!D15 -> 0
... A92: =SUM(Beilage2!A20) -> 0 | B92: =Beilage2!B20 -> 0 | C92: =Beilage2!C20 -> 0 | D92: =Beilage2!D20 -> 0
A93: =Dessert!A2 -> Erdbeer Mille Feuilles mit Vanille | D93: Bemerkungen
A94: =SUM(Dessert!A4) -> 700 | B94: =Dessert!B4 -> g | C94: =Dessert!C4 -> Blätterteig | D94: =Dessert!D4 -> 0
A95: =SUM(Dessert!A5) -> 260 | B95: =Dessert!B5 -> g | C95: =Dessert!C5 -> Zucker | D95: =Dessert!D5 -> 0
A96: =SUM(Dessert!A6) -> 7 | B96: =Dessert!B6 -> dl | C96: =Dessert!C6 -> Milch | D96: =Dessert!D6 -> 0
A97: =SUM(Dessert!A7) -> 80 | B97: =Dessert!B7 -> g | C97: =Dessert!C7 -> Pudding-Pulver, Vanille | D97: =Dessert!D7 -> 0
A98: =SUM(Dessert!A8) -> 1 | B98: =Dessert!B8 -> Stk | C98: =Dessert!C8 -> Vanilleschote | D98: =Dessert!D8 -> 0
A99: =SUM(Dessert!A9) -> 200 | B99: =Dessert!B9 -> dl | C99: =Dessert!C9 -> Vollrahm | D99: =Dessert!D9 -> 0
A100: =SUM(Dessert!A10) -> 1200 | B100: =Dessert!B10 -> g | C100: =Dessert!C10 -> Erdbeeren | D100: =Dessert!D10 -> 0
A101: =SUM(Dessert!A11) -> 0 | B101: =Dessert!B11 -> 0 | C101: =Dessert!C11 -> Puderzucker | D101: =Dessert!D11 -> 0
A102: =SUM(Dessert!A12) -> 0 | B102: =Dessert!B12 -> 0 | C102: =Dessert!C12 -> 0 | D102: =Dessert!D12 -> 0
A103: =SUM(Dessert!A13) -> 0 | B103: =Dessert!B13 -> 0 | C103: =Dessert!C13 -> 0 | D103: =Dessert!D13 -> 0
A104: =SUM(Dessert!A14) -> 0 | B104: =Dessert!B14 -> 0 | C104: =Dessert!C14 -> 0 | D104: =Dessert!D14 -> 0
A105: =SUM(Dessert!A15) -> 0 | B105: =Dessert!B15 -> 0 | C105: =Dessert!C15 -> 0 | D105: =Dessert!D15 -> 0
... A110: =SUM(Dessert!A20) -> 0 | B110: =Dessert!B20 -> 0 | C110: =Dessert!C20 -> 0 | D110: =Dessert!D20 -> 0
A113: =SUM(Diverses!A4) -> 800 | B113: =Diverses!B4 -> g | C113: =Diverses!C4 -> Urdinkelmehl | D113: =Diverses!D4 -> 0
A114: =SUM(Diverses!A5) -> 200 | B114: =Diverses!B5 -> g | C114: =Diverses!C5 -> Polenta | D114: =Diverses!D5 -> 0
A115: =SUM(Diverses!A6) -> 24 | B115: =Diverses!B6 -> g | C115: =Diverses!C6 -> Salz | D115: =Diverses!D6 -> 0
A116: =SUM(Diverses!A7) -> 2 | B116: =Diverses!B7 -> EL | C116: =Diverses!C7 -> Olivenöl | D116: =Diverses!D7 -> 0
A117: =SUM(Diverses!A8) -> 2 | B117: =Diverses!B8 -> Stk | C117: =Diverses!C8 -> Hefe | D117: =Diverses!D8 -> 0
A118: =SUM(Diverses!A9) -> 10 | B118: =Diverses!B9 -> g | C118: =Diverses!C9 -> Zucker | D118: =Diverses!D9 -> 0
A119: =SUM(Diverses!A10) -> 4 | B119: =Diverses!B10 -> dl | C119: =Diverses!C10 -> lauwarmes Wasser | D119: =Diverses!D10 -> 0
A120: =SUM(Diverses!A11) -> 0 | B120: =Diverses!B11 -> 0 | C120: =Diverses!C11 -> 0 | D120: =Diverses!D11 -> 0
A121: =SUM(Diverses!A12) -> 0 | B121: =Diverses!B12 -> 0 | C121: =Diverses!C12 -> 0 | D121: =Diverses!D12 -> 0
A122: =SUM(Diverses!A13) -> 0 | B122: =Diverses!B13 -> 0 | C122: =Diverses!C13 -> 0 | D122: =Diverses!D13 -> 0
A123: =SUM(Diverses!A14) -> 0 | B123: =Diverses!B14 -> 0 | C123: =Diverses!C14 -> 0 | D123: =Diverses!D14 -> 0
A124: =SUM(Diverses!A15) -> 0 | B124: =Diverses!B15 -> 0 | C124: =Diverses!C15 -> 0 | D124: =Diverses!D15 -> 0
... A129: =SUM(Diverses!A20) -> 0 | B129: =Diverses!B20 -> 0 | C129: =Diverses!C20 -> 0 | D129: =Diverses!D20 -> 0
A130: =SUM(Dessert!A22) -> 0 | B130: =Dessert!B24 -> 0 | C130: =Dessert!C24 -> 0
...
