Workbook

Sheet Menu
A3: Datum | B3: 44273 | D3: Menu Angaben wie folgt machen: | H3: Kg | I3: 0.25
H4: Lt | I4: 1.25
A5: Apero | B5: Pizza mit Sardellen, Kapern und Pecorino | D5: alle weiteren Angaben ausschreiben | H5: EL | I5: Esslöffel
H6: TL | I6: Teelöffel
A7: Vorspeise | B7: Garnelen mit Kadayif (Engelshaar)-Mantel | H7: Bund | I7: 1
H8: Stk | I8: Stück
A9: Hauptgang | B9: Red Snapper aus dem Ofen | H9: Pä | I9: Päckli
A10: Pizzateig | B10: Pizzateig zum Apero
A11: Engelshaar | B11: Engelshaar zur Vorspeise
A13: Dessert | B13: Pistazieneis mit Basilikum und Olivenöl
A15: Diverses
A17: Menu von Tisch | B17: C
A19: Personenzahl | B19: 4

Sheet Apero
E1: Chochete vom | F1: =SUM(Menu!B3) -> 44273 | I1: Original Rezept
A2: =Menu!B5 -> Pizza mit Sardellen, Kapern und Pecorino | E2: Rezept für | F2: =Menu!B19 -> 4 | I2: 4 | J2: Personen | L2: Menu Angaben wie folgt machen:
A3: Menge | B3: Einheit | C3: Artikel (Gewicht alles ca. Angaben) | D3: Bemerkungen | E3: Einkaufspreis | F3: Betrag | I3: Originalrezept | J3: pro Person
A4: =ROUND(SUM(J4*$F$2),2) -> 0.13 | B4: Kg | C4: Pizzateig (siehe Rezept) | F4: =SUM(E4*A4) -> 0 | I4: 0.125 | J4: =I4/$I$2 -> 0.03125 | L4: Kg | M4: 0.25
A5: =ROUND(SUM(J5*$F$2),2) -> 1 | B5: EL | C5: in Salz eingelegte Kapern | F5: =SUM(E5*A5) -> 0 | I5: 1 | J5: =I5/$I$2 -> 0.25 | L5: Lt | M5: 1.25
A6: =ROUND(SUM(J6*$F$2),2) -> 0.03 | B6: Kg | C6: Parmesan, gerieben | F6: =SUM(E6*A6) -> 0 | I6: 0.025 | J6: =I6/$I$2 -> 0.00625 | L6: EL | M6: Esslöffel
A7: =ROUND(SUM(J7*$F$2),2) -> 1 | B7: Stk | C7: Knoblauchzehen hauchdünn geschnitten | F7: =SUM(E7*A7) -> 0 | I7: 1 | J7: =I7/$I$2 -> 0.25 | L7: TL | M7: Kaffeelöffel
A8: =ROUND(SUM(J8*$F$2),2) -> 6 | B8: Stk. | C8: kleine Sardellenfilets grob gehackt | F8: =SUM(E8*A8) -> 0 | I8: 6 | J8: =I8/$I$2 -> 1.5 | L8: Bund | M8: 1
A9: =ROUND(SUM(J9*$F$2),2) -> 0 | C9: getrockneter Oregano | F9: =SUM(E9*A9) -> 0 | J9: =I9/$I$2 -> 0 | L9: Stk | M9: Stück
A10: =ROUND(SUM(J10*$F$2),2) -> 0 | C10: getrocknete Chilliflocken | F10: =SUM(E10*A10) -> 0 | J10: =I10/$I$2 -> 0 | L10: Pä | M10: Päckli
A11: =ROUND(SUM(J11*$F$2),2) -> 0.02 | B11: Kg | C11: Pecorino gerieben | F11: =SUM(E11*A11) -> 0 | I11: 0.015 | J11: =I11/$I$2 -> 0.00375 | L11: alles weitere ausschreiben
A12: =ROUND(SUM(J12*$F$2),2) -> 0.25 | B12: Stk | C12: Zitrone | F12: =SUM(E12*A12) -> 0 | I12: 0.25 | J12: =I12/$I$2 -> 0.0625
A13: =ROUND(SUM(J13*$F$2),2) -> 0 | C13: Olivenöl zum beträufeln | F13: =SUM(E13*A13) -> 0 | J13: =I13/$I$2 -> 0
A14: =ROUND(SUM(J14*$F$2),2) -> 0 | F14: =SUM(E14*A14) -> 0 | J14: =I14/$I$2 -> 0
A15: =ROUND(SUM(J15*$F$2),2) -> 0 | F15: =SUM(E15*A15) -> 0 | J15: =I15/$I$2 -> 0
A16: =ROUND(SUM(J16*$F$2),2) -> 0 | F16: =SUM(E16*A16) -> 0 | J16: =I16/$I$2 -> 0
A17: =ROUND(SUM(J17*$F$2),2) -> 0 | F17: =SUM(E17*A17) -> 0 | J17: =I17/$I$2 -> 0
A18: =ROUND(SUM(J18*$F$2),2) -> 0 | F18: =SUM(E18*A18) -> 0 | J18: =I18/$I$2 -> 0
A19: =ROUND(SUM(J19*$F$2),2) -> 0 | F19: =SUM(E19*A19) -> 0 | J19: =I19/$I$2 -> 0
A20: =ROUND(SUM(J20*$F$2),2) -> 0 | F20: =SUM(E20*A20) -> 0 | J20: =I20/$I$2 -> 0
A21: Zubereitung
A22: Backofen vorheizen
A23: Den Bakofen auf maximale Stufe (ca. 280°C) ohne Umluft schalten und wenn vorhanden, einen
A24: Pizzastein auf den untersten Rost legen, mindestens eine Stunde aufheizen.
A25: Pizza vorbereiten und belegen. Die Kapern einige male wässern, dazu immer wieder frisches Wasser
A26: verwenden, und die Kapern abtropfen lassen.
A27: Den Teig ausformen und auf einen Pizzaschieber legen. Die Sardellen und Kapern sowie den Knoblauch
A28: auf dem Pizzateig verteilen, ringsherum einen Rand von 3-4 cm frei lassen. Einige Prisen Oregano und
A29: Chilliflocken und den Parmesan darüber streuen. Im vorgeheitzten Ofen 4-5 Minuten backen, der Rand
A30: soll sehr dunkle Blasen werfen. Herausnehmen, den Pecorino darüberstreuen, etwas Zitronensaft
A31: daraufpressen und mit Olivenöl beträufeln.
A32: Tip: Die Menge ist bewusst klein gehalten, das es ein Apéro sein soll! Wenn Jemand will, kann man auch etwas Federkohlbläter (ohne Stiel) fein geschnitten dazugeben!

Sheet Vorspeise
E1: Chochete vom | F1: =SUM(Menu!B3) -> 44273 | I1: Original Rezept
A2: =Menu!B7 -> Garnelen mit Kadayif (Engelshaar)-Mantel | E2: Rezept für | F2: =SUM(Menu!B19) -> 4 | I2: 4 | J2: Personen | L2: Menu Angaben wie folgt machen:
A3: Menge | B3: Einheit | C3: Artikel (Gewicht alles ca. Angaben) | D3: Bemerkungen | E3: Einkaufspreis | F3: Betrag | I3: Originalrezept | J3: pro Person
A4: =ROUND(SUM(J4*$F$2),2) -> 16 | B4: Stk | C4: rohe geschälte Garnelen, mittelgross | F4: =SUM(E4*A4) -> 0 | I4: 16 | J4: =I4/$I$2 -> 4 | L4: Kg | M4: 0.25
A5: =ROUND(SUM(J5*$F$2),2) -> 0.5 | B5: Bund | C5: Minze | F5: =SUM(E5*A5) -> 0 | I5: 0.5 | J5: =I5/$I$2 -> 0.125 | L5: Lt | M5: 1.25
A6: =ROUND(SUM(J6*$F$2),2) -> 0.1 | B6: Kg | C6: Crème Fraîche | F6: =SUM(E6*A6) -> 0 | I6: 0.1 | J6: =I6/$I$2 -> 0.025 | L6: EL | M6: Esslöffel
A7: =ROUND(SUM(J7*$F$2),2) -> 1 | B7: Spritzer | C7: Zitronensaft | F7: =SUM(E7*A7) -> 0 | I7: 1 | J7: =I7/$I$2 -> 0.25 | L7: TL | M7: Kaffeelöffel
A8: =ROUND(SUM(J8*$F$2),2) -> 0 | C8: Salz | F8: =SUM(E8*A8) -> 0 | J8: =I8/$I$2 -> 0 | L8: Bund | M8: 1
A9: =ROUND(SUM(J9*$F$2),2) -> 0.12 | B9: kg | C9: Engelshaar selbst gemacht | F9: =SUM(E9*A9) -> 0 | I9: 0.12 | J9: =I9/$I$2 -> 0.03 | L9: Stk | M9: Stück
A10: =ROUND(SUM(J10*$F$2),2) -> 1 | B10: Stk | C10: Knoblauchzehe | F10: =SUM(E10*A10) -> 0 | I10: 1 | J10: =I10/$I$2 -> 0.25 | L10: Pä | M10: Päckli
A11: =ROUND(SUM(J11*$F$2),2) -> 2 | B11: Stängel | C11: Basilikum | F11: =SUM(E11*A11) -> 0 | I11: 2 | J11: =I11/$I$2 -> 0.5 | L11: alles weitere ausschreiben
A12: =ROUND(SUM(J12*$F$2),2) -> 2 | B12: Stk | C12: Eiweiss | F12: =SUM(E12*A12) -> 0 | I12: 2 | J12: =I12/$I$2 -> 0.5
A13: =ROUND(SUM(J13*$F$2),2) -> 1 | B13: Prise | C13: edelsüsses Paprika | F13: =SUM(E13*A13) -> 0 | I13: 1 | J13: =I13/$I$2 -> 0.25
A14: =ROUND(SUM(J14*$F$2),2) -> 0 | C14: schwarzer Pfeffer gemahlen | F14: =SUM(E14*A14) -> 0 | J14: =I14/$I$2 -> 0
A15: =ROUND(SUM(J15*$F$2),2) -> 0.15 | B15: Lt | C15: Pflanzenöl | F15: =SUM(E15*A15) -> 0 | I15: 0.15 | J15: =I15/$I$2 -> 0.0375
A16: =ROUND(SUM(J16*$F$2),2) -> 0 | F16: =SUM(E16*A16) -> 0 | J16: =I16/$I$2 -> 0
A17: =ROUND(SUM(J17*$F$2),2) -> 0 | F17: =SUM(E17*A17) -> 0 | J17: =I17/$I$2 -> 0
A18: =ROUND(SUM(J18*$F$2),2) -> 0 | F18: =SUM(E18*A18) -> 0 | J18: =I18/$I$2 -> 0
A19: =ROUND(SUM(J19*$F$2),2) -> 0 | F19: =SUM(E19*A19) -> 0 | J19: =I19/$I$2 -> 0
A20: =ROUND(SUM(J20*$F$2),2) -> 0 | F20: =SUM(E20*A20) -> 0 | J20: =I20/$I$2 -> 0
A21: Zubereitung
A22: Die Garnelen waschen, am Rücken aufritzen und den schwarzen Darm entfernen. Die Schwanzflossen
A23: dran lassen.
A24: Den Knoblauch schälen. Die Kräuter waschen und trocken schütteln, die Blättchen abzupfen und mit dem
A25: Knoblauch fein hacken. Beide in einem Schüsselchen mit Crème Fraîche und Eiweissen verrühren.
A26: Die Mischung mit Zitronensaft, Paprikapulver, Salz und Pfeffer abschmecken.
A27: Die Engelshaare mit den Händen etwas entwirren. Kleine Büschel (jeweils ca 10g) auf der Arbeitsfläche
A28: ausbreiten. Die erste Garnele in die Kräutercreme tunken, dann auf ein Ende des Engelhaar-Strangs
A29: setzen und eng einwickeln. Die übrigen Garnelen ebenso mit Teigfäden umhüllen.
A30: Das Öl in der Pfanne erhitzen. Die eingewickelten Garnelen darin von allen Seiten bei mittlerer Hitze
A31: anbraten, bis die Fäden eine goldbraune Farbe angenommen haben und knusprig sind.
A32: Das dauert etwa ca. 7 Minuten. Wer will kann etwas Sojasauce zur Seite stellen!

Sheet Hauptgang
E1: Chochete vom | F1: =SUM(Menu!B3) -> 44273 | I1: Original Rezept
A2: =Menu!B9 -> Red Snapper aus dem Ofen | E2: Rezept für | F2: =Menu!B19 -> 4 | I2: 2 | J2: Personen | L2: Menu Angaben wie folgt machen:
A3: Menge | B3: Einheit | C3: Artikel (Gewicht alles ca. Angaben) | D3: Bemerkungen | E3: Einkaufspreis | F3: Betrag | I3: Originalrezept | J3: pro Person
A4: =ROUND(SUM(J4*$F$2),2) -> 1.6 | B4: Kg | C4: Red Snapper oder Dorade | D4: 2 Pers. 1 Fisch | F4: =SUM(E4*A4) -> 0 | I4: 0.8 | J4: =I4/$I$2 -> 0.4 | L4: Kg | M4: 0.25
A5: =ROUND(SUM(J5*$F$2),2) -> 0 | C5: schwarzer Pfeffer aus der Mühle | F5: =SUM(E5*A5) -> 0 | J5: =I5/$I$2 -> 0 | L5: Lt | M5: 1.25
A6: =ROUND(SUM(J6*$F$2),2) -> 0.2 | B6: Lt | C6: Olivenöl Extra Vergine | F6: =SUM(E6*A6) -> 0 | I6: 0.1 | J6: =I6/$I$2 -> 0.05 | L6: EL | M6: Esslöffel
A7: =ROUND(SUM(J7*$F$2),2) -> 40 | B7: Stk | C7: Datteltomaten aus Sizilien | F7: =SUM(E7*A7) -> 0 | I7: 20 | J7: =I7/$I$2 -> 10 | L7: TL | M7: Kaffeelöffel
A8: =ROUND(SUM(J8*$F$2),2) -> 0.2 | B8: Kg | C8: schwarze Oliven, entsteint | F8: =SUM(E8*A8) -> 0 | I8: 0.1 | J8: =I8/$I$2 -> 0.05 | L8: Bund | M8: 1
A9: =ROUND(SUM(J9*$F$2),2) -> 2 | B9: Bund | C9: glatte Petersilie | F9: =SUM(E9*A9) -> 0 | I9: 1 | J9: =I9/$I$2 -> 0.5 | L9: Stk | M9: Stück
A10: =ROUND(SUM(J10*$F$2),2) -> 2 | B10: Bund | C10: Basilikum | F10: =SUM(E10*A10) -> 0 | I10: 1 | J10: =I10/$I$2 -> 0.5 | L10: Pä | M10: Päckli
A11: =ROUND(SUM(J11*$F$2),2) -> 2 | B11: Bund | C11: Dill | F11: =SUM(E11*A11) -> 0 | I11: 1 | J11: =I11/$I$2 -> 0.5 | L11: alles weitere ausschreiben
A12: =ROUND(SUM(J12*$F$2),2) -> 0 | C12: Meersalz | F12: =SUM(E12*A12) -> 0 | J12: =I12/$I$2 -> 0
A13: =ROUND(SUM(J13*$F$2),2) -> 0 | F13: =SUM(E13*A13) -> 0 | J13: =I13/$I$2 -> 0
A14: =ROUND(SUM(J14*$F$2),2) -> 0 | F14: =SUM(E14*A14) -> 0 | J14: =I14/$I$2 -> 0
A15: =ROUND(SUM(J15*$F$2),2) -> 0 | F15: =SUM(E15*A15) -> 0 | J15: =I15/$I$2 -> 0
A16: =ROUND(SUM(J16*$F$2),2) -> 0 | F16: =SUM(E16*A16) -> 0 | J16: =I16/$I$2 -> 0
A17: =ROUND(SUM(J17*$F$2),2) -> 0 | F17: =SUM(E17*A17) -> 0 | J17: =I17/$I$2 -> 0
A18: =ROUND(SUM(J18*$F$2),2) -> 0 | F18: =SUM(E18*A18) -> 0 | J18: =I18/$I$2 -> 0
A19: =ROUND(SUM(J19*$F$2),2) -> 0 | F19: =SUM(E19*A19) -> 0 | J19: =I19/$I$2 -> 0
A20: =ROUND(SUM(J20*$F$2),2) -> 0 | F20: =SUM(E20*A20) -> 0 | J20: =I20/$I$2 -> 0
A21: Zubereitung
A22: Den Backofen auf 160°C vorheizen.
A23: Den Fisch auf beiden Seiten kreuzweise einschneiden, dadurch gart er gleichmässiger. Den Fisch mit
A24: Meersalz und schwarzem Pfeffer innen und aussen würzen und mit Olivenöl einreiben.
A25: Die Kräuter zusammen mit jeweils einigen Oliven und Tomaten in den Fischbauch stopfen und diesen mit
A26: Zahnstochern verschliessen. Den Fisch in eine feuerfeste, rechteckige, flache Form legen, die restlichen
A27: Tomaten und Oliven dazugeben, mit Olivenöl beträufeln. Etwa 20 Minuten im vorgeheitzten Ofen garen,
A28: nicht wenden! Den Garpunkt kontrollieren: Der Fisch sollte am Mittelgrat noch etwas glasig sein, sich
A29: aber von den Gräten lösen lassen.
A30: Den Fisch filettieren und wieder zu einem Ganzen zusammensetzen.
A31: Mit dem Ofengemüse anrichten und servieren.

Sheet Pizzateig
E1: Chochete vom | F1: =SUM(Menu!B3) -> 44273 | I1: Original Rezept
A2: =Menu!B10 -> Pizzateig zum Apero | E2: Rezept für | F2: =SUM(Menu!B19) -> 4 | I2: 4 | J2: Personen | L2: Menu Angaben wie folgt machen:
A3: Menge | B3: Einheit | C3: Artikel (Gewicht alles ca. Angaben) | D3: Bemerkungen | E3: Einkaufspreis | F3: Betrag | I3: Originalrezept | J3: pro Person
A4: =ROUND(SUM(J4*$F$2),2) -> 0.15 | B4: Kg | C4: Weissmehl | F4: =SUM(E4*A4) -> 0 | I4: 0.15 | J4: =I4/$I$2 -> 0.0375 | L4: Kg | M4: 0.25
A5: =ROUND(SUM(J5*$F$2),2) -> 0.38 | B5: TL | C5: Salz | F5: =SUM(E5*A5) -> 0 | I5: 0.375 | J5: =I5/$I$2 -> 0.09375 | L5: Lt | M5: 1.25
A6: =ROUND(SUM(J6*$F$2),2) -> 0.01 | B6: Kg | C6: Hefe | F6: =SUM(E6*A6) -> 0 | I6: 0.00625 | J6: =I6/$I$2 -> 0.0015625 | L6: EL | M6: Esslöffel
A7: =ROUND(SUM(J7*$F$2),2) -> 0.08 | B7: Lt | C7: Wasser | F7: =SUM(E7*A7) -> 0 | I7: 0.075 | J7: =I7/$I$2 -> 0.01875 | L7: TL | M7: Kaffeelöffel
A8: =ROUND(SUM(J8*$F$2),2) -> 0.5 | B8: EL | C8: Oliven-oder Sonneblumenöl | F8: =SUM(E8*A8) -> 0 | I8: 0.5 | J8: =I8/$I$2 -> 0.125 | L8: Bund | M8: 1
A9: =ROUND(SUM(J9*$F$2),2) -> 0 | F9: =SUM(E9*A9) -> 0 | J9: =I9/$I$2 -> 0 | L9: Stk | M9: Stück
A10: =ROUND(SUM(J10*$F$2),2) -> 0 | F10: =SUM(E10*A10) -> 0 | J10: =I10/$I$2 -> 0 | L10: Pä | M10: Päckli
A11: =ROUND(SUM(J11*$F$2),2) -> 0 | F11: =SUM(E11*A11) -> 0 | J11: =I11/$I$2 -> 0 | L11: alles weitere ausschreiben
A12: =ROUND(SUM(J12*$F$2),2) -> 0 | F12: =SUM(E12*A12) -> 0 | J12: =I12/$I$2 -> 0
A13: =ROUND(SUM(J13*$F$2),2) -> 0 | F13: =SUM(E13*A13) -> 0 | J13: =I13/$I$2 -> 0
A14: =ROUND(SUM(J14*$F$2),2) -> 0 | F14: =SUM(E14*A14) -> 0 | J14: =I14/$I$2 -> 0
A15: =ROUND(SUM(J15*$F$2),2) -> 0 | F15: =SUM(E15*A15) -> 0 | J15: =I15/$I$2 -> 0
A16: =ROUND(SUM(J16*$F$2),2) -> 0 | F16: =SUM(E16*A16) -> 0 | J16: =I16/$I$2 -> 0
A17: =ROUND(SUM(J17*$F$2),2) -> 0 | F17: =SUM(E17*A17) -> 0 | J17: =I17/$I$2 -> 0
A18: =ROUND(SUM(J18*$F$2),2) -> 0 | F18: =SUM(E18*A18) -> 0 | J18: =I18/$I$2 -> 0
A19: =ROUND(SUM(J19*$F$2),2) -> 0 | F19: =SUM(E19*A19) -> 0 | J19: =I19/$I$2 -> 0
A20: =ROUND(SUM(J20*$F$2),2) -> 0 | F20: =SUM(E20*A20) -> 0 | J20: =I20/$I$2 -> 0
A21: Zubereitung
A22: Weissmehl und Salz in einer Schüssel mischen.
A23: Die Hefe mit einem Teil des Wassers anrühren.
A24: Öl zum restlichen Wasser geben, mit der Hefe zum Mehl giessen, erst dann alles mischen, den Teig auf
A25: dem Tisch kneten, bis er nicht mehr klebt, weich und geschmeidig ist. In der Schüssel zugedeckt um das
A26: doppelte aufgehen lassen.

Sheet Engelshaar
E1: Chochete vom | F1: =SUM(Menu!B3) -> 44273 | I1: Original Rezept
A2: =Menu!B11 -> Engelshaar zur Vorspeise | E2: Rezept für | F2: =SUM(Menu!B19) -> 4 | I2: 4 | J2: Personen | L2: Menu Angaben wie folgt machen:
A3: Menge | B3: Einheit | C3: Artikel (Gewicht alles ca. Angaben) | D3: Bemerkungen | E3: Einkaufspreis | F3: Betrag | I3: Originalrezept | J3: pro Person
A4: =ROUND(SUM(J4*$F$2),2) -> 0.2 | B4: Kg | C4: Mehl | F4: =SUM(E4*A4) -> 0 | I4: 0.2 | J4: =I4/$I$2 -> 0.05 | L4: Kg | M4: 0.25
A5: =ROUND(SUM(J5*$F$2),2) -> 0.1 | B5: Kg | C5: Maisstärke | F5: =SUM(E5*A5) -> 0 | I5: 0.1 | J5: =I5/$I$2 -> 0.025 | L5: Lt | M5: 1.25
A6: =ROUND(SUM(J6*$F$2),2) -> 0.23 | B6: Lt | C6: Wasser | F6: =SUM(E6*A6) -> 0 | I6: 0.23 | J6: =I6/$I$2 -> 0.0575 | L6: EL | M6: Esslöffel
A7: =ROUND(SUM(J7*$F$2),2) -> 0.04 | B7: Lt | C7: Oel | F7: =SUM(E7*A7) -> 0 | I7: 0.04 | J7: =I7/$I$2 -> 0.01 | L7: TL | M7: Kaffeelöffel
A8: =ROUND(SUM(J8*$F$2),2) -> 1 | B8: Prise | C8: Salz | F8: =SUM(E8*A8) -> 0 | I8: 1 | J8: =I8/$I$2 -> 0.25 | L8: Bund | M8: 1
A9: =ROUND(SUM(J9*$F$2),2) -> 0 | F9: =SUM(E9*A9) -> 0 | J9: =I9/$I$2 -> 0 | L9: Stk | M9: Stück
A10: =ROUND(SUM(J10*$F$2),2) -> 0 | F10: =SUM(E10*A10) -> 0 | J10: =I10/$I$2 -> 0 | L10: Pä | M10: Päckli
A11: =ROUND(SUM(J11*$F$2),2) -> 0 | F11: =SUM(E11*A11) -> 0 | J11: =I11/$I$2 -> 0 | L11: alles weitere ausschreiben
A12: =ROUND(SUM(J12*$F$2),2) -> 0 | F12: =SUM(E12*A12) -> 0 | J12: =I12/$I$2 -> 0
A13: =ROUND(SUM(J13*$F$2),2) -> 0 | F13: =SUM(E13*A13) -> 0 | J13: =I13/$I$2 -> 0
A14: =ROUND(SUM(J14*$F$2),2) -> 0 | F14: =SUM(E14*A14) -> 0 | J14: =I14/$I$2 -> 0
A15: =ROUND(SUM(J15*$F$2),2) -> 0 | F15: =SUM(E15*A15) -> 0 | J15: =I15/$I$2 -> 0
A16: =ROUND(SUM(J16*$F$2),2) -> 0 | F16: =SUM(E16*A16) -> 0 | J16: =I16/$I$2 -> 0
A17: =ROUND(SUM(J17*$F$2),2) -> 0 | F17: =SUM(E17*A17) -> 0 | J17: =I17/$I$2 -> 0
A18: =ROUND(SUM(J18*$F$2),2) -> 0 | F18: =SUM(E18*A18) -> 0 | J18: =I18/$I$2 -> 0
A19: =ROUND(SUM(J19*$F$2),2) -> 0 | F19: =SUM(E19*A19) -> 0 | J19: =I19/$I$2 -> 0
A20: =ROUND(SUM(J20*$F$2),2) -> 0 | F20: =SUM(E20*A20) -> 0 | J20: =I20/$I$2 -> 0
A21: Zubereitung
A22: Mehl und Maisstärke vermischen. Salz beigeben. Wasser und Oel beigeben und gut aufschlagen. Es
A23: dürfen keine Klumpen entstehen. Es muss ein flüssiger Teig entstehen. Ggf. mit dem Stabmixer
A24: nachmixen. 10 Minuten ruhen lassen. Teig in Gefrierbeutel geben. Eine beschichtete Pfanne nehmen.
A25: Heiss werden lasen und ein kleines Loch in den Gefrierbeutel schneiden. (max. 1mm) So, das der Teig
A26: gerade noch rauskommt. In kreisenden Bewegungen Masse in die heisse Pfanne geben.
A27: Der Teig darf nicht zu lange backen. Man muss sehr schnell sein, wenn das backt. An der Seite
A28: reinschieben (lässt los). Rausnehmen und beiseite stellen. Mit feuchtem Tuch abdecken.
A29: Vorgang wiederholen.
A30: Video zum Nachschauen: https://youtu.be/siSrLmfo4Wo
A31: Im Google suchen unter Telkadayif für Künefe Selber backen oder Engelshaar

Sheet Dessert
E1: Chochete vom | F1: =SUM(Menu!B3) -> 44273 | I1: Original Rezept
A2: =Menu!B13 -> Pistazieneis mit Basilikum und Olivenöl | E2: Rezept für | F2: =SUM(Menu!B19) -> 4 | I2: 4 | J2: Personen | L2: Menu Angaben wie folgt machen:
A3: Menge | B3: Einheit | C3: Artikel (Gewicht alles ca. Angaben) | D3: Bemerkungen | E3: Einkaufspreis | F3: Betrag | I3: Originalrezept | J3: pro Person
A4: =ROUND(SUM(J4*$F$2),2) -> 0.25 | B4: Lt | C4: Vollmilch | F4: =SUM(E4*A4) -> 0 | I4: 0.25 | J4: =I4/$I$2 -> 0.0625 | L4: Kg | M4: 0.25
A5: =ROUND(SUM(J5*$F$2),2) -> 0.33 | B5: Prise | C5: Meersalz | F5: =SUM(E5*A5) -> 0 | I5: 0.333 | J5: =I5/$I$2 -> 0.08325 | L5: Lt | M5: 1.25
A6: =ROUND(SUM(J6*$F$2),2) -> 2 | B6: Stk | C6: Eigelb | F6: =SUM(E6*A6) -> 0 | I6: 2 | J6: =I6/$I$2 -> 0.5 | L6: EL | M6: Esslöffel
A7: =ROUND(SUM(J7*$F$2),2) -> 0.33 | B7: Stk | C7: schwaze Schokolade | F7: =SUM(E7*A7) -> 0 | I7: 0.333 | J7: =I7/$I$2 -> 0.08325 | L7: KL | M7: Kaffeelöffel
A8: =ROUND(SUM(J8*$F$2),2) -> 0.08 | B8: Kg | C8: Kristallzucker | F8: =SUM(E8*A8) -> 0 | I8: 0.075 | J8: =I8/$I$2 -> 0.01875 | L8: Bund | M8: 1
A9: =ROUND(SUM(J9*$F$2),2) -> 0.1 | B9: Kg | C9: Pistazien aus Sizilien | F9: =SUM(E9*A9) -> 0 | I9: 0.1 | J9: =I9/$I$2 -> 0.025 | L9: Stk | M9: Stück
A10: =ROUND(SUM(J10*$F$2),2) -> 0 | C10: Olivenöl Extravergine | F10: =SUM(E10*A10) -> 0 | J10: =I10/$I$2 -> 0 | L10: Pä | M10: Päckli
A11: =ROUND(SUM(J11*$F$2),2) -> 0 | C11: Fleur de Sel | F11: =SUM(E11*A11) -> 0 | J11: =I11/$I$2 -> 0 | L11: alles weitere ausschreiben
A12: =ROUND(SUM(J12*$F$2),2) -> 0 | C12: Basilikumblätter | F12: =SUM(E12*A12) -> 0 | J12: =I12/$I$2 -> 0
A13: =ROUND(SUM(J13*$F$2),2) -> 0 | F13: =SUM(E13*A13) -> 0 | J13: =I13/$I$2 -> 0
A14: =ROUND(SUM(J14*$F$2),2) -> 0 | F14: =SUM(E14*A14) -> 0 | J14: =I14/$I$2 -> 0
A15: =ROUND(SUM(J15*$F$2),2) -> 0 | F15: =SUM(E15*A15) -> 0 | J15: =I15/$I$2 -> 0
A16: =ROUND(SUM(J16*$F$2),2) -> 0 | F16: =SUM(E16*A16) -> 0 | J16: =I16/$I$2 -> 0
A17: =ROUND(SUM(J17*$F$2),2) -> 0 | F17: =SUM(E17*A17) -> 0 | J17: =I17/$I$2 -> 0
A18: =ROUND(SUM(J18*$F$2),2) -> 0 | F18: =SUM(E18*A18) -> 0 | J18: =I18/$I$2 -> 0
A19: =ROUND(SUM(J19*$F$2),2) -> 0 | F19: =SUM(E19*A19) -> 0 | J19: =I19/$I$2 -> 0
A20: =ROUND(SUM(J20*$F$2),2) -> 0 | F20: =SUM(E20*A20) -> 0 | J20: =I20/$I$2 -> 0
A21: Zubereitung
A22: (Für ca. 1/3 Liter Eis)
A23: Eine grosse Schüssel mit Eis und Wasser füllen. Die Milch in einem Topf bis kurz vor dem Siedepunkt bringen und leicht salzen. Die Eigelbe mit dem Zucker etwa 10 Minuten in der Rührschüssel der
A24: Küchenmaschine schaumig schlagen. Die erwärmte Milch einrühren, alles zurück in den Topf geben und unter ständigem Rühren vorsichtig erhitzen, bis die Milch eine dickliche Konsistenz annimmt
A25: (in der Fachsprache nennt man das >>zur Rose abziehen<<). Die Creme in die Schüssel mit dem Eisbad stellen und kaltrühren. Die Pistazien in einer trockenen Pfanne anrösten, dann abkühlen lassen.
A26: 10 Gramm davon beiseite stellen, den Rest fein mahlen. Das Pistazienmehl zur Creme geben und gut umrühren, bis die Masse eine sattgrüne Farbe annimmt. Ein Stück Frischhaltefolie direkt auf die
A27: Oberfläche legen, sodass sich keine Haut bilden kann. Im Kühlschrank mindestens 6 Stunden, besser über Nacht, durchkühlen lassen. Anschliessend in der Eismaschine gefrieren lassen.
A28: Die beiseitegelegten Pistazien grob hacken, das Schokoladenstück fein reiben. Mit einem in warmes Wasser getauchten Löffel eine grosse Portion Pistazieneis auf Teller geben. Mit etwas Olivenöl
A29: begiessen, dann mit wenig Fleur de Sel, den gehackten Pistazien, Basilikumblättern und geriebener Schokolade bestreuen.
A30: Tip: Man muss die Masse nicht unbedingt 6 Stunden kühl stellen. Kurz in den Gefrierer legen und dann in die Eismaschine geben. Falls diese nicht verfügbar ist, immer wieder rühren….

Sheet Diverses
E1: Chochete vom | F1: =SUM(Menu!B3) -> 44273 | I1: Original Rezept
A2: =Menu!B15 -> 0 | E2: Rezept für | F2: =SUM(Menu!B19) -> 4 | J2: Personen | L2: Menu Angaben wie folgt machen:
A3: Menge | B3: Einheit | C3: Artikel (Gewicht alles ca. Angaben) | D3: Bemerkungen | E3: Einkaufspreis | F3: Betrag | I3: Originalrezept | J3: pro Person
A4: =ROUND(SUM(J4*$F$2),2) -> #DIV/0! | F4: =SUM(E4*A4) -> #DIV/0! | J4: =I4/$I$2 -> #DIV/0! | L4: Kg | M4: 0.25
A5: =ROUND(SUM(J5*$F$2),2) -> #DIV/0! | F5: =SUM(E5*A5) -> #DIV/0! | J5: =I5/$I$2 -> #DIV/0! | L5: Lt | M5: 1.25
A6: =ROUND(SUM(J6*$F$2),2) -> #DIV/0! | F6: =SUM(E6*A6) -> #DIV/0! | J6: =I6/$I$2 -> #DIV/0! | L6: EL | M6: Esslöffel
A7: =ROUND(SUM(J7*$F$2),2) -> #DIV/0! | F7: =SUM(E7*A7) -> #DIV/0! | J7: =I7/$I$2 -> #DIV/0! | L7: KL | M7: Kaffeelöffel
A8: =ROUND(SUM(J8*$F$2),2) -> #DIV/0! | F8: =SUM(E8*A8) -> #DIV/0! | J8: =I8/$I$2 -> #DIV/0! | L8: Bund | M8: 1
A9: =ROUND(SUM(J9*$F$2),2) -> #DIV/0! | F9: =SUM(E9*A9) -> #DIV/0! | J9: =I9/$I$2 -> #DIV/0! | L9: Stk | M9: Stück
A10: =ROUND(SUM(J10*$F$2),2) -> #DIV/0! | F10: =SUM(E10*A10) -> #DIV/0! | J10: =I10/$I$2 -> #DIV/0! | L10: Pä | M10: Päckli
A11: =ROUND(SUM(J11*$F$2),2) -> #DIV/0! | F11: =SUM(E11*A11) -> #DIV/0! | J11: =I11/$I$2 -> #DIV/0! | L11: alles weitere ausschreiben
A12: =ROUND(SUM(J12*$F$2),2) -> #DIV/0! | F12: =SUM(E12*A12) -> #DIV/0! | J12: =I12/$I$2 -> #DIV/0!
A13: =ROUND(SUM(J13*$F$2),2) -> #DIV/0! | F13: =SUM(E13*A13) -> #DIV/0! | J13: =I13/$I$2 -> #DIV/0!
A14: =ROUND(SUM(J14*$F$2),2) -> #DIV/0! | F14: =SUM(E14*A14) -> #DIV/0! | J14: =I14/$I$2 -> #DIV/0!
A15: =ROUND(SUM(J15*$F$2),2) -> #DIV/0! | F15: =SUM(E15*A15) -> #DIV/0! | J15: =I15/$I$2 -> #DIV/0!
A16: =ROUND(SUM(J16*$F$2),2) -> #DIV/0! | F16: =SUM(E16*A16) -> #DIV/0! | J16: =I16/$I$2 -> #DIV/0!
A17: =ROUND(SUM(J17*$F$2),2) -> #DIV/0! | F17: =SUM(E17*A17) -> #DIV/0! | J17: =I17/$I$2 -> #DIV/0!
A18: =ROUND(SUM(J18*$F$2),2) -> #DIV/0! | F18: =SUM(E18*A18) -> #DIV/0! | J18: =I18/$I$2 -> #DIV/0!
A19: =ROUND(SUM(J19*$F$2),2) -> #DIV/0! | F19: =SUM(E19*A19) -> #DIV/0! | J19: =I19/$I$2 -> #DIV/0!
A20: =ROUND(SUM(J20*$F$2),2) -> #DIV/0! | F20: =SUM(E20*A20) -> #DIV/0! | J20: =I20/$I$2 -> #DIV/0!
A21: Zubereitung

Sheet Einkaufsliste
A1: Hobby-Küche Zug | C1: Einkaufsliste | D1: =Dessert!F1 -> 44273 | E1: ok
A2: Menge | B2: Einheit | C2: Artikel
A3: =Apero!A2 -> Pizza mit Sardellen, Kapern und Pecorino | D3: Bemerkungen
A4: =SUM(Apero!A4) -> 0.13 | B4: =Apero!B4 -> Kg | C4: =Apero!C4 -> Pizzateig (siehe Rezept) | D4: =Apero!D4 -> 0
A5: =SUM(Apero!A5) -> 1 | B5: =Apero!B5 -> EL | C5: =Apero!C5 -> in Salz eingelegte Kapern | D5: =Apero!D5 -> 0
A6: =SUM(Apero!A6) -> 0.03 | B6: =Apero!B6 -> Kg | C6: =Apero!C6 -> Parmesan, gerieben | D6: =Apero!D6 -> 0
A7: =SUM(Apero!A7) -> 1 | B7: =Apero!B7 -> Stk | C7: =Apero!C7 -> Knoblauchzehen hauchdünn geschnitten | D7: =Apero!D7 -> 0
A8: =SUM(Apero!A8) -> 6 | B8: =Apero!B8 -> Stk. | C8: =Apero!C8 -> kleine Sardellenfilets grob gehackt | D8: =Apero!D8 -> 0
A9: =SUM(Apero!A9) -> 0 | B9: =Apero!B9 -> 0 | C9: =Apero!C9 -> getrockneter Oregano | D9: =Apero!D9 -> 0
A10: =SUM(Apero!A10) -> 0 | B10: =Apero!B10 -> 0 | C10: =Apero!C10 -> getrocknete Chilliflocken | D10: =Apero!D10 -> 0
A11: =SUM(Apero!A11) -> 0.02 | B11: =Apero!B11 -> Kg | C11: =Apero!C11 -> Pecorino gerieben | D11: =Apero!D11 -> 0
A12: =SUM(Apero!A12) -> 0.25 | B12: =Apero!B12 -> Stk | C12: =Apero!C12 -> Zitrone | D12: =Apero!D12 -> 0
A13: =SUM(Apero!A13) -> 0 | B13: =Apero!B13 -> 0 | C13: =Apero!C13 -> Olivenöl zum beträufeln | D13: =Apero!D13 -> 0
A14: =SUM(Apero!A14) -> 0 | B14: =Apero!B14 -> 0 | C14: =Apero!C14 -> 0 | D14: =Apero!D14 -> 0
A15: =SUM(Apero!A15) -> 0 | B15: =Apero!B15 -> 0 | C15: =Apero!C15 -> 0 | D15: =Apero!D15 -> 0
... A20: =SUM(Apero!A20) -> 0 | B20: =Apero!B20 -> 0 | C20: =Apero!C20 -> 0 | D20: =Apero!D20 -> 0
A21: =Vorspeise!A2 -> Garnelen mit Kadayif (Engelshaar)-Mantel | D21: Bemerkungen
A22: =SUM(Vorspeise!A4) -> 16 | B22: =Vorspeise!B4 -> Stk | C22: =Vorspeise!C4 -> rohe geschälte Garnelen, mittelgross | D22: =Vorspeise!D4 -> 0
A23: =SUM(Vorspeise!A5) -> 0.5 | B23: =Vorspeise!B5 -> Bund | C23: =Vorspeise!C5 -> Minze | D23: =Vorspeise!D5 -> 0
A24: =SUM(Vorspeise!A6) -> 0.1 | B24: =Vorspeise!B6 -> Kg | C24: =Vorspeise!C6 -> Crème Fraîche | D24: =Vorspeise!D6 -> 0
A25: =SUM(Vorspeise!A7) -> 1 | B25: =Vorspeise!B7 -> Spritzer | C25: =Vorspeise!C7 -> Zitronensaft | D25: =Vorspeise!D7 -> 0
A26: =SUM(Vorspeise!A8) -> 0 | B26: =Vorspeise!B8 -> 0 | C26: =Vorspeise!C8 -> Salz | D26: =Vorspeise!D8 -> 0
A27: =SUM(Vorspeise!A9) -> 0.12 | B27: =Vorspeise!B9 -> kg | C27: =Vorspeise!C9 -> Engelshaar selbst gemacht | D27: =Vorspeise!D9 -> 0
A28: =SUM(Vorspeise!A10) -> 1 | B28: =Vorspeise!B10 -> Stk | C28: =Vorspeise!C10 -> Knoblauchzehe | D28: =Vorspeise!D10 -> 0
A29: =SUM(Vorspeise!A11) -> 2 | B29: =Vorspeise!B11 -> Stängel | C29: =Vorspeise!C11 -> Basilikum | D29: =Vorspeise!D11 -> 0
A30: =SUM(Vorspeise!A12) -> 2 | B30: =Vorspeise!B12 -> Stk | C30: =Vorspeise!C12 -> Eiweiss | D30: =Vorspeise!D12 -> 0
A31: =SUM(Vorspeise!A13) -> 1 | B31: =Vorspeise!B13 -> Prise | C31: =Vorspeise!C13 -> edelsüsses Paprika | D31: =Vorspeise!D13 -> 0
A32: =SUM(Vorspeise!A14) -> 0 | B32: =Vorspeise!B14 -> 0 | C32: =Vorspeise!C14 -> schwarzer Pfeffer gemahlen | D32: =Vorspeise!D14 -> 0
A33: =SUM(Vorspeise!A15) -> 0.15 | B33: =Vorspeise!B15 -> Lt | C33: =Vorspeise!C15 -> Pflanzenöl | D33: =Vorspeise!D15 -> 0
... A38: =SUM(Vorspeise!A20) -> 0 | B38: =Vorspeise!B20 -> 0 | C38: =Vorspeise!C20 -> 0 | D38: =Vorspeise!D20 -> 0
A39: =Hauptgang!A2 -> Red Snapper aus dem Ofen | D39: Bemerkungen
A40: =SUM(Hauptgang!A4) -> 1.6 | B40: =Hauptgang!B4 -> Kg | C40: =Hauptgang!C4 -> Red Snapper oder Dorade | D40: =Hauptgang!D4 -> 2 Pers. 1 Fisch
A41: =SUM(Hauptgang!A5) -> 0 | B41: =Hauptgang!B5 -> 0 | C41: =Hauptgang!C5 -> schwarzer Pfeffer aus der Mühle | D41: =Hauptgang!D5 -> 0
A42: =SUM(Hauptgang!A6) -> 0.2 | B42: =Hauptgang!B6 -> Lt | C42: =Hauptgang!C6 -> Olivenöl Extra Vergine | D42: =Hauptgang!D6 -> 0
A43: =SUM(Hauptgang!A7) -> 40 | B43: =Hauptgang!B7 -> Stk | C43: =Hauptgang!C7 -> Datteltomaten aus Sizilien | D43: =Hauptgang!D7 -> 0
A44: =SUM(Hauptgang!A8) -> 0.2 | B44: =Hauptgang!B8 -> Kg | C44: =Hauptgang!C8 -> schwarze Oliven, entsteint | D44: =Hauptgang!D8 -> 0
A45: =SUM(Hauptgang!A9) -> 2 | B45: =Hauptgang!B9 -> Bund | C45: =Hauptgang!C9 -> glatte Petersilie | D45: =Hauptgang!D9 -> 0
A46: =SUM(Hauptgang!A10) -> 2 | B46: =Hauptgang!B10 -> Bund | C46: =Hauptgang!C10 -> Basilikum | D46: =Hauptgang!D10 -> 0
A47: =SUM(Hauptgang!A11) -> 2 | B47: =Hauptgang!B11 -> Bund | C47: =Hauptgang!C11 -> Dill | D47: =Hauptgang!D11 -> 0
A48: =SUM(Hauptgang!A12) -> 0 | B48: =Hauptgang!B12 -> 0 | C48: =Hauptgang!C12 -> Meersalz | D48: =Hauptgang!D12 -> 0
...
