Workbook

Sheet Menu
B1: Clown mit Sosse
A3: Datum | B3: 43790 | D3: Menu Angaben wie folgt machen: | F3: Kg | G3: 0.25
F4: Lt | G4: 1.25
A5: Apero | B5: Pimm's Nr. 1 | D5: alle weiteren Angaben ausschreiben | F5: EL | G5: Esslöffel
F6: TL | G6: Teelöffel
A7: Vorspeise | B7: Geflügelleberli-Salat mit Äpfeln | F7: Bund | G7: 1
F8: Stk | G8: Stück
A9: Hauptgang | B9: Wildschweinssteak | F9: Pä | G9: Päckli
A10: Beilage 1 | B10: Broccoli mit Marroni-Gremolata
A11: Beilage 2 | B11: Härdöpfelstock
A13: Dessert | B13: Zabaione mit Vanilleglace
A15: Diverses
A17: Menu von Tisch | B17: D
A19: Personenzahl | B19: 4

Sheet Vorspann
E1: Chochete vom | F1: =SUM(Menu!B3) -> 43790 | I1: Original Rezept
E2: Rezept für | F2: =Menu!B19 -> 4 | I2: 4 | J2: Personen
A3: Menge | B3: Einheit | C3: Artikel (Gewicht alles ca. Angaben) | D3: Bemerkungen | E3: Einkaufspreis | F3: Betrag | I3: Originalrezept | J3: pro Person
A4: =ROUND(SUM(J4*$F$2),2) -> 0 | F4: =SUM(E4*A4) -> 0 | J4: =I4/$I$2 -> 0
A5: =ROUND(SUM(J5*$F$2),2) -> 0 | F5: =SUM(E5*A5) -> 0 | J5: =I5/$I$2 -> 0
A6: =ROUND(SUM(J6*$F$2),2) -> 0 | F6: =SUM(E6*A6) -> 0 | J6: =I6/$I$2 -> 0
A7: =ROUND(SUM(J7*$F$2),2) -> 0 | F7: =SUM(E7*A7) -> 0 | J7: =I7/$I$2 -> 0
A8: =ROUND(SUM(J8*$F$2),2) -> 0 | F8: =SUM(E8*A8) -> 0 | J8: =I8/$I$2 -> 0
A9: =ROUND(SUM(J9*$F$2),2) -> 0 | F9: =SUM(E9*A9) -> 0 | J9: =I9/$I$2 -> 0
A10: =ROUND(SUM(J10*$F$2),2) -> 0 | F10: =SUM(E10*A10) -> 0 | J10: =I10/$I$2 -> 0
A11: =ROUND(SUM(J11*$F$2),2) -> 0 | F11: =SUM(E11*A11) -> 0 | J11: =I11/$I$2 -> 0
A12: =ROUND(SUM(J12*$F$2),2) -> 0 | F12: =SUM(E12*A12) -> 0 | J12: =I12/$I$2 -> 0
A13: =ROUND(SUM(J13*$F$2),2) -> 0 | F13: =SUM(E13*A13) -> 0 | J13: =I13/$I$2 -> 0
A14: =ROUND(SUM(J14*$F$2),2) -> 0 | F14: =SUM(E14*A14) -> 0 | J14: =I14/$I$2 -> 0
A15: =ROUND(SUM(J15*$F$2),2) -> 0 | F15: =SUM(E15*A15) -> 0 | J15: =I15/$I$2 -> 0
... A20: =ROUND(SUM(J20*$F$2),2) -> 0 | F20: =SUM(E20*A20) -> 0 | J20: =I20/$I$2 -> 0
A21: Zubereitung

Sheet Vorspeise
E1: Chochete vom | F1: =SUM(Menu!B3) -> 43790 | I1: Original Rezept
A2: =Menu!B7 -> Geflügelleberli-Salat mit Äpfeln | E2: Rezept für | F2: =SUM(Menu!B19) -> 4 | I2: 4 | J2: Personen
A3: Menge | B3: Einheit | C3: Artikel (Gewicht alles ca. Angaben) | D3: Bemerkungen | E3: Einkaufspreis | F3: Betrag | I3: Originalrezept | J3: pro Person
A4: =ROUND(SUM(J4*$F$2),2) -> 0.2 | B4: Kg | C4: Geflügelleber | F4: =SUM(E4*A4) -> 0 | I4: 0.2 | J4: =I4/$I$2 -> 0.05
A5: =ROUND(SUM(J5*$F$2),2) -> 2 | B5: Stk | C5: Schalotten fein gehackt | F5: =SUM(E5*A5) -> 0 | I5: 2 | J5: =I5/$I$2 -> 0.5
A6: =ROUND(SUM(J6*$F$2),2) -> 1 | B6: Stk | C6: Knoblauchzehe fein gehackt | F6: =SUM(E6*A6) -> 0 | I6: 1 | J6: =I6/$I$2 -> 0.25
A7: =ROUND(SUM(J7*$F$2),2) -> 1 | B7: EL | C7: Erdnussöl | F7: =SUM(E7*A7) -> 0 | I7: 1 | J7: =I7/$I$2 -> 0.25
A8: =ROUND(SUM(J8*$F$2),2) -> 0.02 | B8: Kg | C8: Kochbutter | F8: =SUM(E8*A8) -> 0 | I8: 0.02 | J8: =I8/$I$2 -> 0.005
A9: =ROUND(SUM(J9*$F$2),2) -> 0 | C9: Cognac zum marinieren | F9: =SUM(E9*A9) -> 0 | J9: =I9/$I$2 -> 0
A10: Garnitur | C10: Salz, Pfeffer aus der Mühle | J10: =I10/$I$2 -> 0
A11: =ROUND(SUM(J11*$F$2),2) -> 1 | B11: Stk | C11: Äpfel geschält, in Würfeli geschnitten | F11: =SUM(E11*A11) -> 0 | I11: 1 | J11: =I11/$I$2 -> 0.25
A12: =ROUND(SUM(J12*$F$2),2) -> 0.5 | B12: Stk | C12: Zitrone (nur Saft davon) | F12: =SUM(E12*A12) -> 0 | I12: 0.5 | J12: =I12/$I$2 -> 0.125
A13: =ROUND(SUM(J13*$F$2),2) -> 0.5 | B13: Stk | C13: Chicorino rosso in Streifen geschnitten oder ganz | F13: =SUM(E13*A13) -> 0 | I13: 0.5 | J13: =I13/$I$2 -> 0.125
A14: =ROUND(SUM(J14*$F$2),2) -> 0.15 | B14: Kg | C14: Nüsslisalat | F14: =SUM(E14*A14) -> 0 | I14: 0.15 | J14: =I14/$I$2 -> 0.0375
A15: =ROUND(SUM(J15*$F$2),2) -> 1 | B15: EL | C15: Baumnüsse, grob gehackt | F15: =SUM(E15*A15) -> 0 | I15: 1 | J15: =I15/$I$2 -> 0.25
A16: =ROUND(SUM(J16*$F$2),2) -> 0 | C16: geröstete Brotcroutons | F16: =SUM(E16*A16) -> 0 | J16: =I16/$I$2 -> 0
A17: Salatsauce | J17: =I17/$I$2 -> 0
A18: =ROUND(SUM(J18*$F$2),2) -> 3 | B18: EL | C18: Sherryessig oder Sherry und etwas Essig | F18: =SUM(E18*A18) -> 0 | I18: 3 | J18: =I18/$I$2 -> 0.75
A19: =ROUND(SUM(J19*$F$2),2) -> 4 | B19: EL | C19: Öl wenn möglich Nussöl | F19: =SUM(E19*A19) -> 0 | I19: 4 | J19: =I19/$I$2 -> 1
A20: =ROUND(SUM(J20*$F$2),2) -> 2 | B20: cl | C20: Cognc zum flambieren | I20: 2 | J20: =I20/$I$2 -> 0.5
A21: =ROUND(SUM(J21*$F$2),2) -> 0 | C21: Salz, Pfeffer aus der Mühle | J21: =I21/$I$2 -> 0
A22: =ROUND(SUM(J22*$F$2),2) -> 0 | C22: Worcestersauce | J22: =I22/$I$2 -> 0
A23: =ROUND(SUM(J23*$F$2),2) -> 0.25 | B23: TL | C23: Thymian frischer fein gehackt | I23: 0.25 | J23: =I23/$I$2 -> 0.0625
A24: =ROUND(SUM(J24*$F$2),2) -> 1 | B24: Bund | C24: Schnittlauch fein geschnitten | F24: =SUM(E24*A24) -> 0 | I24: 1 | J24: =I24/$I$2 -> 0.25
A25: Zubereitung
A26: Die Geflügelleber unter fliessend kaltem Wasser abspühlen, gut trockentupfen und mit wenig Cognac beträufeln.
A27: Das Oel sehr heiss werden lassen, die Butter, die Zwiebeln und den Knoblauch beigeben und ca. 1/2 Minute rösten. Die marinierte Leber beigeben.
A29: Würzen und unter öfterem Wenden saignant braten, mit Cognac flambieren.
A30: Sofort aus der Pfanne nehmen, den Fond abgiessen und zur Salatsauce geben.
A31: lnzwischen die Garnitur hübsch auf Tellern anrichten, die Leber noch lauwarm darüber verteilen und mit der Salatsauce napiert sofort servieren.
A33: Für die Salatsauce: Alle Flüssigkeiten in einer Glasschüssel anrühren, mit den Kräutern mischen und rassig abschmecken.

Sheet Hauptgang
E1: Chochete vom | F1: =SUM(Menu!B3) -> 43790 | I1: Original Rezept
A2: =Menu!B9 -> Wildschweinssteak | E2: Rezept für | F2: =Menu!B19 -> 4 | I2: 4 | J2: Personen
A3: Menge | B3: Einheit | C3: Artikel (Gewicht alles ca. Angaben) | D3: Bemerkungen | E3: Einkaufspreis | F3: Betrag | I3: Originalrezept | J3: pro Person
A4: =ROUND(SUM(J4*$F$2),2) -> 0.6 | B4: Kg | C4: Wildschweinsteaks à 150 gr | F4: =SUM(E4*A4) -> 0 | I4: 0.6 | J4: =I4/$I$2 -> 0.15
A5: =ROUND(SUM(J5*$F$2),2) -> 0 | C5: Gewürz nach belieben. Salz, Pfeffer, Piment (Nelkenpfeffer), Wacholder | F5: =SUM(E5*A5) -> 0 | J5: =I5/$I$2 -> 0
A6: =ROUND(SUM(J6*$F$2),2) -> 3 | B6: EL | C6: Bratbutter oder Öl | F6: =SUM(E6*A6) -> 0 | I6: 3 | J6: =I6/$I$2 -> 0.75
A7: =ROUND(SUM(J7*$F$2),2) -> 1 | B7: Zweig | C7: Thymian | F7: =SUM(E7*A7) -> 0 | I7: 1 | J7: =I7/$I$2 -> 0.25
A8: =ROUND(SUM(J8*$F$2),2) -> 0 | J8: =I8/$I$2 -> 0
A9: =ROUND(SUM(J9*$F$2),2) -> 0 | J9: =I9/$I$2 -> 0
A10: =ROUND(SUM(J10*$F$2),2) -> 0.4 | B10: Kg | C10: Mirepoix bestehend aus: | F10: =SUM(E10*A10) -> 0 | I10: 0.4 | J10: =I10/$I$2 -> 0.1
A11: =ROUND(SUM(J11*$F$2),2) -> 0 | C11: Rüebli, Knollensellerie, Petersilienwurzeln, Zwiebeln alles zu gleichen Teilen in Würfel schneiden, Lauch und weitere Gemüse | F11: =SUM(E11*A11) -> 0 | J11: =I11/$I$2 -> 0
A12: =ROUND(SUM(J12*$F$2),2) -> 0 | F12: =SUM(E12*A12) -> 0 | J12: =I12/$I$2 -> 0
A13: =ROUND(SUM(J13*$F$2),2) -> 0 | C13: Piment, Wacholderbeeren, schwarzer Pfeffer, Lorbeerblätter, Nelken, Tymian, Majoran, Rosmarin, Petersilie und Koblauchzehe sowie nach eigenem gutfinden | F13: =SUM(E13*A13) -> 0 | J13: =I13/$I$2 -> 0
A14: =ROUND(SUM(J14*$F$2),2) -> 0 | F14: =SUM(E14*A14) -> 0 | J14: =I14/$I$2 -> 0
A15: =ROUND(SUM(J15*$F$2),2) -> 0 | C15: Gemüse in walnussgroße Würfel schneiden. Kräuter und Gewürze werden nach dem Röstvorgang dem Gargut beigefügt. | F15: =SUM(E15*A15) -> 0 | J15: =I15/$I$2 -> 0
A16: =ROUND(SUM(J16*$F$2),2) -> 0 | F16: =SUM(E16*A16) -> 0 | J16: =I16/$I$2 -> 0
A17: =ROUND(SUM(J17*$F$2),2) -> 1 | B17: EL | C17: Tomatenpürée | F17: =SUM(E17*A17) -> 0 | I17: 1 | J17: =I17/$I$2 -> 0.25
A18: =ROUND(SUM(J18*$F$2),2) -> 0.15 | B18: Lt | C18: Rotwein | F18: =SUM(E18*A18) -> 0 | I18: 0.15 | J18: =I18/$I$2 -> 0.0375
A19: =ROUND(SUM(J19*$F$2),2) -> 0.15 | B19: Lt | C19: Wildfond | F19: =SUM(E19*A19) -> 0 | I19: 0.15 | J19: =I19/$I$2 -> 0.0375
A20: Garnitur | C20: Broccoli mit Marroni-Gremolata | E20: siehe Beilage 1 | J20: =I20/$I$2 -> 0
A21: Zubereitung
A22: Für das Gewürz, die Wacholderbeeren in einer Pfanne rösten, fein hacken und mit Salz, Pfeffer und Piment mischen. Damit das Fleisch würzen, in Bratbutter in einem Bräter beidseitig anbraten.
A24: Sofort herausnehmen und eingepackt in einer Alufolie im 70 Grad heissen Ofen warm stellen.
A25: Dem Mirepoix die Kräuter und das Tomatenpürée in die Bratpfanne geben, gut abschmelzen und mit Wein ablöschen. Mit Fond auffüllen und 15 bis 20 Minuten gut auskochen. Durch ein feines Sieb streichen, evtl. mit Fond oder Bouillon strecken und kräftig abschmecken.
A27: Profi-Tipp
A28: Für das Mirepoix eignen sich auch Abschnitte von geputztem Gemüse.
A29: Zur Herstellung von Fonds, Suppen und Saucen sollten nur frische Zutaten verwendet werden, denn nur so kommen die verschiedenen Aromastoffe zur Geltung. Zutaten, die im Geschmack dominieren, nur vorsichtig verwenden, denn mit diesen Zutaten soll ein ausgeglichenes Aroma erzielt werden. Das heißt, einzelne Geschmacksträger dürfen nicht hervortreten.

Sheet Beilage1
E1: Chochete vom | F1: =SUM(Menu!B3) -> 43790 | I1: Original Rezept
A2: =Menu!B10 -> Broccoli mit Marroni-Gremolata | E2: Rezept für | F2: =SUM(Menu!B19) -> 4 | I2: 4 | J2: Personen
A3: Menge | B3: Einheit | C3: Artikel (Gewicht alles ca. Angaben) | D3: Bemerkungen | E3: Einkaufspreis | F3: Betrag | I3: Originalrezept | J3: pro Person
A4: =ROUND(SUM(J4*$F$2),2) -> 0.5 | B4: Kg | C4: Broccoli | F4: =SUM(E4*A4) -> 0 | I4: 0.5 | J4: =I4/$I$2 -> 0.125
A5: =ROUND(SUM(J5*$F$2),2) -> 1 | B5: Stk | C5: Zitrone | F5: =SUM(E5*A5) -> 0 | I5: 1 | J5: =I5/$I$2 -> 0.25
A6: =ROUND(SUM(J6*$F$2),2) -> 2 | B6: EL | C6: Olivenöl | F6: =SUM(E6*A6) -> 0 | I6: 2 | J6: =I6/$I$2 -> 0.5
A7: =ROUND(SUM(J7*$F$2),2) -> 1 | B7: Stk | C7: Knoblauchzehe | F7: =SUM(E7*A7) -> 0 | I7: 1 | J7: =I7/$I$2 -> 0.25
A8: =ROUND(SUM(J8*$F$2),2) -> 1 | B8: Stk | C8: Peperoncino | F8: =SUM(E8*A8) -> 0 | I8: 1 | J8: =I8/$I$2 -> 0.25
A9: =ROUND(SUM(J9*$F$2),2) -> 0.1 | B9: Kg | C9: geröstet und geschälte Marroni (siehe Rezept "Heisse Marroni selbst gemacht" oder tiefgekühlte Marroni) | I9: 0.1 | J9: =I9/$I$2 -> 0.025
A10: =ROUND(SUM(J10*$F$2),2) -> 0 | C10: Sojasauce nach Bedarf | F10: =SUM(E10*A10) -> 0 | J10: =I10/$I$2 -> 0
A11: =ROUND(SUM(J11*$F$2),2) -> 0 | F11: =SUM(E11*A11) -> 0 | J11: =I11/$I$2 -> 0
A12: =ROUND(SUM(J12*$F$2),2) -> 0 | F12: =SUM(E12*A12) -> 0 | J12: =I12/$I$2 -> 0
A13: =ROUND(SUM(J13*$F$2),2) -> 0 | F13: =SUM(E13*A13) -> 0 | J13: =I13/$I$2 -> 0
A14: =ROUND(SUM(J14*$F$2),2) -> 0 | F14: =SUM(E14*A14) -> 0 | J14: =I14/$I$2 -> 0
A15: =ROUND(SUM(J15*$F$2),2) -> 0 | F15: =SUM(E15*A15) -> 0 | J15: =I15/$I$2 -> 0
A16: =ROUND(SUM(J16*$F$2),2) -> 0 | F16: =SUM(E16*A16) -> 0 | J16: =I16/$I$2 -> 0
A17: =ROUND(SUM(J17*$F$2),2) -> 0 | F17: =SUM(E17*A17) -> 0 | J17: =I17/$I$2 -> 0
A18: =ROUND(SUM(J18*$F$2),2) -> 0 | F18: =SUM(E18*A18) -> 0 | J18: =I18/$I$2 -> 0
A19: =ROUND(SUM(J19*$F$2),2) -> 0 | F19: =SUM(E19*A19) -> 0 | J19: =I19/$I$2 -> 0
A20: =ROUND(SUM(J20*$F$2),2) -> 0 | F20: =SUM(E20*A20) -> 0 | J20: =I20/$I$2 -> 0
A21: Zubereitung
A22: Broccoli samt Stielen in mundgerechte Stücke teilen. In reichlich Wasser al dente kochen. Abgiessen und abtropfen lassen.
A23: Inzwischen von der Zitronenschale Zesten abschneiden und zum Öl in eine Bratpfanne geben. Zitrone auspressen. Etwas Saft zum Öl geben. Knoblauch dazupressen. Peperoncino in feine Ringe/Streifen schneiden. Marroni vierteln. Alles beigeben und kurz dünsten. Gremolata mit Sojasauce abschmecken und auf dem Broccoli anrichten.
A26: Broccoli mit Marroni-Gremolata
A27: Eine Gremolata aus geviertelten Marroni, mit Zitrone, Knoblauch, Peperoncini, Olivenöl und Sojasauce macht aus gekochtem Broccoli eine delikate Beilage.

Sheet Beilage2
E1: Chochete vom | F1: =SUM(Menu!B3) -> 43790 | I1: Original Rezept
A2: =Menu!B11 -> Härdöpfelstock | E2: Rezept für | F2: =SUM(Menu!B19) -> 4 | I2: 4 | J2: Personen
A3: Menge | B3: Einheit | C3: Artikel (Gewicht alles ca. Angaben) | D3: Bemerkungen | E3: Einkaufspreis | F3: Betrag | I3: Originalrezept | J3: pro Person
A4: =ROUND(SUM(J4*$F$2),2) -> 1 | B4: Kg | C4: Mehlig kochende Kartoffeln, geschält, in Würfeln | F4: =SUM(E4*A4) -> 0 | I4: 1 | J4: =I4/$I$2 -> 0.25
A5: =ROUND(SUM(J5*$F$2),2) -> 0 | C5: Milch, Rahm, Butter, Gewürze beigeben und gut verrühren. | F5: =SUM(E5*A5) -> 0 | J5: =I5/$I$2 -> 0
A6: =ROUND(SUM(J6*$F$2),2) -> 0 | C6: Muskat | F6: =SUM(E6*A6) -> 0 | J6: =I6/$I$2 -> 0
A7: =ROUND(SUM(J7*$F$2),2) -> 0 | C7: Salz, Pfeffer, nach Bedarf | F7: =SUM(E7*A7) -> 0 | J7: =I7/$I$2 -> 0
A8: =ROUND(SUM(J8*$F$2),2) -> 0 | F8: =SUM(E8*A8) -> 0 | J8: =I8/$I$2 -> 0
A9: =ROUND(SUM(J9*$F$2),2) -> 0 | F9: =SUM(E9*A9) -> 0 | J9: =I9/$I$2 -> 0
A10: =ROUND(SUM(J10*$F$2),2) -> 0 | F10: =SUM(E10*A10) -> 0 | J10: =I10/$I$2 -> 0
A11: =ROUND(SUM(J11*$F$2),2) -> 0 | F11: =SUM(E11*A11) -> 0 | J11: =I11/$I$2 -> 0
A12: =ROUND(SUM(J12*$F$2),2) -> 0 | F12: =SUM(E12*A12) -> 0 | J12: =I12/$I$2 -> 0
A13: =ROUND(SUM(J13*$F$2),2) -> 0 | F13: =SUM(E13*A13) -> 0 | J13: =I13/$I$2 -> 0
A14: =ROUND(SUM(J14*$F$2),2) -> 0 | F14: =SUM(E14*A14) -> 0 | J14: =I14/$I$2 -> 0
A15: =ROUND(SUM(J15*$F$2),2) -> 0 | F15: =SUM(E15*A15) -> 0 | J15: =I15/$I$2 -> 0
A16: =ROUND(SUM(J16*$F$2),2) -> 0 | F16: =SUM(E16*A16) -> 0 | J16: =I16/$I$2 -> 0
A17: =ROUND(SUM(J17*$F$2),2) -> 0 | F17: =SUM(E17*A17) -> 0 | J17: =I17/$I$2 -> 0
A18: =ROUND(SUM(J18*$F$2),2) -> 0 | F18: =SUM(E18*A18) -> 0 | J18: =I18/$I$2 -> 0
A19: =ROUND(SUM(J19*$F$2),2) -> 0 | F19: =SUM(E19*A19) -> 0 | J19: =I19/$I$2 -> 0
A20: =ROUND(SUM(J20*$F$2),2) -> 0 | F20: =SUM(E20*A20) -> 0 | J20: =I20/$I$2 -> 0
A21: Zubereitung
A22: Darauf kommt es an. Die richtige Kartoffelsorte
A23: Für Kartoffelstock immer mehlig kochende Sorten (z.B. Agria, Bintje oder Lady Felice) wählen. Diese weisen einen hohen Stärkeanteil auf und sind an ihrer blauen Verpackung leicht zu erkennen. Frühkartoffeln und neue Kartoffeln eignen sich nicht, da sie einen zu geringen Stärkegehalt aufweisen.
A25: Kartoffeln offen im Salzwasser bei mittlerer Hitze ca. 20 Minuten weich kochen. Garprobe: Lässt sich ein spitzes Messer ohne spürbaren Widerstand bis in die Mitte der Kartoffeln stechen, sind sie gar.
A27: Restfeuchtigkeit verdampfen
A28: Wasser abgiessen, Restfeuchtigkeit der Kartoffeln unter Hin-und-her-Bewegen der Pfanne auf der ausgeschalteten Platte verdampfen lassen, bis die Kartoffeln weisslich und trocken sind.
A30: Passevite oder Kartoffelstampfer!

Sheet Dessert
E1: Chochete vom | F1: =SUM(Menu!B3) -> 43790 | I1: Original Rezept
A2: =Menu!B13 -> Zabaione mit Vanilleglace | E2: Rezept für | F2: =SUM(Menu!B19) -> 4 | I2: 4 | J2: Personen
A3: Menge | B3: Einheit | C3: Artikel (Gewicht alles ca. Angaben) | D3: Bemerkungen | E3: Einkaufspreis | F3: Betrag | I3: Originalrezept | J3: pro Person
A4: =ROUND(SUM(J4*$F$2),2) -> 2 | B4: Stk | C4: Eier | F4: =SUM(E4*A4) -> 0 | I4: 2 | J4: =I4/$I$2 -> 0.5
A5: =ROUND(SUM(J5*$F$2),2) -> 2.04 | B5: Stk | C5: Eigelb | F5: =SUM(E5*A5) -> 0 | I5: 2.04 | J5: =I5/$I$2 -> 0.51
A6: =ROUND(SUM(J6*$F$2),2) -> 0.04 | B6: Kg | C6: Zucker | F6: =SUM(E6*A6) -> 0 | I6: 0.04 | J6: =I6/$I$2 -> 0.01
A7: =ROUND(SUM(J7*$F$2),2) -> 0.1 | B7: LT | C7: Marsala oder Weisswein | F7: =SUM(E7*A7) -> 0 | I7: 0.1 | J7: =I7/$I$2 -> 0.025
A8: =ROUND(SUM(J8*$F$2),2) -> 0.5 | B8: Stk | C8: Zitrone abgerieben und Saft | F8: =SUM(E8*A8) -> 0 | I8: 0.5 | J8: =I8/$I$2 -> 0.125
A9: =ROUND(SUM(J9*$F$2),2) -> 1 | B9: Prise | C9: Zimtpulver | F9: =SUM(E9*A9) -> 0 | I9: 1 | J9: =I9/$I$2 -> 0.25
A10: =ROUND(SUM(J10*$F$2),2) -> 4 | B10: Kugeln | C10: Vanilleglace | F10: =SUM(E10*A10) -> 0 | I10: 4 | J10: =I10/$I$2 -> 1
A11: Variante nach JP | J11: =I11/$I$2 -> 0
A12: 4 | B12: Stk | C12: Eigelb | F12: =SUM(E12*A12) -> 0 | J12: =I12/$I$2 -> 0
A13: =ROUND(SUM(J13*$F$2),2) -> 0 | C13: wenig Marsala oder Weisswein und wenn nötig nachgiessen | F13: =SUM(E13*A13) -> 0 | J13: =I13/$I$2 -> 0
A14: =ROUND(SUM(J14*$F$2),2) -> 0.03 | B14: Kg | C14: Zucker oder nach Bedarf | F14: =SUM(E14*A14) -> 0 | I14: 0.03 | J14: =I14/$I$2 -> 0.0075
A15: =ROUND(SUM(J15*$F$2),2) -> 0 | C15: Zucker, Eigelbe und Orangen-oder Zitronenzeste (je nach eigenem Gusto) in einer dünnwandigen Schüssel verrühren. Weisswein oder Marsala dazugiessen. Schüssel über das nur leicht siedende Wasserbad hängen, sie darf das Wasser nicht berühren. Mit den Schwingbesen rühren, bis die Zabaione schaumig ist und sich Rührspuren abzeichnen. Schüssel herausnehmen, kurz weiterrühren, sofort servieren | F15: =SUM(E15*A15) -> 0 | J15: =I15/$I$2 -> 0
A16: =ROUND(SUM(J16*$F$2),2) -> 0 | F16: =SUM(E16*A16) -> 0 | J16: =I16/$I$2 -> 0
A17: =ROUND(SUM(J17*$F$2),2) -> 0 | F17: =SUM(E17*A17) -> 0 | J17: =I17/$I$2 -> 0
A18: =ROUND(SUM(J18*$F$2),2) -> 0 | F18: =SUM(E18*A18) -> 0 | J18: =I18/$I$2 -> 0
A19: =ROUND(SUM(J19*$F$2),2) -> 0 | F19: =SUM(E19*A19) -> 0 | J19: =I19/$I$2 -> 0
A20: =ROUND(SUM(J20*$F$2),2) -> 0 | F20: =SUM(E20*A20) -> 0 | J20: =I20/$I$2 -> 0
A21: Zubereitung
A22: Zucker, Eigelb, Eier, beliebigen Wein, abgeriebene Zitrone und Saft sowie eine Prise Zimtpulver in einer Porzellanschüssel oder in einem Kupferkessel im Wasserbad schaumig schlagen, bis die Masse dickflüssig wird.
A24: Eine Kugel Vanilleglace in hohe Gläser geben und mit dem Zabaione übergiessen. Sofort servieren !
A25: Zabaione kann nicht vorbereitet werden, weil die Masse sonst wieder dünn wird.

Sheet Pim's Nr. 1
E1: Chochete vom | F1: =SUM(Menu!B3) -> 43790 | I1: Original Rezept
A2: =Menu!B5 -> Pimm's Nr. 1 | E2: Rezept für | F2: =SUM(Menu!B19) -> 4 | I2: 4 | J2: Personen
A3: Menge | B3: Einheit | C3: Artikel (Gewicht alles ca. Angaben) | D3: Bemerkungen | E3: Einkaufspreis | F3: Betrag | I3: Originalrezept | J3: pro Person
A4: =ROUND(SUM(J4*$F$2),2) -> 0.2 | B4: Lt | C4: Pimm´s No. 1 | F4: =SUM(E4*A4) -> 0 | I4: 0.2 | J4: =I4/$I$2 -> 0.05
A5: =ROUND(SUM(J5*$F$2),2) -> 0.4 | B5: Lt | C5: Ginger Ale | F5: =SUM(E5*A5) -> 0 | I5: 0.4 | J5: =I5/$I$2 -> 0.1
A6: =ROUND(SUM(J6*$F$2),2) -> 1 | B6: Stk | C6: Zitrone gewaschen | F6: =SUM(E6*A6) -> 0 | I6: 1 | J6: =I6/$I$2 -> 0.25
A7: =ROUND(SUM(J7*$F$2),2) -> 0 | F7: =SUM(E7*A7) -> 0 | J7: =I7/$I$2 -> 0
A8: =ROUND(SUM(J8*$F$2),2) -> 1 | B8: Stk | C8: Gurke | F8: =SUM(E8*A8) -> 0 | I8: 1 | J8: =I8/$I$2 -> 0.25
A9: =ROUND(SUM(J9*$F$2),2) -> 0 | C9: Salbei zum Garnieren | F9: =SUM(E9*A9) -> 0 | J9: =I9/$I$2 -> 0
A10: =ROUND(SUM(J10*$F$2),2) -> 0 | C10: Eiswürfel | F10: =SUM(E10*A10) -> 0 | J10: =I10/$I$2 -> 0
A11: =ROUND(SUM(J11*$F$2),2) -> 0 | F11: =SUM(E11*A11) -> 0 | J11: =I11/$I$2 -> 0
A12: =ROUND(SUM(J12*$F$2),2) -> 0 | B12: 4 Longdrinkgläser mit Eiswürfel füllen. (Wer will abwechselnd mit Zitrone, Pfirsich und Gurken) So ist alles gut verteilt. | F12: =SUM(E12*A12) -> 0 | J12: =I12/$I$2 -> 0
A13: =ROUND(SUM(J13*$F$2),2) -> 0 | F13: =SUM(E13*A13) -> 0 | J13: =I13/$I$2 -> 0
A14: =ROUND(SUM(J14*$F$2),2) -> 0 | B14: Zitrone waschen und in Scheiben schneiden. Pfirsiche waschen und in Spalten schneiden. Gurke waschen und in Stifte schneiden. Auf die Gläser aufteilen. | F14: =SUM(E14*A14) -> 0 | J14: =I14/$I$2 -> 0
A15: =ROUND(SUM(J15*$F$2),2) -> 0 | F15: =SUM(E15*A15) -> 0 | J15: =I15/$I$2 -> 0
A16: =ROUND(SUM(J16*$F$2),2) -> 0 | B16: Mit je 50 ml Pimm´s und 100 ml Ginger auffüllen. | J16: =I16/$I$2 -> 0
A17: =ROUND(SUM(J17*$F$2),2) -> 0 | B17: Mit Salbei toppen und genießen. | F17: =SUM(E17*A17) -> 0 | J17: =I17/$I$2 -> 0
A18: =ROUND(SUM(J18*$F$2),2) -> 0 | F18: =SUM(E16*A18) -> 0 | J18: =I18/$I$2 -> 0
A19: =ROUND(SUM(J19*$F$2),2) -> 0 | F19: =SUM(E19*A19) -> 0 | J19: =I19/$I$2 -> 0
A20: =ROUND(SUM(J20*$F$2),2) -> 0 | F20: =SUM(E20*A20) -> 0 | J20: =I20/$I$2 -> 0
A21: Herkunft des Pimm´s Cocktail / Wer war James Pimm?
A22: Namensgeber für den Pimm´s Cocktail war ein gewisser James Pimm. Ein englischer Bauernsohn aus dem 19. Jahrhundert. 1824 reiste er nach London. Er lebte in der Lombard Street. Hier handelte er anfänglich nur mit Austern. In der Nähe des Buckingham Palace eröffnete er folglich das „Pimm´s Oyster Warehouse“. Später dann bekannt als das Restaurant „Pimm´s Oyster Bar“. Dort servierte man die Austerngerichte mit einem Mix Drink auf Gin Basis. Dies war der Vorläufer des heutigen Pimm´s Cocktail No. 1.
A25: Pimm´s Cocktail, was ist drin?
A26: Die Inhaltsstoffe des Pimm´s No. 1 sind nach wie vor ein Geheimnis. Nur 6 Personen, die sogenannten „Secret Six“, kennen die genauen Zutaten. Der in Großbritannien beliebte Pimm´s Cup war ursprünglich als Verdauungshilfe vorgesehen, doch sehr bald wurde der traditionelle und leichte Longdrink (25% Alkoholgehalt) in Großbritannien sehr beliebt.
A28: Der Wimbledon Drink
A29: In der Zwischenzeit ist dieses Getränk auch für die Zuschauer des jährlichen Wimbledon Events nicht mehr wegzudenken wo jeder seinen Pimm´s Cup Plastikbecher schwenkt.
A31: https://www.storiesonaplate.com/pimms-cocktail-pimms-no-1-rezept/

Sheet Einkaufsliste
A1: Hobby-Küche Zug | C1: Einkaufsliste | D1: =Dessert!F1 -> 43790 | E1: ok
A2: Menge | B2: Einheit | C2: Artikel
A3: =Vorspeise!A2 -> Geflügelleberli-Salat mit Äpfeln | D3: Bemerkungen
A4: =SUM(Vorspeise!A4) -> 0.2 | B4: =Vorspeise!B4 -> Kg | C4: =Vorspeise!C4 -> Geflügelleber | D4: =Vorspeise!D4 -> 0
A5: =SUM(Vorspeise!A5) -> 2 | B5: =Vorspeise!B5 -> Stk | C5: =Vorspeise!C5 -> Schalotten fein gehackt | D5: =Vorspeise!D5 -> 0
A6: =SUM(Vorspeise!A6) -> 1 | B6: =Vorspeise!B6 -> Stk | C6: =Vorspeise!C6 -> Knoblauchzehe fein gehackt | D6: =Vorspeise!D6 -> 0
A7: =SUM(Vorspeise!A7) -> 1 | B7: =Vorspeise!B7 -> EL | C7: =Vorspeise!C7 -> Erdnussöl | D7: =Vorspeise!D7 -> 0
A8: =SUM(Vorspeise!A8) -> 0.02 | B8: =Vorspeise!B8 -> Kg | C8: =Vorspeise!C8 -> Kochbutter | D8: =Vorspeise!D8 -> 0
A9: =SUM(Vorspeise!A9) -> 0 | B9: =Vorspeise!B9 -> 0 | C9: =Vorspeise!C9 -> Cognac zum marinieren | D9: Lager
A10: =SUM(Vorspeise!A10) -> 0 | B10: =Vorspeise!B10 -> 0 | C10: =Vorspeise!C10 -> Salz, Pfeffer aus der Mühle | D10: Lager
A11: =SUM(Vorspeise!A11) -> 1 | B11: =Vorspeise!B11 -> Stk | C11: =Vorspeise!C11 -> Äpfel geschält, in Würfeli geschnitten | D11: =Vorspeise!D11 -> 0
A12: =SUM(Vorspeise!A12) -> 0.5 | B12: =Vorspeise!B12 -> Stk | C12: =Vorspeise!C12 -> Zitrone (nur Saft davon) | D12: =Vorspeise!D12 -> 0
A13: =SUM(Vorspeise!A13) -> 0.5 | B13: =Vorspeise!B13 -> Stk | C13: =Vorspeise!C13 -> Chicorino rosso in Streifen geschnitten oder ganz | D13: =Vorspeise!D13 -> 0
A14: =SUM(Vorspeise!A14) -> 0.15 | B14: =Vorspeise!B14 -> Kg | C14: =Vorspeise!C14 -> Nüsslisalat | D14: =Vorspeise!D14 -> 0
A15: =SUM(Vorspeise!A15) -> 1 | B15: =Vorspeise!B15 -> EL | C15: =Vorspeise!C15 -> Baumnüsse, grob gehackt | D15: =Vorspeise!D15 -> 0
A16: =SUM(Vorspeise!A16) -> 0 | B16: =Vorspeise!B16 -> 0 | C16: =Vorspeise!C16 -> geröstete Brotcroutons | D16: =Vorspeise!D16 -> 0
A17: =SUM(Vorspeise!A17) -> 0 | B17: =Vorspeise!B17 -> 0 | C17: =Vorspeise!C17 -> 0 | D17: =Vorspeise!D17 -> 0
A18: =SUM(Vorspeise!A18) -> 3 | B18: =Vorspeise!B18 -> EL | C18: =Vorspeise!C18 -> Sherryessig oder Sherry und etwas Essig | D18: Lager
A19: =SUM(Vorspeise!A19) -> 4 | B19: =Vorspeise!B19 -> EL | C19: =Vorspeise!C19 -> Öl wenn möglich Nussöl | D19: Lager
A20: =SUM(Vorspeise!A20) -> 2 | B20: =Vorspeise!B20 -> cl | C20: =Vorspeise!C20 -> Cognc zum flambieren | D20: Lager
A21: =SUM(Vorspeise!A21) -> 0 | B21: =Vorspeise!B21 -> 0 | C21: =Vorspeise!C21 -> Salz, Pfeffer aus der Mühle | D21: Lager
A22: =SUM(Vorspeise!A22) -> 0 | B22: =Vorspeise!B22 -> 0 | C22: =Vorspeise!C22 -> Worcestersauce | D22: Lager
A23: =SUM(Vorspeise!A23) -> 0.25 | B23: =Vorspeise!B23 -> TL | C23: =Vorspeise!C23 -> Thymian frischer fein gehackt
A24: =SUM(Vorspeise!A24) -> 1 | B24: =Vorspeise!B24 -> Bund | C24: =Vorspeise!C24 -> Schnittlauch fein geschnitten
A25: =Hauptgang!A2 -> Wildschweinssteak
A26: =SUM(Hauptgang!A4) -> 0.6 | B26: =Hauptgang!B4 -> Kg | C26: =Hauptgang!C4 -> Wildschweinsteaks à 150 gr | D26: Ernesto
A27: =SUM(Hauptgang!A5) -> 0 | B27: =Hauptgang!B5 -> 0 | C27: =Hauptgang!C5 -> Gewürz nach belieben. Salz, Pfeffer, Piment (Nelkenpfeffer), Wacholder | D27: Lager
A28: =SUM(Hauptgang!A6) -> 3 | B28: =Hauptgang!B6 -> EL | C28: =Hauptgang!C6 -> Bratbutter oder Öl | D28: Lager
A29: =SUM(Hauptgang!A7) -> 1 | B29: =Hauptgang!B7 -> Zweig | C29: =Hauptgang!C7 -> Thymian | D29: =Hauptgang!D7 -> 0
A30: =SUM(Hauptgang!A8) -> 0 | B30: =Hauptgang!B8 -> 0 | C30: =Hauptgang!C8 -> 0 | D30: =Hauptgang!D8 -> 0
A31: =SUM(Hauptgang!A9) -> 0 | B31: =Hauptgang!B9 -> 0 | C31: =Hauptgang!C9 -> 0 | D31: =Hauptgang!D9 -> 0
A32: =SUM(Hauptgang!A10) -> 0.4 | B32: =Hauptgang!B10 -> Kg | C32: =Hauptgang!C10 -> Mirepoix bestehend aus: | D32: =Hauptgang!D10 -> 0
A33: =SUM(Hauptgang!A11) -> 0 | B33: =Hauptgang!B11 -> 0 | C33: =Hauptgang!C11 -> Rüebli, Knollensellerie, Petersilienwurzeln, Zwiebeln alles zu gleichen Teilen in Würfel schneiden, Lauch und weitere Gemüse
A34: =SUM(Hauptgang!A17) -> 1 | B34: =Hauptgang!B17 -> EL | C34: =Hauptgang!C17 -> Tomatenpürée | D34: =Hauptgang!D12 -> 0
A35: =SUM(Hauptgang!A18) -> 0.15 | B35: =Hauptgang!B18 -> Lt | C35: =Hauptgang!C18 -> Rotwein | D35: =Hauptgang!D13 -> 0
A36: =SUM(Hauptgang!A19) -> 0.15 | B36: =Hauptgang!B19 -> Lt | C36: =Hauptgang!C19 -> Wildfond | D36: =Hauptgang!D14 -> 0
A37: =SUM(Hauptgang!A20) -> 0 | B37: =Hauptgang!B20 -> 0 | C37: =Hauptgang!C20 -> Broccoli mit Marroni-Gremolata | D37: =Hauptgang!D20 -> 0
A38: =Beilage1!A2 -> Broccoli mit Marroni-Gremolata
A39: =Beilage1!A4 -> 0.5 | B39: =Beilage1!B4 -> Kg | C39: =Beilage1!C4 -> Broccoli | D39: =Beilage1!D4 -> 0
A40: =Beilage1!A5 -> 1 | B40: =Beilage1!B5 -> Stk | C40: =Beilage1!C5 -> Zitrone | D40: =Beilage1!D5 -> 0
...
