Workbook

Sheet Menu
B1: Zu beachten bei diesen Rezeptangaben in den Hauptgängen, dass es jeweils pro Gang für 5 Personen ist. Gruss Jean-Pierre
A3: Datum | B3: 42299 | D3: Menu Angaben wie folgt machen: | H3: Kg | I3: 0.25
H4: LT | I4: 1.25
A5: Vorspeise | B5: Gartensalat mit Kräutern und Blüten | D5: alle weiteren Angaben weitere ausschreiben | H5: EL | I5: Esslöffel
H6: TL | I6: Kaffeelöffel
A7: Hauptgang 1 | B7: Ofenkürbis mit Rosmarin | H7: Bund | I7: 1
H8: Stk | I8: Stück
A9: Hauptgang 2 | B9: Zuccinischnitzel mit Sesammantel | H9: Pä | I9: Päckli
A10: Hauptgang 3 | B10: Auberginen Cordon-bleu
A11: Hauptgang 4 | B11: Austernpilze in Mandelpaste
A13: Beilage 1 | B13: Feurige Tomatensauce und Blaue Kartoffeln
A15: Dessert | B15: Minzcrème mit Mandelkrokant
A16: Dessert | B16: Amaretti mit Rosenwasser
A17: Menu von Tisch | B17: D
A19: Personenzahl | B19: 5

Sheet Vorspeise
E1: Chochete vom | F1: =SUM(Menu!B3) -> 42299 | I1: Original Rezept
A2: =Menu!B5 -> Gartensalat mit Kräutern und Blüten | E2: Rezept für | F2: =Menu!B19 -> 5 | I2: 5 | J2: Personen | L2: Menu Angaben wie folgt machen:
A3: Menge | B3: Einheit | C3: Artikel (Gewicht alles ca. Angaben) | D3: Bemerkungen | E3: Einkaufspreis | F3: Betrag | I3: Originalrezept | J3: pro Person
A4: =ROUND(SUM(J4*$F$2),2) -> 0.1 | B4: Kg | C4: Blattsalate | F4: =SUM(E4*A4) -> 0 | I4: 0.1 | J4: =I4/$I$2 -> 0.02 | L4: Kg | M4: 0.25
A5: =ROUND(SUM(J5*$F$2),2) -> 0.1 | B5: Kg | C5: Ruccola | F5: =SUM(E5*A5) -> 0 | I5: 0.1 | J5: =I5/$I$2 -> 0.02 | L5: LT | M5: 1.25
A6: =ROUND(SUM(J6*$F$2),2) -> 0.3 | B6: Kg | C6: Tomaten | F6: =SUM(E6*A6) -> 0 | I6: 0.3 | J6: =I6/$I$2 -> 0.06 | L6: EL | M6: Esslöffel
A7: =ROUND(SUM(J7*$F$2),2) -> 0.3 | B7: Kg | C7: Gurken | F7: =SUM(E7*A7) -> 0 | I7: 0.3 | J7: =I7/$I$2 -> 0.06 | L7: TL | M7: Kaffeelöffel
A8: =ROUND(SUM(J8*$F$2),2) -> 0.1 | B8: Kg | C8: Radischen | F8: =SUM(E8*A8) -> 0 | I8: 0.1 | J8: =I8/$I$2 -> 0.02 | L8: Bund | M8: 1
A9: =ROUND(SUM(J9*$F$2),2) -> 0.1 | B9: Kg | C9: Fenchel | F9: =SUM(E9*A9) -> 0 | I9: 0.1 | J9: =I9/$I$2 -> 0.02 | L9: Stk | M9: Stück
A10: =ROUND(SUM(J10*$F$2),2) -> 0.2 | B10: Lt | C10: Olivenöl | F10: =SUM(E10*A10) -> 0 | I10: 0.2 | J10: =I10/$I$2 -> 0.04 | L10: Pä | M10: Päckli
A11: =ROUND(SUM(J11*$F$2),2) -> 0.05 | B11: Lt | C11: Weissweinessig | F11: =SUM(E11*A11) -> 0 | I11: 0.05 | J11: =I11/$I$2 -> 0.01 | L11: alles weitere ausschreiben
A12: =ROUND(SUM(J12*$F$2),2) -> 1 | B12: TL | C12: Senf | F12: =SUM(E12*A12) -> 0 | I12: 1 | J12: =I12/$I$2 -> 0.2
A13: =ROUND(SUM(J13*$F$2),2) -> 1 | B13: TL | C13: Akazienhonig | F13: =SUM(E13*A13) -> 0 | I13: 1 | J13: =I13/$I$2 -> 0.2
A14: =ROUND(SUM(J14*$F$2),2) -> 0.5 | B14: Bund | C14: Petersilie | F14: =SUM(E14*A14) -> 0 | I14: 0.5 | J14: =I14/$I$2 -> 0.1
A15: =ROUND(SUM(J15*$F$2),2) -> 0.5 | B15: Bund | C15: Schnittlauch | F15: =SUM(E15*A15) -> 0 | I15: 0.5 | J15: =I15/$I$2 -> 0.1
A16: =ROUND(SUM(J16*$F$2),2) -> 0.5 | B16: Bund | C16: Dill | F16: =SUM(E16*A16) -> 0 | I16: 0.5 | J16: =I16/$I$2 -> 0.1
A17: =ROUND(SUM(J17*$F$2),2) -> 1 | B17: Portion | C17: Blüten (zB Gänseblümchen, Kapuziener Kresse…) | F17: =SUM(E17*A17) -> 0 | I17: 1 | J17: =I17/$I$2 -> 0.2
A18: =ROUND(SUM(J18*$F$2),2) -> 0 | F18: =SUM(E18*A18) -> 0 | J18: =I18/$I$2 -> 0
A19: =ROUND(SUM(J19*$F$2),2) -> 1 | B19: TL | C19: Kräutersalz | F19: =SUM(E19*A19) -> 0 | I19: 1 | J19: =I19/$I$2 -> 0.2
A20: =ROUND(SUM(J20*$F$2),2) -> 0.5 | B20: TL | C20: frisch gemahlener Pfeffer | F20: =SUM(E20*A20) -> 0 | I20: 0.5 | J20: =I20/$I$2 -> 0.1
A21: Zubereitung | C21: ca. 30 Minuten
A22: 1. Salat waschen und die Blätter klein zupfen. Gemüse waschen, putzen und klein schneiden.
A23: 2. Für die Vinaigrette öl, Essig, Salz, Pfeffer, Senf und Honig in einer kleinen Schüssel miteinander verrühren. Kräuter waschen, fein hacken und mit der Vinaigrette verrühren. (Kräuter "a la Minute" fein hacken)
A25: 3. Salat und Gemüse portionsweise auf Tellern anrichten und je 4 EL Vinaigrette darübergeben. Die Blüten auf dem Salat verteilen.
A26: Informationen: Die Kräuter in der Vinaigrette werden nach ein paar Tagen grau und verlieren ihren frischen Geschmack. Darum immer nur so viel Vinaigrette mit Kräutern vermengen, wie für den sofortigen Verzehr benötigt wird. Die Basis-Vinaigrette können Sie im Kühlschrank mindestens einen Monat lagern. Zu den essbaren Blüten gehören: Stockrosen, Schnittlauchblüten, Dillblüten, Gänseblümchen, Borretschblüten, Kapuzinerkresse, Ringelblumen, Chrysanthemen, Korianderblüten, Rosen, Nelken, Fenchelblüten. Achten Sie darauf, dass die Blüten geschmacklich gut auf die restlichen Zutaten abgestimmt sind.

Sheet Hauptgang 1
E1: Chochete vom | F1: =SUM(Menu!B3) -> 42299 | I1: Original Rezept
A2: =Menu!B7 -> Ofenkürbis mit Rosmarin | E2: Rezept für | F2: =SUM(Menu!B19) -> 5 | I2: 8 | J2: Personen | L2: Menu Angaben wie folgt machen:
A3: Menge | B3: Einheit | C3: Artikel (Gewicht alles ca. Angaben) | D3: Bemerkungen | E3: Einkaufspreis | F3: Betrag | I3: Originalrezept | J3: pro Person
A4: =ROUND(SUM(J4*$F$2),2) -> 1 | B4: Kg | C4: kleiner Oranger Knirps geputzt gewogen); Hokkaido Kürbis | F4: =SUM(E4*A4) -> 0 | I4: 1.6 | J4: =I4/$I$2 -> 0.2 | L4: Kg | M4: 0.25
A5: =ROUND(SUM(J5*$F$2),2) -> 1.25 | B5: Zweige | C5: Rosmarin | F5: =SUM(E5*A5) -> 0 | I5: 2 | J5: =I5/$I$2 -> 0.25 | L5: LT | M5: 1.25
A6: 4 | B6: St | C6: Knoblauchzehen | F6: =SUM(E6*A6) -> 0 | I6: 6 | J6: =I6/$I$2 -> 0.75 | L6: EL | M6: Esslöffel
A7: =ROUND(SUM(J7*$F$2),2) -> 1.25 | B7: EL | C7: Birnell dicksaft | F7: =SUM(E7*A7) -> 0 | I7: 2 | J7: =I7/$I$2 -> 0.25 | L7: TL | M7: Kaffeelöffel
A8: =ROUND(SUM(J8*$F$2),2) -> 1.25 | B8: EL | C8: Olivenöl | F8: =SUM(E8*A8) -> 0 | I8: 2 | J8: =I8/$I$2 -> 0.25 | L8: Bund | M8: 1
A9: =ROUND(SUM(J9*$F$2),2) -> 0 | F9: =SUM(E9*A9) -> 0 | J9: =I9/$I$2 -> 0 | L9: Stk | M9: Stück
A10: =ROUND(SUM(J10*$F$2),2) -> 0 | C10: Salz, Pfeffer aus | F10: =SUM(E10*A10) -> 0 | J10: =I10/$I$2 -> 0 | L10: Pä | M10: Päckli
A11: =ROUND(SUM(J11*$F$2),2) -> 0 | C11: der Mühle | F11: =SUM(E11*A11) -> 0 | J11: =I11/$I$2 -> 0 | L11: alles weitere ausschreiben
A12: =ROUND(SUM(J12*$F$2),2) -> 0 | F12: =SUM(E12*A12) -> 0 | J12: =I12/$I$2 -> 0
A13: =ROUND(SUM(J13*$F$2),2) -> 0 | C13: kann als Beilage serviert werden | F13: =SUM(E13*A13) -> 0 | J13: =I13/$I$2 -> 0
A14: =ROUND(SUM(J14*$F$2),2) -> 0 | F14: =SUM(E14*A14) -> 0 | J14: =I14/$I$2 -> 0
A15: =ROUND(SUM(J15*$F$2),2) -> 0 | F15: =SUM(E15*A15) -> 0 | J15: =I15/$I$2 -> 0
A16: =ROUND(SUM(J16*$F$2),2) -> 0 | F16: =SUM(E16*A16) -> 0 | J16: =I16/$I$2 -> 0
A17: =ROUND(SUM(J17*$F$2),2) -> 0 | F17: =SUM(E17*A17) -> 0 | J17: =I17/$I$2 -> 0
A18: =ROUND(SUM(J18*$F$2),2) -> 0 | F18: =SUM(E18*A18) -> 0 | J18: =I18/$I$2 -> 0
A19: =ROUND(SUM(J19*$F$2),2) -> 0 | F19: =SUM(E19*A19) -> 0 | J19: =I19/$I$2 -> 0
A20: =ROUND(SUM(J20*$F$2),2) -> 0 | F20: =SUM(E20*A20) -> 0 | J20: =I20/$I$2 -> 0
A21: Zubereitung
A22: Den Backofen auf 180 Grad vorheizen. / Zubereitungszeit 35 Minuten inkl. Backzeit
A23: Den Kürbis waschen, vierteln, entkernen und mit der Schale in ungefähr 2 cm breite Schnitze schneiden.
A24: Die Rosmarinnadeln abzupfen. Den Knoblauch schälen und in feine Scheibchen schneiden.
A25: Die Kürbisspalten mit den Rosmarinnadeln, dem Knoblauch, Birnendicksaft und Olivenöl in einer Schüssel mischen. Alles kräftig mit Salz und Pfeffer würzen und auf einem mit Backpapier belegten Blech verteilen.
A27: Den Kürbis in der Mitte des vorgeheizten Ofens etwa 15 Minuten backen.
A28: Tipp
A29: Anstatt dem Orangen Knirps können auch andere aromatische Kürbissorten wie zum Beispiel der Butternusskürbis verwendet werden. Aufgrund der dünnen Schale muss auch dieser nicht geschält werden

Sheet Hauptgang 2
E1: Chochete vom | F1: =SUM(Menu!B3) -> 42299 | I1: Original Rezept
A2: =Menu!B9 -> Zuccinischnitzel mit Sesammantel | E2: Rezept für | F2: =Menu!B19 -> 5 | I2: 5 | J2: Personen | L2: Menu Angaben wie folgt machen:
A3: Menge | B3: Einheit | C3: Artikel (Gewicht alles ca. Angaben) | D3: Bemerkungen | E3: Einkaufspreis | F3: Betrag | I3: Originalrezept | J3: pro Person
A4: =ROUND(SUM(J4*$F$2),2) -> 2 | B4: Stk. | C4: Zucchini gross | F4: =SUM(E4*A4) -> 0 | I4: 2 | J4: =I4/$I$2 -> 0.4 | L4: Kg | M4: 0.25
A5: =ROUND(SUM(J5*$F$2),2) -> 0.04 | B5: Kg | C5: Sesamsamen | F5: =SUM(E5*A5) -> 0 | I5: 0.04 | J5: =I5/$I$2 -> 0.008 | L5: LT | M5: 1.25
A6: =ROUND(SUM(J6*$F$2),2) -> 0.08 | B6: Kg | C6: Paniermehl | F6: =SUM(E6*A6) -> 0 | I6: 0.08 | J6: =I6/$I$2 -> 0.016 | L6: EL | M6: Esslöffel
A7: =ROUND(SUM(J7*$F$2),2) -> 7 | B7: EL | C7: Drinkmilch | F7: =SUM(E7*A7) -> 0 | I7: 7 | J7: =I7/$I$2 -> 1.4 | L7: TL | M7: Kaffeelöffel
A8: =ROUND(SUM(J8*$F$2),2) -> 2.5 | B8: EL | C8: Maisstärke | F8: =SUM(E8*A8) -> 0 | I8: 2.5 | J8: =I8/$I$2 -> 0.5 | L8: Bund | M8: 1
A9: =ROUND(SUM(J9*$F$2),2) -> 0 | C9: Pfeffer aus der Mühle | F9: =SUM(E9*A9) -> 0 | J9: =I9/$I$2 -> 0 | L9: Stk | M9: Stück
A10: =ROUND(SUM(J10*$F$2),2) -> 0.08 | B10: Kg | C10: Weizenmehl | F10: =SUM(E10*A10) -> 0 | I10: 0.08 | J10: =I10/$I$2 -> 0.016 | L10: Pä | M10: Päckli
A11: =ROUND(SUM(J11*$F$2),2) -> 8 | B11: EL | C11: Pflanzenöl | F11: =SUM(E11*A11) -> 0 | I11: 8 | J11: =I11/$I$2 -> 1.6 | L11: alles weitere ausschreiben
A12: =ROUND(SUM(J12*$F$2),2) -> 1 | B12: Stk. | C12: Zitrone unbehandelt | F12: =SUM(E12*A12) -> 0 | I12: 1 | J12: =I12/$I$2 -> 0.2
A13: =ROUND(SUM(J13*$F$2),2) -> 0 | F13: =SUM(E13*A13) -> 0 | J13: =I13/$I$2 -> 0
A14: =ROUND(SUM(J14*$F$2),2) -> 0 | F14: =SUM(E14*A14) -> 0 | J14: =I14/$I$2 -> 0
A15: =ROUND(SUM(J15*$F$2),2) -> 0 | F15: =SUM(E15*A15) -> 0 | J15: =I15/$I$2 -> 0
A16: =ROUND(SUM(J16*$F$2),2) -> 0 | F16: =SUM(E16*A16) -> 0 | J16: =I16/$I$2 -> 0
A17: =ROUND(SUM(J17*$F$2),2) -> 0 | F17: =SUM(E17*A17) -> 0 | J17: =I17/$I$2 -> 0
A18: =ROUND(SUM(J18*$F$2),2) -> 0 | F18: =SUM(E18*A18) -> 0 | J18: =I18/$I$2 -> 0
A19: =ROUND(SUM(J19*$F$2),2) -> 0 | F19: =SUM(E19*A19) -> 0 | J19: =I19/$I$2 -> 0
A20: =ROUND(SUM(J20*$F$2),2) -> 0 | F20: =SUM(E20*A20) -> 0 | J20: =I20/$I$2 -> 0
A21: Zubereitung
A22: Den Backofen auf 60 Grad vorheizen. / Zubereitungszeit: 40Minuten
A23: Die Sesamsamen in einer kleinen Bratpfanne trocken anrösten. Dann mit dem Paniermehl in einem tiefen Teller mischen. 2 weitere tiefe Teller bereitstellen: in einem den Drinkmilch mit der Maisstärke verrühren und kräftig mit Salz und Pfeffer würzen. In den anderen Teller das Mehl geben. Die abgetupften Zucchinischeiben zuerst im Mehl wenden, dann sorgfältig durch die Sojadrink-Maisstärke Mischung ziehen und zum Schluss mehrmals im Sesam-Paniermehl wenden. Dabei darauf achten, dass die Zucchinischeiben vollständig von der jeweiligen Zutat überzogen sind, eventuell ein weiteres Mal durch die Drinkmilch-Maisstärke-Mischung ziehen und im Paniermehl wenden. Die Panade mit den Fingern andrücken.
A27: Die Hälfte des Öls in einer Pfanne erhitzen und die Zucchini-Schnitzel sofort nach dem Panieren portionsweise von beiden Seiten goldgelb braten - Achtung. Das Öl darf nicht zu heiß werden, da sonst die Sesamsamen leicht verbrennen!
A29: Die fertigen Schnitzel nebeneinander auf ein mit Backpapier belegtes Blech legen und in der Mitte des vorgeheizten Backofens warm halten. Nach der Hälfte der Schnitzel das übrige Öl in der Pfanne erhitzen und die restlichen Schnitzel braten.
A31: Die Zitrone in Schnitze schneiden und die Zucchini Schnitzel mit je 1 Zitronenschnitz garnieren. Sie schmecken lauwarm oder kalt.
A32: Tipp: Beim Warmhalten im Ofen darauf achten, dass die Zucchini Schnitzel nicht aufeinander liegen, da sie sonst weich werden. Für mehr Abwechslung Haferflocken oder Weizenkeime unter das Paniermehl mischen.

Sheet Haupgang 3
E1: Chochete vom | F1: =SUM(Menu!B3) -> 42299 | I1: Original Rezept
A2: =Menu!B10 -> Auberginen Cordon-bleu | E2: Rezept für | F2: =SUM(Menu!B19) -> 5 | I2: 5 | J2: Personen | L2: Menu Angaben wie folgt machen:
A3: Menge | B3: Einheit | C3: Artikel (Gewicht alles ca. Angaben) | D3: Bemerkungen | E3: Einkaufspreis | F3: Betrag | I3: Originalrezept | J3: pro Person
A4: =ROUND(SUM(J4*$F$2),2) -> 2 | B4: Stk. | C4: mittelgroße Auberginen | F4: =SUM(E4*A4) -> 0 | I4: 2 | J4: =I4/$I$2 -> 0.4 | L4: Kg | M4: 0.25
A5: =ROUND(SUM(J5*$F$2),2) -> 0 | B5: Prise | C5: Salz, Pfeffer aus der Mühle | F5: =SUM(E5*A5) -> 0 | J5: =I5/$I$2 -> 0 | L5: LT | M5: 1.25
A6: =ROUND(SUM(J6*$F$2),2) -> 0.3 | B6: Kg | C6: Gruyere Käse Scheiben | F6: =SUM(E6*A6) -> 0 | I6: 0.3 | J6: =I6/$I$2 -> 0.06 | L6: EL | M6: Esslöffel
A7: =ROUND(SUM(J7*$F$2),2) -> 2 | B7: Stk. | C7: Tomaten | F7: =SUM(E7*A7) -> 0 | I7: 2 | J7: =I7/$I$2 -> 0.4 | L7: TL | M7: Kaffeelöffel
A8: =ROUND(SUM(J8*$F$2),2) -> 1 | B8: Zweige | C8: Frischen Thymian | F8: =SUM(E8*A8) -> 0 | I8: 1 | J8: =I8/$I$2 -> 0.2 | L8: Bund | M8: 1
A9: =ROUND(SUM(J9*$F$2),2) -> 1 | B9: Bund | C9: Basilikum | F9: =SUM(E9*A9) -> 0 | I9: 1 | J9: =I9/$I$2 -> 0.2 | L9: Stk | M9: Stück
A10: =ROUND(SUM(J10*$F$2),2) -> 2 | B10: EL | C10: Maisstärke | F10: =SUM(E10*A10) -> 0 | I10: 2 | J10: =I10/$I$2 -> 0.4 | L10: Pä | M10: Päckli
A11: =ROUND(SUM(J11*$F$2),2) -> 0.15 | B11: Kg | C11: Paniermehl | F11: =SUM(E11*A11) -> 0 | I11: 0.15 | J11: =I11/$I$2 -> 0.03 | L11: alles weitere ausschreiben
A12: =ROUND(SUM(J12*$F$2),2) -> 2 | B12: EL | C12: Pflanzenöl | F12: =SUM(E12*A12) -> 0 | I12: 2 | J12: =I12/$I$2 -> 0.4
A13: =ROUND(SUM(J13*$F$2),2) -> 0 | F13: =SUM(E13*A13) -> 0 | J13: =I13/$I$2 -> 0
A14: =ROUND(SUM(J14*$F$2),2) -> 0 | F14: =SUM(E14*A14) -> 0 | J14: =I14/$I$2 -> 0
A15: =ROUND(SUM(J15*$F$2),2) -> 0 | F15: =SUM(E15*A15) -> 0 | J15: =I15/$I$2 -> 0
A16: =ROUND(SUM(J16*$F$2),2) -> 0 | F16: =SUM(E16*A16) -> 0 | J16: =I16/$I$2 -> 0
A17: =ROUND(SUM(J17*$F$2),2) -> 0 | F17: =SUM(E17*A17) -> 0 | J17: =I17/$I$2 -> 0
A18: =ROUND(SUM(J18*$F$2),2) -> 0 | F18: =SUM(E18*A18) -> 0 | J18: =I18/$I$2 -> 0
A19: =ROUND(SUM(J19*$F$2),2) -> 0 | F19: =SUM(E19*A19) -> 0 | J19: =I19/$I$2 -> 0
A20: =ROUND(SUM(J20*$F$2),2) -> 0 | F20: =SUM(E20*A20) -> 0 | J20: =I20/$I$2 -> 0
A21: Zubereitung
A22: Zubereitungszeit: 40Minuten (inkl. Backzeit)
A23: Die Auberginen waschen, putzen, quer halbieren und dann längs in 1 cm dünne Scheiben schneiden. Dabei jeweils 2 von der Größe her zusammenpassende Scheiben bereitlegen. Die Scheiben auf einem Brett auslegen. Mit Salz und Pfeffer gut würzen.
A25: Den Käse in 2 mm dicke Scheiben schneiden und auf der einen Hälfte der Auberginen verteilen. Die Tomaten waschen, vom Stielansatz befreien, halbieren, in 3 mm dicke Scheiben schneiden und auf dem Käse verteilen. Die Thymianblättchen abzupfen und Basilikum Blatt auf den Tomatenscheiben verteilen. Mit den unbelegten Auberginenscheiben abdecken.
A27: Die Maisstärke mit 4-5 EL Wasser gut verrühren, das Paniermehl in einen tiefen Teller geben. Die vorbereiteten Auberginen-Cordon-Bleus zuerst in der Maisstärkemischung vorsichtig wenden, danach im Paniermehl wenden und dieses andrücken. Bei Bedarf mit einem Zahnstocher fixieren.
A29: Reichlich Öl in einer Bratpfanne erhitzen und die Auberginen darin beidseitig kurz goldbraun braten.
A30: Auf ein mit Backpapier belegtes Blech geben und im vorgeheizten Ofen bei 180 Grad 7-12 Minuten fertig backen.
A31: Das Cordon bleu auf einem Tomatencoulis oder mit veganer Kräuterbutter servieren. Cordon bleu kann sehr gut vorbereitet und vorgebraten werden; vor dem Servieren im Ofen fertig backen.

Sheet Haupgang 4
E1: Chochete vom | F1: =SUM(Menu!B3) -> 42299 | I1: Original Rezept
A2: =Menu!B11 -> Austernpilze in Mandelpaste | E2: Rezept für | F2: =SUM(Menu!B19) -> 5 | I2: 5 | J2: Personen | L2: Menu Angaben wie folgt machen:
A3: Menge | B3: Einheit | C3: Artikel (Gewicht alles ca. Angaben) | D3: Bemerkungen | E3: Einkaufspreis | F3: Betrag | I3: Originalrezept | J3: pro Person
A4: =ROUND(SUM(J4*$F$2),2) -> 0.1 | B4: Kg | C4: Vollkorn-Weizenmehl oder Weissmehl | F4: =SUM(E4*A4) -> 0 | I4: 0.1 | J4: =I4/$I$2 -> 0.02 | L4: Kg | M4: 0.25
A5: =ROUND(SUM(J5*$F$2),2) -> 4 | B5: Stk | C5: Eier | F5: =SUM(E5*A5) -> 0 | I5: 4 | J5: =I5/$I$2 -> 0.8 | L5: LT | M5: 1.25
A6: =ROUND(SUM(J6*$F$2),2) -> 0 | B6: Prise | C6: Salz | F6: =SUM(E6*A6) -> 0 | J6: =I6/$I$2 -> 0 | L6: EL | M6: Esslöffel
A7: =ROUND(SUM(J7*$F$2),2) -> 0 | B7: Prise | C7: frisch gemahlener schwarzer Pfeffer | F7: =SUM(E7*A7) -> 0 | J7: =I7/$I$2 -> 0 | L7: TL | M7: Kaffeelöffel
A8: =ROUND(SUM(J8*$F$2),2) -> 0.1 | B8: Kg | C8: Mandelblättchen | F8: =SUM(E8*A8) -> 0 | I8: 0.1 | J8: =I8/$I$2 -> 0.02 | L8: Bund | M8: 1
A9: =ROUND(SUM(J9*$F$2),2) -> 0.1 | B9: Kg | C9: Semmelbrösel | F9: =SUM(E9*A9) -> 0 | I9: 0.1 | J9: =I9/$I$2 -> 0.02 | L9: Stk | M9: Stück
A10: =ROUND(SUM(J10*$F$2),2) -> 0.4 | B10: Kg | C10: Austernpilze | F10: =SUM(E10*A10) -> 0 | I10: 0.4 | J10: =I10/$I$2 -> 0.08 | L10: Pä | M10: Päckli
A11: =ROUND(SUM(J11*$F$2),2) -> 0.08 | B11: Kg | C11: Butter | F11: =SUM(E11*A11) -> 0 | I11: 0.08 | J11: =I11/$I$2 -> 0.016 | L11: alles weitere ausschreiben
A12: =ROUND(SUM(J12*$F$2),2) -> 0.08 | B12: LT | C12: Olivenöl | F12: =SUM(E12*A12) -> 0 | I12: 0.08 | J12: =I12/$I$2 -> 0.016
A13: =ROUND(SUM(J13*$F$2),2) -> 0 | F13: =SUM(E13*A13) -> 0 | J13: =I13/$I$2 -> 0
A14: =ROUND(SUM(J14*$F$2),2) -> 0 | F14: =SUM(E14*A14) -> 0 | J14: =I14/$I$2 -> 0
A15: =ROUND(SUM(J15*$F$2),2) -> 0 | F15: =SUM(E15*A15) -> 0 | J15: =I15/$I$2 -> 0
A16: =ROUND(SUM(J16*$F$2),2) -> 0 | F16: =SUM(E16*A16) -> 0 | J16: =I16/$I$2 -> 0
A17: =ROUND(SUM(J17*$F$2),2) -> 0 | F17: =SUM(E17*A17) -> 0 | J17: =I17/$I$2 -> 0
A18: =ROUND(SUM(J18*$F$2),2) -> 0 | F18: =SUM(E18*A18) -> 0 | J18: =I18/$I$2 -> 0
A19: =ROUND(SUM(J19*$F$2),2) -> 0 | F19: =SUM(E19*A19) -> 0 | J19: =I19/$I$2 -> 0
A20: =ROUND(SUM(J20*$F$2),2) -> 0 | F20: =SUM(E20*A20) -> 0 | J20: =I20/$I$2 -> 0
A21: Zubereitung
A22: Mehl in einen tiefen Teller geben. Eier in einem weiteren tiefen Teller gründlich verquirlen und mit Salz und Pfeffer kräftig würzen.
A23: Mandelblättchen und Semmelbrösel in einem dritten tiefen Teller miteinander vermengen.
A24: Austernpilze putzen, aber nicht waschen und von beiden Seiten zuerst in Mehl, dann in der Eiermasse und zum Schluss in der Mandel-Semmelbrösel-Panade wenden.
A25: Butter und Olivenöl in eine Pfanne geben und die panierten Austernpilze bei mittlerer Hitze von beiden Seiten goldbraun braten.
A28: Tipp
A29: Am besten funktioniert das Panieren; wenn Sie zuerst alle Austernpilze in Mehl, dann im Ei und zuletzt in der Mandel-Semmelbrösel Panade wenden. Geben Sie nicht die ganze Mandel-Semmelbrösel-Panade auf einmal in den Teller, sondern immer nur eine kleine Menge für 2-3 Pilze.
A31: Andernfalls verklebt die Eiermasse die Panade zu sehr und es wird schwierig, diese Klumpen weiter zum Panieren zu verwenden.

Sheet Beilage 1
E1: Chochete vom | F1: =SUM(Menu!B3) -> 42299 | I1: Original Rezept
A2: =Menu!B13 -> Feurige Tomatensauce und Blaue Kartoffeln | E2: Rezept für | F2: =SUM(Menu!B19) -> 5 | I2: 5 | J2: Personen | L2: Menu Angaben wie folgt machen:
A3: Menge | B3: Einheit | C3: Artikel (Gewicht alles ca. Angaben) | D3: Bemerkungen | E3: Einkaufspreis | F3: Betrag | I3: Originalrezept | J3: pro Person
A4: Feurige Tomatensauce und Blaue Kartoffeln | J4: =I4/$I$2 -> 0 | L4: Kg | M4: 0.25
A5: =ROUND(SUM(J5*$F$2),2) -> 0.08 | B5: Kg | C5: Zwiebeln | F5: =SUM(E5*A5) -> 0 | I5: 0.08 | J5: =I5/$I$2 -> 0.016 | L5: LT | M5: 1.25
A6: =ROUND(SUM(J6*$F$2),2) -> 2 | B6: Zehe | C6: Knoblauch | F6: =SUM(E6*A6) -> 0 | I6: 2 | J6: =I6/$I$2 -> 0.4 | L6: EL | M6: Esslöffel
A7: =ROUND(SUM(J7*$F$2),2) -> 0.1 | B7: LT | C7: Olivenöl | F7: =SUM(E7*A7) -> 0 | I7: 0.1 | J7: =I7/$I$2 -> 0.02 | L7: KL | M7: Kaffeelöffel
A8: =ROUND(SUM(J8*$F$2),2) -> 0.4 | B8: Kg | C8: frische Tomaten oder stückige Tomaten aus der Dose | F8: =SUM(E8*A8) -> 0 | I8: 0.4 | J8: =I8/$I$2 -> 0.08 | L8: Bund | M8: 1
A9: =ROUND(SUM(J9*$F$2),2) -> 1 | B9: TL | C9: Salz / Kräutersalz rassig | F9: =SUM(E9*A9) -> 0 | I9: 1 | J9: =I9/$I$2 -> 0.2 | L9: Stk | M9: Stück
A10: =ROUND(SUM(J10*$F$2),2) -> 2 | B10: Msp. | C10: frisch gemahlener schwarzer Pfeffer oder Chilipulver | F10: =SUM(E10*A10) -> 0 | I10: 2 | J10: =I10/$I$2 -> 0.4 | L10: Pä | M10: Päckli
A11: =ROUND(SUM(J11*$F$2),2) -> 1 | B11: Stk. | C11: Lorbeerblatt | F11: =SUM(E11*A11) -> 0 | I11: 1 | J11: =I11/$I$2 -> 0.2 | L11: alles weitere ausschreiben
A12: =ROUND(SUM(J12*$F$2),2) -> 1 | B12: Bund | C12: Kräuter Bund gemischt (Basilikum, Thymian, Majoran, Oregano etc.) | F12: =SUM(E12*A12) -> 0 | I12: 1 | J12: =I12/$I$2 -> 0.2
A13: Blaue Kartoffeln | J13: =I13/$I$2 -> 0
A14: =ROUND(SUM(J14*$F$2),2) -> 0.6 | B14: Kg | C14: Blaue Kartoffeln | F14: =SUM(E14*A14) -> 0 | I14: 0.6 | J14: =I14/$I$2 -> 0.12
A15: =ROUND(SUM(J15*$F$2),2) -> 0 | C15: Salz | F15: =SUM(E15*A15) -> 0 | J15: =I15/$I$2 -> 0
A16: =ROUND(SUM(J16*$F$2),2) -> 0 | F16: =SUM(E16*A16) -> 0 | J16: =I16/$I$2 -> 0
A17: =ROUND(SUM(J17*$F$2),2) -> 0 | F17: =SUM(E17*A17) -> 0 | J17: =I17/$I$2 -> 0
A18: =ROUND(SUM(J18*$F$2),2) -> 0 | F18: =SUM(E18*A18) -> 0 | J18: =I18/$I$2 -> 0
A19: =ROUND(SUM(J19*$F$2),2) -> 0 | F19: =SUM(E19*A19) -> 0 | J19: =I19/$I$2 -> 0
A20: =ROUND(SUM(J20*$F$2),2) -> 0 | F20: =SUM(E20*A20) -> 0 | J20: =I20/$I$2 -> 0
A21: Zubereitung
A22: Zwiebeln schälen und fein würfeln. In Olivenöl in einem Topf glasig dünsten. Frische Tomaten waschen und würfeln. Frische Tomaten oder Dosentomaten mit Salz, Pfeffer oder Chilipulver und Lorbeerblatt zu den Zwiebeln geben.
A24: Bei geringer Hitze 2 Minuten köcheln. Dann mit frischen Kräutern abschmecken.
A26: Kartoffeln schälen und im Salzwasser oder Steamer dämpfen

Sheet  Dessert 1
E1: Chochete vom | F1: =SUM(Menu!B3) -> 42299 | I1: Original Rezept
A2: =Menu!B15 -> Minzcrème mit Mandelkrokant | E2: Rezept für | F2: =SUM(Menu!B19) -> 5 | I2: 5 | J2: Personen | L2: Menu Angaben wie folgt machen:
A3: Menge | B3: Einheit | C3: Artikel (Gewicht alles ca. Angaben) | D3: Bemerkungen | E3: Einkaufspreis | F3: Betrag | I3: Originalrezept | J3: pro Person
A4: =ROUND(SUM(J4*$F$2),2) -> 0.4 | B4: LT | C4: Wasser | F4: =SUM(E4*A4) -> 0 | I4: 0.4 | J4: =I4/$I$2 -> 0.08 | L4: Kg | M4: 0.25
A5: =ROUND(SUM(J5*$F$2),2) -> 0.1 | B5: KG | C5: Feiner Zucker | F5: =SUM(E5*A5) -> 0 | I5: 0.1 | J5: =I5/$I$2 -> 0.02 | L5: LT | M5: 1.25
A6: =ROUND(SUM(J6*$F$2),2) -> 1 | B6: Stk. | C6: Minze (Pfefferminztee, entspricht dem Inhalt von 4 Teebeutel) | F6: =SUM(E6*A6) -> 0 | I6: 1 | J6: =I6/$I$2 -> 0.2 | L6: EL | M6: Esslöffel
A7: =ROUND(SUM(J7*$F$2),2) -> 0.2 | B7: LT | C7: Drinkmilch | F7: =SUM(E7*A7) -> 0 | I7: 0.2 | J7: =I7/$I$2 -> 0.04 | L7: KL | M7: Kaffeelöffel
A8: =ROUND(SUM(J8*$F$2),2) -> 4 | B8: EL | C8: Maisstärke | F8: =SUM(E8*A8) -> 0 | I8: 4 | J8: =I8/$I$2 -> 0.8 | L8: Bund | M8: 1
A9: =ROUND(SUM(J9*$F$2),2) -> 0.4 | B9: LT | C9: Vollrahm | F9: =SUM(E9*A9) -> 0 | I9: 0.4 | J9: =I9/$I$2 -> 0.08 | L9: Stk | M9: Stück
A10: =ROUND(SUM(J10*$F$2),2) -> 0.5 | B10: Bund | C10: Frische Minze | F10: =SUM(E10*A10) -> 0 | I10: 0.5 | J10: =I10/$I$2 -> 0.1 | L10: Pä | M10: Päckli
A11: =ROUND(SUM(J11*$F$2),2) -> 0 | F11: =SUM(E11*A11) -> 0 | J11: =I11/$I$2 -> 0 | L11: alles weitere ausschreiben
A12: =ROUND(SUM(J12*$F$2),2) -> 0 | F12: =SUM(E12*A12) -> 0 | J12: =I12/$I$2 -> 0
A13: =ROUND(SUM(J13*$F$2),2) -> 0 | F13: =SUM(E13*A13) -> 0 | J13: =I13/$I$2 -> 0
A14: =ROUND(SUM(J14*$F$2),2) -> 0 | C14: Mandelkrokant | F14: =SUM(E14*A14) -> 0 | J14: =I14/$I$2 -> 0
A15: =ROUND(SUM(J15*$F$2),2) -> 0.2 | B15: KG | C15: Zucker | F15: =SUM(E15*A15) -> 0 | I15: 0.2 | J15: =I15/$I$2 -> 0.04
A16: =ROUND(SUM(J16*$F$2),2) -> 1 | B16: EL | C16: Wasser | F16: =SUM(E16*A16) -> 0 | I16: 1 | J16: =I16/$I$2 -> 0.2
A17: =ROUND(SUM(J17*$F$2),2) -> 0.05 | B17: KG | C17: Butter | F17: =SUM(E17*A17) -> 0 | I17: 0.05 | J17: =I17/$I$2 -> 0.01
A18: =ROUND(SUM(J18*$F$2),2) -> 0.05 | B18: KG | C18: Mandel gerieben | F18: =SUM(E18*A18) -> 0 | I18: 0.05 | J18: =I18/$I$2 -> 0.01
A19: =ROUND(SUM(J19*$F$2),2) -> 1 | B19: Prisen | C19: Backpapier | F19: =SUM(E19*A19) -> 0 | I19: 1 | J19: =I19/$I$2 -> 0.2
A20: =ROUND(SUM(J20*$F$2),2) -> 0 | F20: =SUM(E20*A20) -> 0 | J20: =I20/$I$2 -> 0
A21: Zubereitung
A22: 400 ml Wasser und den Zucker in einem Topf aufkochen. Die Minze kurz mitaufkochen und etwa 15 Minuten ziehen lassen. Den Tee absieben und die Flüssigkeit erneut zum Kochen bringen.
A23: In der Zwischenzeit den Drinkmilch mit der Maisstärke in einer Schüssel gründlich verrühren und zum kochenden Tee geben. Unter ständigem Rühren die Creme wieder aufkochen und vom Herd nehmen (Achtung, Spritzgefahr!). Die Creme in eine Schüssel umfüllen, die fein geschnittene Minze unterheben(2.Minze) und unter zeitweisem Rühren auskühlen lassen.
A25: Die Schlagcrème steif schlagen und vorsichtig unter die erkaltete Teecrème heben. Die Teecrème in Gläsern oder auf Tellern anrichten und Mandelkrokant garnieren.
A27: Mandelkrokant
A28: Den Zucker und das Wasser in einem Topf karamellisieren lassen. Er sollte bernsteinfarben aussehen. Die Hitze nicht zu hoch wählen, damit nichts verbrennt. Im Zweifel den Topf schnell von der Hitze ziehen.
A30: Butter und Mandeln dazugeben und gut rühren. Nicht mehr erhitzen. Nun alles aus dem Topf auf ein Backpapier laufen lassen.
A31: Wenn die Masse etwas ausgekühlt ist, kann man sie mit einem Pizzaroller in Streifen und dann in kleine Rechtecke teilen. Wenn der Krokant ausgekühlt ist, lässt er sich so schnell in Stücke brechen.

Sheet  Dessert 2
E1: Chochete vom | F1: =SUM(Menu!B3) -> 42299 | I1: Original Rezept
A2: =Menu!B16 -> Amaretti mit Rosenwasser | E2: Rezept für | F2: =SUM(Menu!B19) -> 5 | I2: 5 | J2: Personen | L2: Menu Angaben wie folgt machen:
A3: Menge | B3: Einheit | C3: Artikel (Gewicht alles ca. Angaben) | D3: Bemerkungen | E3: Einkaufspreis | F3: Betrag | I3: Originalrezept | J3: pro Person
A4: =ROUND(SUM(J4*$F$2),2) -> 0.3 | B4: Kg | C4: geschälte Mandeln (fein pürieren) | F4: =SUM(E4*A4) -> 0 | I4: 0.3 | J4: =I4/$I$2 -> 0.06 | L4: Kg | M4: 0.25
A5: =ROUND(SUM(J5*$F$2),2) -> 0.2 | B5: Kg | C5: Rohrzucker | F5: =SUM(E5*A5) -> 0 | I5: 0.2 | J5: =I5/$I$2 -> 0.04 | L5: LT | M5: 1.25
A6: =ROUND(SUM(J6*$F$2),2) -> 0.06 | B6: Kg | C6: Rosenzucker | F6: =SUM(E6*A6) -> 0 | I6: 0.06 | J6: =I6/$I$2 -> 0.012 | L6: EL | M6: Esslöffel
A7: =ROUND(SUM(J7*$F$2),2) -> 4 | B7: Stk. | C7: Eiweiss | F7: =SUM(E7*A7) -> 0 | I7: 4 | J7: =I7/$I$2 -> 0.8 | L7: KL | M7: Kaffeelöffel
A8: =ROUND(SUM(J8*$F$2),2) -> 0 | F8: =SUM(E8*A8) -> 0 | J8: =I8/$I$2 -> 0 | L8: Bund | M8: 1
A9: =ROUND(SUM(J9*$F$2),2) -> 1 | B9: Stk. | C9: Bittermandelaroma / Ätherisches Rosenöl | F9: =SUM(E9*A9) -> 0 | I9: 1 | J9: =I9/$I$2 -> 0.2 | L9: Stk | M9: Stück
A10: =ROUND(SUM(J10*$F$2),2) -> 2 | B10: Stk. | C10: Backpapier | F10: =SUM(E10*A10) -> 0 | I10: 2 | J10: =I10/$I$2 -> 0.4 | L10: Pä | M10: Päckli
A11: =ROUND(SUM(J11*$F$2),2) -> 0 | F11: =SUM(E11*A11) -> 0 | J11: =I11/$I$2 -> 0 | L11: alles weitere ausschreiben
A12: =ROUND(SUM(J12*$F$2),2) -> 0 | F12: =SUM(E12*A12) -> 0 | J12: =I12/$I$2 -> 0
A13: =ROUND(SUM(J13*$F$2),2) -> 0 | F13: =SUM(E13*A13) -> 0 | J13: =I13/$I$2 -> 0
A14: =ROUND(SUM(J14*$F$2),2) -> 0 | F14: =SUM(E14*A14) -> 0 | J14: =I14/$I$2 -> 0
A15: =ROUND(SUM(J15*$F$2),2) -> 0 | F15: =SUM(E15*A15) -> 0 | J15: =I15/$I$2 -> 0
A16: =ROUND(SUM(J16*$F$2),2) -> 0 | F16: =SUM(E16*A16) -> 0 | J16: =I16/$I$2 -> 0
A17: =ROUND(SUM(J17*$F$2),2) -> 0 | F17: =SUM(E17*A17) -> 0 | J17: =I17/$I$2 -> 0
A18: =ROUND(SUM(J18*$F$2),2) -> 0 | F18: =SUM(E18*A18) -> 0 | J18: =I18/$I$2 -> 0
A19: =ROUND(SUM(J19*$F$2),2) -> 0 | F19: =SUM(E19*A19) -> 0 | J19: =I19/$I$2 -> 0
A20: =ROUND(SUM(J20*$F$2),2) -> 0 | F20: =SUM(E20*A20) -> 0 | J20: =I20/$I$2 -> 0
A21: Zubereitung
A22: Mandeln fein pürieren
A23: Alle Zutaten mit einer Kelle zu einem dicken Teig rühren.
A24: Mit 2 Esslöffeln nussgrosse Amaretti auf ein mit Backtrennpapier belegtes Blech legen. Mit Rosenzucker bestreuen und über Nacht trocknen lassen.
A26: Backen: 210°C, ca. 10 Min.

Sheet Einkaufsliste
A1: Hobby-Küche Zug | C1: Einkaufsliste | D1: ='Beilage 1'!F1 -> 42299 | E1: ok
A2: Menge | B2: Einheit | C2: Artikel
A3: =Vorspeise!A2 -> Gartensalat mit Kräutern und Blüten | D3: Bemerkungen | E3: Wer
A4: =SUM(Vorspeise!A4) -> 0.1 | B4: =Vorspeise!B4 -> Kg | C4: =Vorspeise!C4 -> Blattsalate | D4: =SUM(Vorspeise!D4) -> 0
A5: =SUM(Vorspeise!A5) -> 0.1 | B5: =Vorspeise!B5 -> Kg | C5: =Vorspeise!C5 -> Ruccola | D5: =SUM(Vorspeise!D5) -> 0
A6: =SUM(Vorspeise!A6) -> 0.3 | B6: =Vorspeise!B6 -> Kg | C6: =Vorspeise!C6 -> Tomaten | D6: =SUM(Vorspeise!D6) -> 0
A7: =SUM(Vorspeise!A7) -> 0.3 | B7: =Vorspeise!B7 -> Kg | C7: =Vorspeise!C7 -> Gurken | D7: =SUM(Vorspeise!D7) -> 0
A8: =SUM(Vorspeise!A8) -> 0.1 | B8: =Vorspeise!B8 -> Kg | C8: =Vorspeise!C8 -> Radischen | D8: =SUM(Vorspeise!D8) -> 0
A9: =SUM(Vorspeise!A9) -> 0.1 | B9: =Vorspeise!B9 -> Kg | C9: =Vorspeise!C9 -> Fenchel | D9: =SUM(Vorspeise!D9) -> 0
A10: =SUM(Vorspeise!A10) -> 0.2 | B10: =Vorspeise!B10 -> Lt | C10: =Vorspeise!C10 -> Olivenöl | D10: =SUM(Vorspeise!D10) -> 0
A11: =SUM(Vorspeise!A11) -> 0.05 | B11: =Vorspeise!B11 -> Lt | C11: =Vorspeise!C11 -> Weissweinessig | D11: =SUM(Vorspeise!D11) -> 0
A12: =SUM(Vorspeise!A12) -> 1 | B12: =Vorspeise!B12 -> TL | C12: =Vorspeise!C12 -> Senf | D12: =SUM(Vorspeise!D12) -> 0
A13: =SUM(Vorspeise!A13) -> 1 | B13: =Vorspeise!B13 -> TL | C13: =Vorspeise!C13 -> Akazienhonig | D13: =SUM(Vorspeise!D13) -> 0
A14: =SUM(Vorspeise!A14) -> 0.5 | B14: =Vorspeise!B14 -> Bund | C14: =Vorspeise!C14 -> Petersilie | D14: =SUM(Vorspeise!D14) -> 0
A15: =SUM(Vorspeise!A15) -> 0.5 | B15: =Vorspeise!B15 -> Bund | C15: =Vorspeise!C15 -> Schnittlauch | D15: =SUM(Vorspeise!D15) -> 0
A16: =SUM(Vorspeise!A16) -> 0.5 | B16: =Vorspeise!B16 -> Bund | C16: =Vorspeise!C16 -> Dill | D16: =SUM(Vorspeise!D16) -> 0
A17: =SUM(Vorspeise!A17) -> 1 | B17: =Vorspeise!B17 -> Portion | C17: =Vorspeise!C17 -> Blüten (zB Gänseblümchen, Kapuziener Kresse…) | D17: =SUM(Vorspeise!D17) -> 0 | E17: Theres
A18: =SUM(Vorspeise!A18) -> 0 | B18: =Vorspeise!B18 -> 0 | C18: =Vorspeise!C18 -> 0 | D18: =SUM(Vorspeise!D18) -> 0
A19: =SUM(Vorspeise!A19) -> 1 | B19: =Vorspeise!B19 -> TL | C19: =Vorspeise!C19 -> Kräutersalz | D19: =SUM(Vorspeise!D19) -> 0
A20: =SUM(Vorspeise!A20) -> 0.5 | B20: =Vorspeise!B20 -> TL | C20: =Vorspeise!C20 -> frisch gemahlener Pfeffer | D20: =SUM(Vorspeise!D20) -> 0
A21: ='Hauptgang 1'!A2 -> Ofenkürbis mit Rosmarin | D21: Bemerkungen | E21: Wer
A22: =SUM('Hauptgang 1'!A4) -> 1 | B22: ='Hauptgang 1'!B4 -> Kg | C22: ='Hauptgang 1'!C4 -> kleiner Oranger Knirps geputzt gewogen); Hokkaido Kürbis | D22: =SUM('Hauptgang 1'!D4) -> 0
A23: =SUM('Hauptgang 1'!A5) -> 1.25 | B23: ='Hauptgang 1'!B5 -> Zweige | C23: ='Hauptgang 1'!C5 -> Rosmarin | D23: =SUM('Hauptgang 1'!D5) -> 0
A24: =SUM('Hauptgang 1'!A6) -> 4 | B24: ='Hauptgang 1'!B6 -> St | C24: ='Hauptgang 1'!C6 -> Knoblauchzehen | D24: =SUM('Hauptgang 1'!D6) -> 0
A25: =SUM('Hauptgang 1'!A7) -> 1.25 | B25: ='Hauptgang 1'!B7 -> EL | C25: ='Hauptgang 1'!C7 -> Birnell dicksaft | D25: =SUM('Hauptgang 1'!D7) -> 0
A26: =SUM('Hauptgang 1'!A8) -> 1.25 | B26: ='Hauptgang 1'!B8 -> EL | C26: ='Hauptgang 1'!C8 -> Olivenöl | D26: =SUM('Hauptgang 1'!D8) -> 0
A27: =SUM('Hauptgang 1'!A9) -> 0 | B27: ='Hauptgang 1'!B9 -> 0 | C27: ='Hauptgang 1'!C9 -> 0 | D27: =SUM('Hauptgang 1'!D9) -> 0
A28: =SUM('Hauptgang 1'!A10) -> 0 | B28: ='Hauptgang 1'!B10 -> 0 | C28: ='Hauptgang 1'!C10 -> Salz, Pfeffer aus | D28: =SUM('Hauptgang 1'!D10) -> 0
A29: =SUM('Hauptgang 1'!A11) -> 0 | B29: ='Hauptgang 1'!B11 -> 0 | C29: ='Hauptgang 1'!C11 -> der Mühle | D29: =SUM('Hauptgang 1'!D11) -> 0
A30: =SUM('Hauptgang 1'!A12) -> 0 | B30: ='Hauptgang 1'!B12 -> 0 | C30: ='Hauptgang 1'!C12 -> 0 | D30: =SUM('Hauptgang 1'!D12) -> 0
A31: ='Hauptgang 2'!A2 -> Zuccinischnitzel mit Sesammantel | D31: Bemerkungen | E31: Wer
A32: =SUM('Hauptgang 2'!A4) -> 2 | B32: ='Hauptgang 2'!B4 -> Stk. | C32: ='Hauptgang 2'!C4 -> Zucchini gross | D32: =SUM('Hauptgang 2'!D4) -> 0
A33: =SUM('Hauptgang 2'!A5) -> 0.04 | B33: ='Hauptgang 2'!B5 -> Kg | C33: ='Hauptgang 2'!C5 -> Sesamsamen | D33: =SUM('Hauptgang 2'!D5) -> 0
A34: =SUM('Hauptgang 2'!A6) -> 0.08 | B34: ='Hauptgang 2'!B6 -> Kg | C34: ='Hauptgang 2'!C6 -> Paniermehl | D34: =SUM('Hauptgang 2'!D6) -> 0
A35: =SUM('Hauptgang 2'!A7) -> 7 | B35: ='Hauptgang 2'!B7 -> EL | C35: ='Hauptgang 2'!C7 -> Drinkmilch | D35: =SUM('Hauptgang 2'!D7) -> 0
A36: =SUM('Hauptgang 2'!A8) -> 2.5 | B36: ='Hauptgang 2'!B8 -> EL | C36: ='Hauptgang 2'!C8 -> Maisstärke | D36: =SUM('Hauptgang 2'!D8) -> 0
A37: =SUM('Hauptgang 2'!A9) -> 0 | B37: ='Hauptgang 2'!B9 -> 0 | C37: ='Hauptgang 2'!C9 -> Pfeffer aus der Mühle | D37: =SUM('Hauptgang 2'!D9) -> 0
A38: =SUM('Hauptgang 2'!A10) -> 0.08 | B38: ='Hauptgang 2'!B10 -> Kg | C38: ='Hauptgang 2'!C10 -> Weizenmehl | D38: =SUM('Hauptgang 2'!D10) -> 0
A39: =SUM('Hauptgang 2'!A11) -> 8 | B39: ='Hauptgang 2'!B11 -> EL | C39: ='Hauptgang 2'!C11 -> Pflanzenöl | D39: =SUM('Hauptgang 2'!D11) -> 0
A40: =SUM('Hauptgang 2'!A12) -> 1 | B40: ='Hauptgang 2'!B12 -> Stk. | C40: ='Hauptgang 2'!C12 -> Zitrone unbehandelt | D40: =SUM('Hauptgang 2'!D12) -> 0
A41: =SUM('Hauptgang 2'!A13) -> 0 | B41: ='Hauptgang 2'!B13 -> 0 | C41: ='Hauptgang 2'!C13 -> 0 | D41: =SUM('Hauptgang 2'!D13) -> 0
A42: =SUM('Hauptgang 2'!A20) -> 0 | B42: ='Hauptgang 2'!B20 -> 0 | C42: ='Hauptgang 2'!C20 -> 0 | D42: =SUM('Hauptgang 2'!D20) -> 0
A43: ='Haupgang 3'!A2 -> Auberginen Cordon-bleu | D43: Bemerkungen | E43: Wer
A44: ='Haupgang 3'!A4 -> 2 | B44: ='Haupgang 3'!B4 -> Stk. | C44: ='Haupgang 3'!C4 -> mittelgroße Auberginen | D44: =SUM('Haupgang 3'!D4) -> 0
A45: ='Haupgang 3'!A5 -> 0 | B45: ='Haupgang 3'!B5 -> Prise | C45: ='Haupgang 3'!C5 -> Salz, Pfeffer aus der Mühle | D45: =SUM('Haupgang 3'!D5) -> 0
A46: ='Haupgang 3'!A6 -> 0.3 | B46: ='Haupgang 3'!B6 -> Kg | C46: ='Haupgang 3'!C6 -> Gruyere Käse Scheiben | D46: =SUM('Haupgang 3'!D6) -> 0
A47: ='Haupgang 3'!A7 -> 2 | B47: ='Haupgang 3'!B7 -> Stk. | C47: ='Haupgang 3'!C7 -> Tomaten | D47: =SUM('Haupgang 3'!D7) -> 0
A48: ='Haupgang 3'!A8 -> 1 | B48: ='Haupgang 3'!B8 -> Zweige | C48: ='Haupgang 3'!C8 -> Frischen Thymian | D48: =SUM('Haupgang 3'!D8) -> 0
A49: ='Haupgang 3'!A9 -> 1 | B49: ='Haupgang 3'!B9 -> Bund | C49: ='Haupgang 3'!C9 -> Basilikum | D49: =SUM('Haupgang 3'!D9) -> 0
A50: ='Haupgang 3'!A10 -> 2 | B50: ='Haupgang 3'!B10 -> EL | C50: ='Haupgang 3'!C10 -> Maisstärke | D50: =SUM('Haupgang 3'!D10) -> 0
A51: ='Haupgang 3'!A11 -> 0.15 | B51: ='Haupgang 3'!B11 -> Kg | C51: ='Haupgang 3'!C11 -> Paniermehl | D51: =SUM('Haupgang 3'!D11) -> 0
A52: ='Haupgang 3'!A12 -> 2 | B52: ='Haupgang 3'!B12 -> EL | C52: ='Haupgang 3'!C12 -> Pflanzenöl | D52: =SUM('Haupgang 3'!D12) -> 0
A53: ='Haupgang 3'!A13 -> 0 | B53: ='Haupgang 3'!B13 -> 0 | C53: ='Haupgang 3'!C13 -> 0 | D53: =SUM('Haupgang 3'!D13) -> 0
A54: ='Haupgang 4'!A2 -> Austernpilze in Mandelpaste | E54: Wer
A55: =SUM('Haupgang 4'!A4) -> 0.1 | B55: ='Haupgang 4'!B4 -> Kg | C55: ='Haupgang 4'!C4 -> Vollkorn-Weizenmehl oder Weissmehl | D55: =SUM('Haupgang 4'!D4) -> 0
A56: =SUM('Haupgang 4'!A5) -> 4 | B56: ='Haupgang 4'!B5 -> Stk | C56: ='Haupgang 4'!C5 -> Eier | D56: =SUM('Haupgang 4'!D5) -> 0
A57: =SUM('Haupgang 4'!A6) -> 0 | B57: ='Haupgang 4'!B6 -> Prise | C57: ='Haupgang 4'!C6 -> Salz | D57: =SUM('Haupgang 4'!D6) -> 0
A58: =SUM('Haupgang 4'!A7) -> 0 | B58: ='Haupgang 4'!B7 -> Prise | C58: ='Haupgang 4'!C7 -> frisch gemahlener schwarzer Pfeffer | D58: =SUM('Haupgang 4'!D7) -> 0
A59: =SUM('Haupgang 4'!A8) -> 0.1 | B59: ='Haupgang 4'!B8 -> Kg | C59: ='Haupgang 4'!C8 -> Mandelblättchen | D59: =SUM('Haupgang 4'!D8) -> 0
A60: =SUM('Haupgang 4'!A9) -> 0.1 | B60: ='Haupgang 4'!B9 -> Kg | C60: ='Haupgang 4'!C9 -> Semmelbrösel | D60: =SUM('Haupgang 4'!D9) -> 0
A61: =SUM('Haupgang 4'!A10) -> 0.4 | B61: ='Haupgang 4'!B10 -> Kg | C61: ='Haupgang 4'!C10 -> Austernpilze | D61: =SUM('Haupgang 4'!D10) -> 0
A62: =SUM('Haupgang 4'!A11) -> 0.08 | B62: ='Haupgang 4'!B11 -> Kg | C62: ='Haupgang 4'!C11 -> Butter | D62: =SUM('Haupgang 4'!D11) -> 0
A63: =SUM('Haupgang 4'!A12) -> 0.08 | B63: ='Haupgang 4'!B12 -> LT | C63: ='Haupgang 4'!C12 -> Olivenöl | D63: =SUM('Haupgang 4'!D12) -> 0
A64: =SUM('Haupgang 4'!A13) -> 0 | B64: ='Haupgang 4'!B13 -> 0 | C64: ='Haupgang 4'!C13 -> 0 | D64: =SUM('Haupgang 4'!D13) -> 0
A65: =SUM('Haupgang 4'!A20) -> 0 | B65: ='Haupgang 4'!B20 -> 0 | C65: ='Haupgang 4'!C20 -> 0 | D65: =SUM('Haupgang 4'!D20) -> 0
A66: ='Beilage 1'!A2 -> Feurige Tomatensauce und Blaue Kartoffeln | D66: Bemerkungen | E66: Wer
A67: =SUM('Beilage 1'!A4) -> 0 | B67: ='Beilage 1'!B4 -> 0 | C67: ='Beilage 1'!C4 -> 0 | D67: =SUM('Beilage 1'!D4) -> 0
A68: =SUM('Beilage 1'!A5) -> 0.08 | B68: ='Beilage 1'!B5 -> Kg | C68: ='Beilage 1'!C5 -> Zwiebeln | D68: =SUM('Beilage 1'!D5) -> 0
A69: =SUM('Beilage 1'!A6) -> 2 | B69: ='Beilage 1'!B6 -> Zehe | C69: ='Beilage 1'!C6 -> Knoblauch | D69: =SUM('Beilage 1'!D6) -> 0
A70: =SUM('Beilage 1'!A7) -> 0.1 | B70: ='Beilage 1'!B7 -> LT | C70: ='Beilage 1'!C7 -> Olivenöl | D70: =SUM('Beilage 1'!D7) -> 0
A71: =SUM('Beilage 1'!A8) -> 0.4 | B71: ='Beilage 1'!B8 -> Kg | C71: ='Beilage 1'!C8 -> frische Tomaten oder stückige Tomaten aus der Dose | D71: =SUM('Beilage 1'!D8) -> 0
A72: =SUM('Beilage 1'!A9) -> 1 | B72: ='Beilage 1'!B9 -> TL | C72: ='Beilage 1'!C9 -> Salz / Kräutersalz rassig | D72: =SUM('Beilage 1'!D9) -> 0
A73: =SUM('Beilage 1'!A10) -> 2 | B73: ='Beilage 1'!B10 -> Msp. | C73: ='Beilage 1'!C10 -> frisch gemahlener schwarzer Pfeffer oder Chilipulver | D73: =SUM('Beilage 1'!D10) -> 0
A74: =SUM('Beilage 1'!A11) -> 1 | B74: ='Beilage 1'!B11 -> Stk. | C74: ='Beilage 1'!C11 -> Lorbeerblatt | D74: =SUM('Beilage 1'!D11) -> 0
A75: =SUM('Beilage 1'!A12) -> 1 | B75: ='Beilage 1'!B12 -> Bund | C75: ='Beilage 1'!C12 -> Kräuter Bund gemischt (Basilikum, Thymian, Majoran, Oregano etc.) | D75: =SUM('Beilage 1'!D12) -> 0
A76: =SUM('Beilage 1'!A13) -> 0 | B76: ='Beilage 1'!B13 -> 0 | C76: ='Beilage 1'!C13 -> 0 | D76: =SUM('Beilage 1'!D13) -> 0
A77: =SUM('Beilage 1'!A14) -> 0.6 | B77: ='Beilage 1'!B14 -> Kg | C77: ='Beilage 1'!C14 -> Blaue Kartoffeln | D77: =SUM('Beilage 1'!D14) -> 0
A78: =SUM('Beilage 1'!A15) -> 0 | B78: ='Beilage 1'!B15 -> 0 | C78: ='Beilage 1'!C15 -> Salz | D78: =SUM('Beilage 1'!D15) -> 0
A79: =SUM('Beilage 1'!A16) -> 0 | B79: ='Beilage 1'!B16 -> 0 | C79: ='Beilage 1'!C16 -> 0 | D79: =SUM('Beilage 1'!D16) -> 0
A80: =SUM('Beilage 1'!A20) -> 0 | B80: ='Beilage 1'!B20 -> 0 | C80: ='Beilage 1'!C20 -> 0 | D80: =SUM('Beilage 1'!D20) -> 0
A81: =' Dessert 1'!A2 -> Minzcrème mit Mandelkrokant | E81: Wer
A82: =SUM(' Dessert 1'!A4) -> 0.4 | B82: =' Dessert 1'!B4 -> LT | C82: =' Dessert 1'!C4 -> Wasser | D82: =' Dessert 1'!D4 -> 0
A83: =SUM(' Dessert 1'!A5) -> 0.1 | B83: =' Dessert 1'!B5 -> KG | C83: =' Dessert 1'!C5 -> Feiner Zucker | D83: =' Dessert 1'!D5 -> 0
A84: =SUM(' Dessert 1'!A6) -> 1 | B84: =' Dessert 1'!B6 -> Stk. | C84: =' Dessert 1'!C6 -> Minze (Pfefferminztee, entspricht dem Inhalt von 4 Teebeutel) | D84: =' Dessert 1'!D6 -> 0
A85: =SUM(' Dessert 1'!A7) -> 0.2 | B85: =' Dessert 1'!B7 -> LT | C85: =' Dessert 1'!C7 -> Drinkmilch | D85: =' Dessert 1'!D7 -> 0
A86: =SUM(' Dessert 1'!A8) -> 4 | B86: =' Dessert 1'!B8 -> EL | C86: =' Dessert 1'!C8 -> Maisstärke | D86: =' Dessert 1'!D8 -> 0
A87: =SUM(' Dessert 1'!A9) -> 0.4 | B87: =' Dessert 1'!B9 -> LT | C87: =' Dessert 1'!C9 -> Vollrahm | D87: =' Dessert 1'!D9 -> 0
A88: =SUM(' Dessert 1'!A10) -> 0.5 | B88: =' Dessert 1'!B10 -> Bund | C88: =' Dessert 1'!C10 -> Frische Minze | D88: =' Dessert 1'!D10 -> 0
A89: =SUM(' Dessert 1'!A11) -> 0 | B89: =' Dessert 1'!B11 -> 0 | C89: =' Dessert 1'!C11 -> 0 | D89: =' Dessert 1'!D11 -> 0
A90: =SUM(' Dessert 1'!A12) -> 0 | B90: =' Dessert 1'!B12 -> 0 | C90: =' Dessert 1'!C12 -> 0 | D90: =' Dessert 1'!D12 -> 0
A91: =SUM(' Dessert 1'!A13) -> 0 | B91: =' Dessert 1'!B13 -> 0 | C91: =' Dessert 1'!C13 -> 0 | D91: =' Dessert 1'!D13 -> 0
A92: =SUM(' Dessert 1'!A14) -> 0 | B92: =' Dessert 1'!B14 -> 0 | C92: =' Dessert 1'!C14 -> Mandelkrokant | D92: =' Dessert 1'!D14 -> 0
A93: =SUM(' Dessert 1'!A15) -> 0.2 | B93: =' Dessert 1'!B15 -> KG | C93: =' Dessert 1'!C15 -> Zucker | D93: =' Dessert 1'!D15 -> 0
... A98: =SUM(' Dessert 1'!A20) -> 0 | B98: =' Dessert 1'!B20 -> 0 | C98: =' Dessert 1'!C20 -> 0 | D98: =' Dessert 1'!D20 -> 0
A99: ='Salz und Zucker'!A2 -> Kräutersalz 1 | E99: Wer
A100: =SUM('Salz und Zucker'!A4) -> 1 | B100: ='Salz und Zucker'!B4:B4 -> Kg | C100: ='Salz und Zucker'!C4:C4 -> Salz (ohne Jod)
A101: =SUM('Salz und Zucker'!A5) -> 5 | B101: ='Salz und Zucker'!B5:B5 -> Bund | C101: ='Salz und Zucker'!C5:C5 -> Getrocknete Kräuter | E101: Theres
A103: =#REF! -> #REF! | E103: Wer
A104: =SUM(#REF!) -> #REF! | B104: =#REF! -> #REF! | C104: =#REF! -> #REF!
A105: =SUM(#REF!) -> #REF! | B105: =#REF! -> #REF! | C105: =#REF! -> #REF! | E105: Theres
...

Sheet Salz und Zucker
E1: Chochete vom | F1: =SUM([1]Menu!B3) -> 0 | I1: Original Rezept
A2: Kräutersalz 1 | E2: Rezept für | F2: =Menu!B19 -> 5 | I2: 1 | J2: Personen
A3: Menge | B3: Einheit | C3: Artikel (Gewicht alles ca. Angaben) | D3: Bemerkungen | E3: Einkaufspreis | F3: Betrag | I3: Originalrezept | J3: pro Person
A4: =$F$2*J4 -> 1 | B4: Kg | C4: Salz (ohne Jod) | F4: =SUM(E4*A4) -> 0 | I4: 0.2 | J4: =I4/$I$2 -> 0.2
A5: =$F$2*J5 -> 5 | B5: Bund | C5: Getrocknete Kräuter | F5: =SUM(E5*A5) -> 0 | I5: 1 | J5: =I5/$I$2 -> 1
A6: =$F$2*J6 -> 0 | F6: =SUM(E6*A6) -> 0 | J6: =I6/$I$2 -> 0
A7: Kräutersalz 2 | E7: Rezept für | F7: =Menu!B24 -> 0 | I7: 1 | J7: Personen
A8: Menge | B8: Einheit | C8: Artikel (Gewicht alles ca. Angaben) | D8: Bemerkungen | E8: Einkaufspreis | F8: Betrag | I8: Originalrezept | J8: pro Person
A9: =$F$2*J9 -> 1 | B9: Kg | C9: Salz (ohne Jod) | F9: =SUM(E9*A9) -> 0 | I9: 0.2 | J9: =I9/$I$2 -> 0.2
A10: =$F$2*J10 -> 2.5 | B10: Bund | C10: Getrocknete Kräuter | F10: =SUM(E10*A10) -> 0 | I10: 0.5 | J10: =I10/$I$2 -> 0.5
A11: =$F$2*J11 -> 0 | F11: =SUM(E11*A11) -> 0 | J11: =I11/$I$2 -> 0
A12: Gewürzzucker | E12: Rezept für | F12: =Menu!B29 -> 0 | I12: 1 | J12: Personen
A13: Menge | B13: Einheit | C13: Artikel (Gewicht alles ca. Angaben) | D13: Bemerkungen | E13: Einkaufspreis | F13: Betrag | I13: Originalrezept | J13: pro Person
A14: =$F$2*J14 -> 1 | B14: Kg | C14: Feinkristalzucker | F14: =SUM(E14*A14) -> 0 | I14: 0.2 | J14: =I14/$I$2 -> 0.2
A15: =$F$2*J15 -> 0.1 | B15: Kg | C15: Rosenblätter | F15: =SUM(E15*A15) -> 0 | I15: 0.02 | J15: =I15/$I$2 -> 0.02
F16: =SUM(E16*A16) -> 0
A17: =ROUND(SUM(J17*$F$2),2) -> 0 | F17: =SUM(E17*A17) -> 0
A18: =ROUND(SUM(J18*$F$2),2) -> 0 | F18: =SUM(E18*A18) -> 0 | J18: =I18/$I$2 -> 0
A19: =ROUND(SUM(J19*$F$2),2) -> 0
A20: =ROUND(SUM(J20*$F$2),2) -> 0
A21: =ROUND(SUM(J21*$F$2),2) -> 0 | F21: =SUM(E21*A21) -> 0 | J21: =I21/$I$2 -> 0
