Workbook

Sheet Menu
A3: Datum | B3: 41956
A5: Motto 2014 | B5: Winter-Rezepte
A7: Vorspeise | B7: Marroni-Trauben-Salat mit geräucherter Entenbrust
A9: Suppe | B9: Pastinakensuppe mit Lauch-Julienne
A11: Hauptgang | B11: Rippli im Blätterteig
A12: Beilage1 | B12: Buntes Wintergemüse
A15: Dessert | B15: Persische Quittenschnitze
A17: Menu von Tisch | B17: C - René
A19: Personenzahl | B19: 4

Sheet Vorspeise
E1: Chochete vom | F1: =SUM(Menu!B3) -> 41956 | I1: Original Rezept
A2: =Menu!B7 -> Marroni-Trauben-Salat mit geräucherter Entenbrust | E2: Rezept für | F2: 4 | I2: 4 | J2: Personen | L2: Menu Angaben wie folgt machen:
A3: Menge | B3: Einheit | C3: Artikel (Gewicht alles ca. Angaben) | D3: Bemerkungen | E3: Einkaufspreis | F3: Betrag | I3: Originalrezept | J3: pro Person
A4: =ROUND(SUM(J4*$F$2),2) -> 0.2 | B4: Kg | C4: Marroni, tiefgekühlt | F4: =SUM(E4*A4) -> 0 | I4: 0.2 | J4: =I4/$I$2 -> 0.05 | L4: Kg | M4: 0.25
A5: =ROUND(SUM(J5*$F$2),2) -> 1 | B5: TL | C5: Zitronensaft | F5: =SUM(E5*A5) -> 0 | I5: 1 | J5: =I5/$I$2 -> 0.25 | L5: Lt | M5: 1.25
A6: =ROUND(SUM(J6*$F$2),2) -> 0.2 | B6: Kg | C6: weisse Trauben | F6: =SUM(E6*A6) -> 0 | I6: 0.2 | J6: =I6/$I$2 -> 0.05 | L6: EL | M6: Esslöffel
A7: =ROUND(SUM(J7*$F$2),2) -> 1 | B7: Stk | C7: Feige, getrocknet | F7: =SUM(E7*A7) -> 0 | I7: 1 | J7: =I7/$I$2 -> 0.25 | L7: TL | M7: Kaffeelöffel
A8: =ROUND(SUM(J8*$F$2),2) -> 0.08 | B8: Kg | C8: Bergkäse oder Gruyère AOP | F8: =SUM(E8*A8) -> 0 | I8: 0.08 | J8: =I8/$I$2 -> 0.02 | L8: Bund | M8: 1
A9: =ROUND(SUM(J9*$F$2),2) -> 0.08 | B9: Kg | C9: Nüsslisalat | F9: =SUM(E9*A9) -> 0 | I9: 0.08 | J9: =I9/$I$2 -> 0.02 | L9: Stk | M9: Stück
A10: =ROUND(SUM(J10*$F$2),2) -> 0 | C10: eine Prise Salz | F10: =SUM(E10*A10) -> 0 | J10: =I10/$I$2 -> 0 | L10: Pä | M10: Päckli
A11: =ROUND(SUM(J11*$F$2),2) -> 0 | C11: Sauce | F11: =SUM(E11*A11) -> 0 | J11: =I11/$I$2 -> 0 | L11: alles weitere ausschreiben
A12: =ROUND(SUM(J12*$F$2),2) -> 1 | B12: Stk | C12: Schalotte, klein | F12: =SUM(E12*A12) -> 0 | I12: 1 | J12: =I12/$I$2 -> 0.25
A13: =ROUND(SUM(J13*$F$2),2) -> 2 | B13: TL | C13: Zucker | F13: =SUM(E13*A13) -> 0 | I13: 2 | J13: =I13/$I$2 -> 0.5
A14: =ROUND(SUM(J14*$F$2),2) -> 1 | B14: TL | C14: Butter | F14: =SUM(E14*A14) -> 0 | I14: 1 | J14: =I14/$I$2 -> 0.25
A15: =ROUND(SUM(J15*$F$2),2) -> 0.1 | B15: Lt | C15: Gemüsebouillon | F15: =SUM(E15*A15) -> 0 | I15: 0.1 | J15: =I15/$I$2 -> 0.025
A16: =ROUND(SUM(J16*$F$2),2) -> 2 | B16: EL | C16: Marsala oder roter Portwein | F16: =SUM(E16*A16) -> 0 | I16: 2 | J16: =I16/$I$2 -> 0.5
A17: =ROUND(SUM(J17*$F$2),2) -> 1.5 | B17: El | C17: Senf | F17: =SUM(E17*A17) -> 0 | I17: 1.5 | J17: =I17/$I$2 -> 0.375
A18: =ROUND(SUM(J18*$F$2),2) -> 6 | B18: EL | C18: Weissweinessig | F18: =SUM(E18*A18) -> 0 | I18: 6 | J18: =I18/$I$2 -> 1.5
A19: =ROUND(SUM(J19*$F$2),2) -> 5 | B19: Spritzer | C19: Worcestershiresauce | F19: =SUM(E19*A19) -> 0 | I19: 5 | J19: =I19/$I$2 -> 1.25
A20: =ROUND(SUM(J20*$F$2),2) -> 6 | B20: EL | C20: Olivenöl | F20: =SUM(E20*A20) -> 0 | I20: 6 | J20: =I20/$I$2 -> 1.5
A21: =ROUND(SUM(J21*$F$2),2) -> 0 | C21: Salz, reichlich schwarzer Pfeffer | F21: =SUM(E21*A21) -> 0 | J21: =I21/$I$2 -> 0
C22: zum Fertigstellen
A23: =ROUND(SUM(J23*$F$2),2) -> 0.15 | B23: Kg | C23: Entenbrust, geräuchert, fein aufgeschnitten | F23: =SUM(E23*A23) -> 0 | I23: 0.15 | J23: =I23/$I$2 -> 0.0375
A24: Zubereitung
A25: 1. Die noch gefrorenen Marroni in eine Pfanne geben, knapp mit Wasser bedecken und den Zitronensaft sowie etwas Salz beifügen. Einmal kräftig aufkochen, dann zugedeckt neben dem Herd 10 Minuten ziehen lassen. Abschütten und auf Küchenpapier trockentupfen.
A26: 2. Inzwischen die Trauben kalt spülen und mit Küchenpapier trockentupfen. Die Beeren der Länge nach halbieren und mithilfe eines spitzen kleinen Messers entkernen. Die Feige halbieren und in feine Streifchen schneiden. Den Käse entrinden und in dünne Stängelchen schneiden. Den Nüsslisalat waschen und trockenschleudern.
A27: 3. Für die Sauce die Schalotte schälen und fein hacken.
A28: 4. In einer Pfanne den Zucker auf mittlerem Feuer ohne zu Rühren langsam zu hellbraunem Caramel schmelzen lassen. Dann die Butter unterrühren, die Schalotten und die Marroni beifügen und unter sorgfältigem Rühren mit dem Caramel überziehen. Bouillon und Marsala oder Portwein dazugiessen und auf grossem Feuer auf etwa 3 Esslöffel einkochen lassen. Alles in eine Schüssel geben.
A29: 5. Senf, Essig, Worcestershiresauce, Salz, Pfeffer und Olivenöl gut verrühren. 4 Esslöffel Sauce für den Nüsslisalat beiseitestellen. Die restliche Sauce über die Marroni geben. Trauben, Feigen und Käse sorgfältig untermischen. Kurz ziehen lassen.
A30: 6. Zum Servieren den Marroni-Trauben-Salat auf Tellern anrichten. Den Nüsslisalat rundum verteilen und mit der beiseite-gestellten Sauce beträufeln. Die Entenbrustscheiben dekorativ auf dem Salat anrichten. Sofort servieren.

Sheet Suppe
E1: Chochete vom | F1: =SUM(Menu!B3) -> 41956 | I1: Original Rezept
A2: =Menu!B9 -> Pastinakensuppe mit Lauch-Julienne | E2: Rezept für | F2: 4 | I2: 4 | J2: Personen | L2: Menu Angaben wie folgt machen:
A3: Menge | B3: Einheit | C3: Artikel (Gewicht alles ca. Angaben) | D3: Bemerkungen | E3: Einkaufspreis | F3: Betrag | I3: Originalrezept | J3: pro Person
A4: =ROUND(SUM(J4*$F$2),2) -> 1 | B4: EL | C4: Butter | F4: =SUM(E4*A4) -> 0 | I4: 1 | J4: =I4/$I$2 -> 0.25 | L4: Kg | M4: 0.25
A5: =ROUND(SUM(J5*$F$2),2) -> 1 | B5: Stk | C5: Lauch | F5: =SUM(E5*A5) -> 0 | I5: 1 | J5: =I5/$I$2 -> 0.25 | L5: Lt | M5: 1.25
A6: =ROUND(SUM(J6*$F$2),2) -> 1 | B6: Stk | C6: Knoblauchzehe | F6: =SUM(E6*A6) -> 0 | I6: 1 | J6: =I6/$I$2 -> 0.25 | L6: EL | M6: Esslöffel
A7: =ROUND(SUM(J7*$F$2),2) -> 2 | B7: Stk | C7: mittelgrosse Pastinaken | F7: =SUM(E7*A7) -> 0 | I7: 2 | J7: =I7/$I$2 -> 0.5 | L7: TL | M7: Kaffeelöffel
A8: =ROUND(SUM(J8*$F$2),2) -> 0.5 | B8: EL | C8: Mehl | F8: =SUM(E8*A8) -> 0 | I8: 0.5 | J8: =I8/$I$2 -> 0.125 | L8: Bund | M8: 1
A9: =ROUND(SUM(J9*$F$2),2) -> 0.9 | B9: Lt | C9: Hühnerbouillon | F9: =SUM(E9*A9) -> 0 | I9: 0.9 | J9: =I9/$I$2 -> 0.225 | L9: Stk | M9: Stück
A10: =ROUND(SUM(J10*$F$2),2) -> 0.1 | B10: Lt | C10: Rahm | F10: =SUM(E10*A10) -> 0 | I10: 0.1 | J10: =I10/$I$2 -> 0.025 | L10: Pä | M10: Päckli
A11: =ROUND(SUM(J11*$F$2),2) -> 1 | B11: EL | C11: Oel | F11: =SUM(E11*A11) -> 0 | I11: 1 | J11: =I11/$I$2 -> 0.25 | L11: alles weitere ausschreiben
A12: =ROUND(SUM(J12*$F$2),2) -> 1 | C12: je Messerspitze Kreuzkümmel, Koriander, Kurkuma, Cayennepfeffer | F12: =SUM(E12*A12) -> 0 | I12: 1 | J12: =I12/$I$2 -> 0.25
A13: =ROUND(SUM(J13*$F$2),2) -> 0 | C13: Salz, Pfeffer nach Bedarf | F13: =SUM(E13*A13) -> 0 | J13: =I13/$I$2 -> 0
A14: Zubereitung
A15: Suppe
A16: Weisser Teil von Lauch fein hacken, Knoblauch fein hacken, Pastinaken in Würfeli schneiden.
A17: Lauch und Knoblauch in warmen Butter andämpfen, Pastinaken zugedeckt 10 Minuten mitdämpfen.
A18: Mehl und Gewürze darüberstreuen, mischen, Bouillon dazugiessen, aufkochen.
A19: Suppe ca. 15 Minuten köcheln, bis Pastinaken weich sind.
A20: Im Mixer pürieren, Rahm dazugiessen, 5 Minuten ziehen lassen, nachwürzen.
A21: Lauch-Julienne
A22: grüner Teil von Lauch in Julienne geschnitten.
A23: Julienne im heissen Öl knusprig braten.
A24: Anrichten
A25: Julienne über die in vorgewärmtem Tellern angerichtete Suppe streuen - servieren.

Sheet Hauptgang
E1: Chochete vom | F1: =SUM(Menu!B3) -> 41956 | I1: Original Rezept
A2: =Menu!B11 -> Rippli im Blätterteig | E2: Rezept für | F2: 4 | I2: 8 | J2: Personen | L2: Menu Angaben wie folgt machen:
A3: Menge | B3: Einheit | C3: Artikel (Gewicht alles ca. Angaben) | D3: Bemerkungen | E3: Einkaufspreis | F3: Betrag | I3: Originalrezept | J3: pro Person
A4: =ROUND(SUM(J4*$F$2),2) -> 0.5 | B4: Kg | C4: Aepfel, rotschalig | F4: =SUM(E4*A4) -> 0 | I4: 1 | J4: =I4/$I$2 -> 0.125 | L4: Kg | M4: 0.25
A5: =ROUND(SUM(J5*$F$2),2) -> 0.25 | B5: Lt | C5: Wasser | F5: =SUM(E5*A5) -> 0 | I5: 0.5 | J5: =I5/$I$2 -> 0.0625 | L5: Lt | M5: 1.25
A6: =ROUND(SUM(J6*$F$2),2) -> 0.15 | B6: Lt | C6: Weisswein | F6: =SUM(E6*A6) -> 0 | I6: 0.3 | J6: =I6/$I$2 -> 0.0375 | L6: EL | M6: Esslöffel
A7: =ROUND(SUM(J7*$F$2),2) -> 0.03 | B7: Kg | C7: Zucker | F7: =SUM(E7*A7) -> 0 | I7: 0.06 | J7: =I7/$I$2 -> 0.0075 | L7: TL | M7: Kaffeelöffel
A8: =ROUND(SUM(J8*$F$2),2) -> 0.7 | B8: Kg | C8: Rippli, am Stück, nicht gekocht | F8: =SUM(E8*A8) -> 0 | I8: 1.4 | J8: =I8/$I$2 -> 0.175 | L8: Bund | M8: 1
A9: =ROUND(SUM(J9*$F$2),2) -> 1 | B9: Rolle | C9: Blätterteig, rechteckig ausgewallt | F9: =SUM(E9*A9) -> 0 | I9: 2 | J9: =I9/$I$2 -> 0.25 | L9: Stk | M9: Stück
A10: =ROUND(SUM(J10*$F$2),2) -> 0.5 | B10: Stk | C10: Eiweiss | F10: =SUM(E10*A10) -> 0 | I10: 1 | J10: =I10/$I$2 -> 0.125 | L10: Pä | M10: Päckli
A11: =ROUND(SUM(J11*$F$2),2) -> 0.5 | B11: Stk | C11: Eigelb | F11: =SUM(E11*A11) -> 0 | I11: 1 | J11: =I11/$I$2 -> 0.125 | L11: alles weitere ausschreiben
A12: =ROUND(SUM(J12*$F$2),2) -> 0.5 | B12: TL | C12: Rahm | F12: =SUM(E12*A12) -> 0 | I12: 1 | J12: =I12/$I$2 -> 0.125
A13: =ROUND(SUM(J13*$F$2),2) -> 0 | C13: Senf | F13: =SUM(E13*A13) -> 0 | J13: =I13/$I$2 -> 0
A14: =ROUND(SUM(J14*$F$2),2) -> 0 | F14: =SUM(E14*A14) -> 0 | J14: =I14/$I$2 -> 0
A15: =ROUND(SUM(J15*$F$2),2) -> 0 | F15: =SUM(E15*A15) -> 0 | J15: =I15/$I$2 -> 0
A16: =ROUND(SUM(J16*$F$2),2) -> 0 | F16: =SUM(E16*A16) -> 0 | J16: =I16/$I$2 -> 0
A17: =ROUND(SUM(J17*$F$2),2) -> 0 | F17: =SUM(E17*A17) -> 0 | J17: =I17/$I$2 -> 0
A18: =ROUND(SUM(J18*$F$2),2) -> 0 | F18: =SUM(E18*A18) -> 0 | J18: =I18/$I$2 -> 0
A19: =ROUND(SUM(J19*$F$2),2) -> 0 | F19: =SUM(E19*A19) -> 0 | J19: =I19/$I$2 -> 0
A20: =ROUND(SUM(J20*$F$2),2) -> 0 | F20: =SUM(E20*A20) -> 0 | J20: =I20/$I$2 -> 0
A21: Zubereitung
A22: 1. Den Backofen auf 230 Grad vorheizen.
A23: 2. Die Äpfel ungeschält vierteln, das Kerngehäuse entfernen und die Früchte in Schnitze schneiden.
A24: 3. Wasser, Wein sowie Zucker in einer grossen, weiten Pfanne aufkochen. Die Apfelschnitze darin in 2 Portionen während 3–5 Minuten knapp weich kochen. Mit einer Schaumkelle herausheben, in eine Schüssel geben und mit etwas Sud beträufeln. Die restliche Flüssigkeit aufbewahren.
A25: 4. Das Rippli in eine Gratinform legen und im 230 Grad heissen Ofen auf der untersten Rille 30 Minuten backen. Von Zeit zu Zeit mit etwas beiseitegestelltem Apfelsud übergiessen. Dann das Fleisch herausnehmen und vollständig auskühlen lassen.
A26: 5. Die erste Rolle Blätterteig auf einem mit Backpapier belegten Blech auslegen. Gut 1/2 der Apfelschnitze in einem Sieb abtropfen lassen. Dann einen Teil der Apfelschnitze in der Grösse des Ripplis auf dem Teig auslegen. Das Fleisch daraufgeben und mit Apfelscheiben decken. Die Teigränder auf eine Breite von etwa 6 cm zurückschneiden und mit Eiweiss bestreichen. Das zweite Teigrechteck sorgfältig über das Rippli legen, die Ränder satt am Rippli andrücken, dann auf 6 cm zurückschneiden und gegen innen aufrollen. Mit einer Gabel festdrücken. Nach Belieben die Pastete mit Teigresten verzieren.
A27: 6. Eigelb und Rahm verrühren und die Rippli-Pastete damit bestreichen.
A28: 7. Das Rippli im auf 200 Grad vorgeheizten Ofen auf der untersten Rille etwa 40 Minuten backen.
A29: 8. Die restlichen Apfelschnitze unmittelbar vor dem Essen leicht erwärmen und separat zum Rippli servieren. Dazu wird nach Belieben ein Senf gereicht.

Sheet Beilage1
E1: Chochete vom | F1: =SUM(Menu!B3) -> 41956 | I1: Original Rezept
A2: =Menu!B12 -> Buntes Wintergemüse | E2: Rezept für | F2: 4 | I2: 16 | J2: Personen | L2: Menu Angaben wie folgt machen:
A3: Menge | B3: Einheit | C3: Artikel (Gewicht alles ca. Angaben) | D3: Bemerkungen | E3: Einkaufspreis | F3: Betrag | I3: Originalrezept | J3: pro Person
A4: =ROUND(SUM(J4*$F$2),2) -> 0.75 | B4: Stk | C4: gelbe Randen, gekocht | F4: =SUM(E4*A4) -> 0 | I4: 3 | J4: =I4/$I$2 -> 0.1875 | L4: Kg | M4: 0.25
A5: =ROUND(SUM(J5*$F$2),2) -> 0.75 | B5: Stk | C5: rote Randen, gekocht | F5: =SUM(E5*A5) -> 0 | I5: 3 | J5: =I5/$I$2 -> 0.1875 | L5: Lt | M5: 1.25
A6: =ROUND(SUM(J6*$F$2),2) -> 0.13 | B6: Kg | C6: Stachys | F6: =SUM(E6*A6) -> 0 | I6: 0.5 | J6: =I6/$I$2 -> 0.03125 | L6: EL | M6: Esslöffel
A7: =ROUND(SUM(J7*$F$2),2) -> 0.25 | B7: Bund | C7: Palmkohl oder Federkohl | F7: =SUM(E7*A7) -> 0 | I7: 1 | J7: =I7/$I$2 -> 0.0625 | L7: TL | M7: Kaffeelöffel
A8: =ROUND(SUM(J8*$F$2),2) -> 0.5 | B8: El | C8: Haselnussöl | F8: =SUM(E8*A8) -> 0 | I8: 2 | J8: =I8/$I$2 -> 0.125 | L8: Bund | M8: 1
A9: =ROUND(SUM(J9*$F$2),2) -> 0.04 | B9: Kg | C9: geschälte Haselnüsse | F9: =SUM(E9*A9) -> 0 | I9: 0.15 | J9: =I9/$I$2 -> 0.009375 | L9: Stk | M9: Stück
A10: =ROUND(SUM(J10*$F$2),2) -> 0 | C10: Fleur de sel, Olivenöl | F10: =SUM(E10*A10) -> 0 | J10: =I10/$I$2 -> 0 | L10: Pä | M10: Päckli
A11: =ROUND(SUM(J11*$F$2),2) -> 0 | C11: schwarzer Pfeffer | F11: =SUM(E11*A11) -> 0 | J11: =I11/$I$2 -> 0 | L11: alles weitere ausschreiben
A12: =ROUND(SUM(J12*$F$2),2) -> 0 | F12: =SUM(E12*A12) -> 0 | J12: =I12/$I$2 -> 0
A13: =ROUND(SUM(J13*$F$2),2) -> 0 | F13: =SUM(E13*A13) -> 0 | J13: =I13/$I$2 -> 0
A14: =ROUND(SUM(J14*$F$2),2) -> 0 | F14: =SUM(E14*A14) -> 0 | J14: =I14/$I$2 -> 0
A15: =ROUND(SUM(J15*$F$2),2) -> 0 | F15: =SUM(E15*A15) -> 0 | J15: =I15/$I$2 -> 0
A16: =ROUND(SUM(J16*$F$2),2) -> 0 | F16: =SUM(E16*A16) -> 0 | J16: =I16/$I$2 -> 0
A17: Zubereitung
A18: Randen schälen und in 1cm grosse Würfel schneiden.
A19: Haselnüsse grob hacken.
A20: Stachys putzen, mit wenig Olivenöl mischen, mit Fleur de sel und schwarzem Pfeffer bestreuen. Im vorgeheizten Ofen auf einem mit Backpapier belegten Blech bei 2000 C einige Minuten backen, bis sie al dente sind.
A21: Die Palmkohlblätter von den Stielen ziehen und in kleine Stücke zerrupfen. Kurz in siedendem Salzwasser blanchieren, abtropfen lassen.
A22: Randenwürfel, Palmkohl, Stachys, die Haselnüsse und Haselnussöl mischen und im Wok rührbraten. Sofort servieren.

Sheet Dessert
E1: Chochete vom | F1: =SUM(Menu!B3) -> 41956 | I1: Original Rezept
A2: =Menu!B15 -> Persische Quittenschnitze | E2: Rezept für | F2: 4 | I2: 5 | J2: Personen | L2: Menu Angaben wie folgt machen:
A3: Menge | B3: Einheit | C3: Artikel (Gewicht alles ca. Angaben) | D3: Bemerkungen | E3: Einkaufspreis | F3: Betrag | I3: Originalrezept | J3: pro Person
A4: =ROUND(SUM(J4*$F$2),2) -> 0.4 | B4: Kg | C4: Quitten, nicht zu gross, ev. türkische nehmen | F4: =SUM(E4*A4) -> 0 | I4: 0.5 | J4: =I4/$I$2 -> 0.1 | L4: Kg | M4: 0.25
A5: =ROUND(SUM(J5*$F$2),2) -> 0.2 | B5: Lt | C5: Weisswein | F5: =SUM(E5*A5) -> 0 | I5: 0.25 | J5: =I5/$I$2 -> 0.05 | L5: Lt | M5: 1.25
A6: =ROUND(SUM(J6*$F$2),2) -> 0.08 | B6: Lt | C6: Wasser | F6: =SUM(E6*A6) -> 0 | I6: 0.1 | J6: =I6/$I$2 -> 0.02 | L6: EL | M6: Esslöffel
A7: =ROUND(SUM(J7*$F$2),2) -> 0.08 | B7: Kg | C7: Honig, flüssig | F7: =SUM(E7*A7) -> 0 | I7: 0.1 | J7: =I7/$I$2 -> 0.02 | L7: KL | M7: Kaffeelöffel
A8: =ROUND(SUM(J8*$F$2),2) -> 0.8 | B8: Stk | C8: Orange | F8: =SUM(E8*A8) -> 0 | I8: 1 | J8: =I8/$I$2 -> 0.2 | L8: Bund | M8: 1
A9: =ROUND(SUM(J9*$F$2),2) -> 0.8 | B9: Stk | C9: Zitrone | F9: =SUM(E9*A9) -> 0 | I9: 1 | J9: =I9/$I$2 -> 0.2 | L9: Stk | M9: Stück
A10: =ROUND(SUM(J10*$F$2),2) -> 0.16 | B10: Lt | C10: Rahm | F10: =SUM(E10*A10) -> 0 | I10: 0.2 | J10: =I10/$I$2 -> 0.04 | L10: Pä | M10: Päckli
A11: =ROUND(SUM(J11*$F$2),2) -> 0 | C11: Zimtpulver | F11: =SUM(E11*A11) -> 0 | J11: =I11/$I$2 -> 0 | L11: alles weitere ausschreiben
A12: =ROUND(SUM(J12*$F$2),2) -> 0 | F12: =SUM(E12*A12) -> 0 | J12: =I12/$I$2 -> 0
A13: =ROUND(SUM(J13*$F$2),2) -> 0 | F13: =SUM(E13*A13) -> 0 | J13: =I13/$I$2 -> 0
A14: =ROUND(SUM(J14*$F$2),2) -> 0 | F14: =SUM(E14*A14) -> 0 | J14: =I14/$I$2 -> 0
A15: =ROUND(SUM(J15*$F$2),2) -> 0 | F15: =SUM(E15*A15) -> 0 | J15: =I15/$I$2 -> 0
A16: =ROUND(SUM(J16*$F$2),2) -> 0 | F16: =SUM(E16*A16) -> 0 | J16: =I16/$I$2 -> 0
A17: =ROUND(SUM(J17*$F$2),2) -> 0 | F17: =SUM(E17*A17) -> 0 | J17: =I17/$I$2 -> 0
A18: =ROUND(SUM(J18*$F$2),2) -> 0 | F18: =SUM(E18*A18) -> 0 | J18: =I18/$I$2 -> 0
A19: =ROUND(SUM(J19*$F$2),2) -> 0 | F19: =SUM(E19*A19) -> 0 | J19: =I19/$I$2 -> 0
A20: =ROUND(SUM(J20*$F$2),2) -> 0 | F20: =SUM(E20*A20) -> 0 | J20: =I20/$I$2 -> 0
A21: Zubereitung
A22: 1. Die Quitten mit einem Tuch abreiben, schälen, vierteln, das Kerngehäuse entfernen und die Früchte in ca. 1/2cm dicke Schnitze schneiden.
A23: 2. je die Hälfte der Orangen- und Zitronenschale in Pfanne abreiben, beide Früchte auspressen und Saft beifügen.
A24: 3. Die Schnitze mit Weisswein, Zucker, Honig in eine Pfanne geben, aufkochen und zugedeckt auf kleinem Feuer weich garen.
A25: 4. Rahm steif schlagen, mit Zimtpulver verfeinern
A26: 5. Quittenschnitze warm anrichten, etwas Rahm hinzufügen - servieren.

Sheet Einkaufsliste
A1: Hobby-Küche Zug | C1: Einkaufsliste | D1: =Dessert!F1 -> 41956 | E1: ok
A2: Menge | B2: Einheit | C2: Artikel
A3: =Vorspeise!A2 -> Marroni-Trauben-Salat mit geräucherter Entenbrust | D3: Bemerkungen
A4: =SUM(Vorspeise!A4) -> 0.2 | B4: =Vorspeise!B4 -> Kg | C4: =Vorspeise!C4 -> Marroni, tiefgekühlt | D4: =SUM(Vorspeise!D4) -> 0
A5: =SUM(Vorspeise!A5) -> 1 | B5: =Vorspeise!B5 -> TL | C5: =Vorspeise!C5 -> Zitronensaft | D5: =SUM(Vorspeise!D5) -> 0
A6: =SUM(Vorspeise!A6) -> 0.2 | B6: =Vorspeise!B6 -> Kg | C6: =Vorspeise!C6 -> weisse Trauben | D6: =SUM(Vorspeise!D6) -> 0
A7: =SUM(Vorspeise!A7) -> 1 | B7: =Vorspeise!B7 -> Stk | C7: =Vorspeise!C7 -> Feige, getrocknet | D7: =SUM(Vorspeise!D7) -> 0
A8: =SUM(Vorspeise!A8) -> 0.08 | B8: =Vorspeise!B8 -> Kg | C8: =Vorspeise!C8 -> Bergkäse oder Gruyère AOP | D8: =SUM(Vorspeise!D8) -> 0
A9: =SUM(Vorspeise!A9) -> 0.08 | B9: =Vorspeise!B9 -> Kg | C9: =Vorspeise!C9 -> Nüsslisalat | D9: =SUM(Vorspeise!D9) -> 0
A10: =SUM(Vorspeise!A10) -> 0 | B10: =Vorspeise!B10 -> 0 | C10: =Vorspeise!C10 -> eine Prise Salz | D10: =SUM(Vorspeise!D10) -> 0
A11: =SUM(Vorspeise!A11) -> 0 | C11: =Vorspeise!C11 -> Sauce | D11: =SUM(Vorspeise!D11) -> 0
A12: =SUM(Vorspeise!A12) -> 1 | B12: =Vorspeise!B12 -> Stk | C12: =Vorspeise!C12 -> Schalotte, klein | D12: =SUM(Vorspeise!D12) -> 0
A13: =SUM(Vorspeise!A13) -> 2 | B13: =Vorspeise!B13 -> TL | C13: =Vorspeise!C13 -> Zucker | D13: =SUM(Vorspeise!D13) -> 0
A14: =SUM(Vorspeise!A14) -> 1 | B14: =Vorspeise!B14 -> TL | C14: =Vorspeise!C14 -> Butter | D14: =SUM(Vorspeise!D14) -> 0
A15: =SUM(Vorspeise!A15) -> 0.1 | B15: =Vorspeise!B15 -> Lt | C15: =Vorspeise!C15 -> Gemüsebouillon | D15: =SUM(Vorspeise!D15) -> 0
A16: =SUM(Vorspeise!A16) -> 2 | B16: =Vorspeise!B16 -> EL | C16: =Vorspeise!C16 -> Marsala oder roter Portwein | D16: =SUM(Vorspeise!D16) -> 0
A17: =SUM(Vorspeise!A17) -> 1.5 | B17: =Vorspeise!B17 -> El | C17: =Vorspeise!C17 -> Senf | D17: =SUM(Vorspeise!D17) -> 0
A18: =SUM(Vorspeise!A18) -> 6 | B18: =Vorspeise!B18 -> EL | C18: =Vorspeise!C18 -> Weissweinessig | D18: =SUM(Vorspeise!D18) -> 0
A19: =SUM(Vorspeise!A21) -> 0 | B19: =Vorspeise!B21 -> 0 | C19: =Vorspeise!C21 -> Salz, reichlich schwarzer Pfeffer | D19: =SUM(Vorspeise!D21) -> 0
A20: =SUM(Vorspeise!A23) -> 0.15 | B20: =Vorspeise!B23 -> Kg | C20: =Vorspeise!C23 -> Entenbrust, geräuchert, fein aufgeschnitten | D20: =SUM(Vorspeise!D23) -> 0
A21: =Suppe!A2 -> Pastinakensuppe mit Lauch-Julienne | D21: Bemerkungen
A22: =SUM(Suppe!A4) -> 1 | B22: =Suppe!B4 -> EL | C22: =Suppe!C4 -> Butter | D22: =SUM(Suppe!D4) -> 0
A23: =SUM(Suppe!A5) -> 1 | B23: =Suppe!B5 -> Stk | C23: =Suppe!C5 -> Lauch | D23: =SUM(Suppe!D5) -> 0
A24: =SUM(Suppe!A6) -> 1 | B24: =Suppe!B6 -> Stk | C24: =Suppe!C6 -> Knoblauchzehe | D24: =SUM(Suppe!D6) -> 0
A25: =SUM(Suppe!A7) -> 2 | B25: =Suppe!B7 -> Stk | C25: =Suppe!C7 -> mittelgrosse Pastinaken | D25: =SUM(Suppe!D7) -> 0
A26: =SUM(Suppe!A8) -> 0.5 | B26: =Suppe!B8 -> EL | C26: =Suppe!C8 -> Mehl | D26: =SUM(Suppe!D8) -> 0
A27: =SUM(Suppe!A9) -> 0.9 | B27: =Suppe!B9 -> Lt | C27: =Suppe!C9 -> Hühnerbouillon | D27: =SUM(Suppe!D9) -> 0
A28: =SUM(Suppe!A10) -> 0.1 | B28: =Suppe!B10 -> Lt | C28: =Suppe!C10 -> Rahm | D28: =SUM(Suppe!D10) -> 0
A29: =SUM(Suppe!A11) -> 1 | B29: =Suppe!B11 -> EL | C29: =Suppe!C11 -> Oel | D29: =SUM(Suppe!D11) -> 0
A30: =SUM(Suppe!A12) -> 1 | B30: =Suppe!B12 -> 0 | C30: =Suppe!C12 -> je Messerspitze Kreuzkümmel, Koriander, Kurkuma, Cayennepfeffer | D30: =SUM(Suppe!D12) -> 0
A31: =SUM(Suppe!A13) -> 0 | B31: =Suppe!B13 -> 0 | C31: =Suppe!C13 -> Salz, Pfeffer nach Bedarf | D31: =SUM(Suppe!D13) -> 0
A32: =Hauptgang!A2 -> Rippli im Blätterteig | D32: Bemerkungen
A33: =SUM(Hauptgang!A4) -> 0.5 | B33: =Hauptgang!B4 -> Kg | C33: =Hauptgang!C4 -> Aepfel, rotschalig | D33: =SUM(Hauptgang!D4) -> 0
A34: =SUM(Hauptgang!A5) -> 0.25 | B34: =Hauptgang!B5 -> Lt | C34: =Hauptgang!C5 -> Wasser | D34: =SUM(Hauptgang!D5) -> 0
A35: =SUM(Hauptgang!A6) -> 0.15 | B35: =Hauptgang!B6 -> Lt | C35: =Hauptgang!C6 -> Weisswein | D35: =SUM(Hauptgang!D6) -> 0
A36: =SUM(Hauptgang!A7) -> 0.03 | B36: =Hauptgang!B7 -> Kg | C36: =Hauptgang!C7 -> Zucker | D36: =SUM(Hauptgang!D7) -> 0
A37: =SUM(Hauptgang!A8) -> 0.7 | B37: =Hauptgang!B8 -> Kg | C37: =Hauptgang!C8 -> Rippli, am Stück, nicht gekocht | D37: =SUM(Hauptgang!D8) -> 0
A38: =SUM(Hauptgang!A9) -> 1 | B38: =Hauptgang!B9 -> Rolle | C38: =Hauptgang!C9 -> Blätterteig, rechteckig ausgewallt | D38: =SUM(Hauptgang!D9) -> 0
A39: =SUM(Hauptgang!A10) -> 0.5 | B39: =Hauptgang!B10 -> Stk | C39: =Hauptgang!C10 -> Eiweiss | D39: =SUM(Hauptgang!D10) -> 0
A40: =SUM(Hauptgang!A11) -> 0.5 | B40: =Hauptgang!B11 -> Stk | C40: =Hauptgang!C11 -> Eigelb | D40: =SUM(Hauptgang!D11) -> 0
...
